	BEGIN:VCALENDAR
VERSION:2.0
PRODID:-//Complex Muzeal Național „Moldova” Iași - ECPv6.0.12//NONSGML v1.0//EN
CALSCALE:GREGORIAN
METHOD:PUBLISH
X-ORIGINAL-URL:https://palatulculturii.ro
X-WR-CALDESC:Events for Complex Muzeal Național „Moldova” Iași
REFRESH-INTERVAL;VALUE=DURATION:PT1H
X-Robots-Tag:noindex
X-PUBLISHED-TTL:PT1H
BEGIN:VTIMEZONE
TZID:Europe/Bucharest
BEGIN:DAYLIGHT
TZOFFSETFROM:+0200
TZOFFSETTO:+0300
TZNAME:EEST
DTSTART:20260329T010000
END:DAYLIGHT
BEGIN:STANDARD
TZOFFSETFROM:+0300
TZOFFSETTO:+0200
TZNAME:EET
DTSTART:20261025T010000
END:STANDARD
END:VTIMEZONE
BEGIN:VEVENT
DTSTART;VALUE=DATE:20260201
DTEND;VALUE=DATE:20260301
DTSTAMP:20260420T160247
CREATED:20260203T135626Z
LAST-MODIFIED:20260203T135903Z
UID:38586-1769904000-1772323199@palatulculturii.ro
SUMMARY:Evenimentele lunii februarie la Palat
DESCRIPTION:Complexul Muzeal Național „Moldova” Iași\, în parteneriat cu „Teleradio Moldova” – Republica Moldova\, invită publicul la un eveniment muzical special: „O seară la Palat”.Evenimentul va avea loc vineri\, 17 aprilie 2026\, de la ora 19.00\, în Sala Voievozilor de la Palatul Culturii. Sub bagheta dirijorului Andrei Zapșa\, Orchestra Simfonică Națională a Companiei „Teleradio-Moldova” va interpreta lucrări semnate de J.S. Bach\, W.A. Mozart\, G. Enescu\, G.F. Handel\, E. Grieg\, G. Bizet\, Gh. Mustea\, M. Skoryk și alți mari compozitori\, într-un program artistic de mare rafinament. „Invităm publicul să se bucure de întâlnirea cu prestigioșii artiști din Republica Moldova și de această seară de excepție\, dedicată muzicii și dialogului cultural”\, afirmă Andrei Apreotesei\, manager Palatul Culturii – Complexul Muzeal Național „Moldova” Iași. La acest eveniment\, intrarea este liberă\, în limita locurilor disponibile.
URL:https://palatulculturii.ro/eveniment/evenimentele-lunii-februarie-la-palat/
LOCATION:Palatul Culturii Iași – Complexul Muzeal Național „Moldova” Iași
CATEGORIES:Palatul Culturii
ATTACH;FMTTYPE=image/jpeg:https://palatulculturii.ro/wp-content/uploads/2026/02/PROGRAM-februarie_afis-web.jpg
END:VEVENT
BEGIN:VEVENT
DTSTART;VALUE=DATE:20260204
DTEND;VALUE=DATE:20260207
DTSTAMP:20260420T160247
CREATED:20260204T111619Z
LAST-MODIFIED:20260204T111635Z
UID:38600-1770163200-1770422399@palatulculturii.ro
SUMMARY:Întâlnire transnațională și activitate de învățare în cadrul Proiectului Erasmus Plus „ONE Culture - Overcoming Nationalism and Euroscepticism through Culture”
DESCRIPTION:Complexul Muzeal Național „Moldova” Iași\, în parteneriat cu „Teleradio Moldova” – Republica Moldova\, invită publicul la un eveniment muzical special: „O seară la Palat”.Evenimentul va avea loc vineri\, 17 aprilie 2026\, de la ora 19.00\, în Sala Voievozilor de la Palatul Culturii. Sub bagheta dirijorului Andrei Zapșa\, Orchestra Simfonică Națională a Companiei „Teleradio-Moldova” va interpreta lucrări semnate de J.S. Bach\, W.A. Mozart\, G. Enescu\, G.F. Handel\, E. Grieg\, G. Bizet\, Gh. Mustea\, M. Skoryk și alți mari compozitori\, într-un program artistic de mare rafinament. „Invităm publicul să se bucure de întâlnirea cu prestigioșii artiști din Republica Moldova și de această seară de excepție\, dedicată muzicii și dialogului cultural”\, afirmă Andrei Apreotesei\, manager Palatul Culturii – Complexul Muzeal Național „Moldova” Iași. La acest eveniment\, intrarea este liberă\, în limita locurilor disponibile.
URL:https://palatulculturii.ro/eveniment/intalnire-transnationala-si-activitate-de-invatare-in-cadrul-proiectului-erasmus-plus-one-culture-overcoming-nationalism-and-euroscepticism-through-culture/
CATEGORIES:Noutăți,Palatul Culturii
ATTACH;FMTTYPE=image/jpeg:https://palatulculturii.ro/wp-content/uploads/2026/02/Proiect-One-Culture_Palatul-Culturii.jpg
END:VEVENT
BEGIN:VEVENT
DTSTART;TZID=Europe/Bucharest:20260210T183000
DTEND;TZID=Europe/Bucharest:20260210T200000
DTSTAMP:20260420T160247
CREATED:20260202T103724Z
LAST-MODIFIED:20260202T104943Z
UID:38562-1770748200-1770753600@palatulculturii.ro
SUMMARY:Concert la Palat: „Vals și tango - dialogul inimilor”
DESCRIPTION:Complexul Muzeal Național „Moldova” Iași\, în parteneriat cu „Teleradio Moldova” – Republica Moldova\, invită publicul la un eveniment muzical special: „O seară la Palat”.Evenimentul va avea loc vineri\, 17 aprilie 2026\, de la ora 19.00\, în Sala Voievozilor de la Palatul Culturii. Sub bagheta dirijorului Andrei Zapșa\, Orchestra Simfonică Națională a Companiei „Teleradio-Moldova” va interpreta lucrări semnate de J.S. Bach\, W.A. Mozart\, G. Enescu\, G.F. Handel\, E. Grieg\, G. Bizet\, Gh. Mustea\, M. Skoryk și alți mari compozitori\, într-un program artistic de mare rafinament. „Invităm publicul să se bucure de întâlnirea cu prestigioșii artiști din Republica Moldova și de această seară de excepție\, dedicată muzicii și dialogului cultural”\, afirmă Andrei Apreotesei\, manager Palatul Culturii – Complexul Muzeal Național „Moldova” Iași. La acest eveniment\, intrarea este liberă\, în limita locurilor disponibile.
URL:https://palatulculturii.ro/eveniment/concert-la-palat-vals-si-tango-dialogul-inimilor/
LOCATION:Holul de Onoare – Palatul Culturii din Iași
CATEGORIES:Palatul Culturii
ATTACH;FMTTYPE=image/jpeg:https://palatulculturii.ro/wp-content/uploads/2026/02/Concert-la-Palat_Opera.jpeg
END:VEVENT
BEGIN:VEVENT
DTSTART;TZID=Europe/Bucharest:20260215T110000
DTEND;TZID=Europe/Bucharest:20260215T130000
DTSTAMP:20260420T160247
CREATED:20260203T104757Z
LAST-MODIFIED:20260203T104757Z
UID:38582-1771153200-1771160400@palatulculturii.ro
SUMMARY:„Despre IUBIRE”\, ediția a VIII-a\, la Muzeul Memorial „Mihail Kogălniceanu”
DESCRIPTION:Complexul Muzeal Național „Moldova” Iași\, în parteneriat cu „Teleradio Moldova” – Republica Moldova\, invită publicul la un eveniment muzical special: „O seară la Palat”.Evenimentul va avea loc vineri\, 17 aprilie 2026\, de la ora 19.00\, în Sala Voievozilor de la Palatul Culturii. Sub bagheta dirijorului Andrei Zapșa\, Orchestra Simfonică Națională a Companiei „Teleradio-Moldova” va interpreta lucrări semnate de J.S. Bach\, W.A. Mozart\, G. Enescu\, G.F. Handel\, E. Grieg\, G. Bizet\, Gh. Mustea\, M. Skoryk și alți mari compozitori\, într-un program artistic de mare rafinament. „Invităm publicul să se bucure de întâlnirea cu prestigioșii artiști din Republica Moldova și de această seară de excepție\, dedicată muzicii și dialogului cultural”\, afirmă Andrei Apreotesei\, manager Palatul Culturii – Complexul Muzeal Național „Moldova” Iași. La acest eveniment\, intrarea este liberă\, în limita locurilor disponibile.
URL:https://palatulculturii.ro/eveniment/despre-iubire-editia-a-viii-a-la-muzeul-memorial-mihail-kogalniceanu/
CATEGORIES:Muzeul Memorial „Mihail Kogălniceanu”
ATTACH;FMTTYPE=image/jpeg:https://palatulculturii.ro/wp-content/uploads/2026/02/ROR-KOG.jpg
END:VEVENT
BEGIN:VEVENT
DTSTART;TZID=Europe/Bucharest:20260216T180000
DTEND;TZID=Europe/Bucharest:20260216T193000
DTSTAMP:20260420T160247
CREATED:20260205T073742Z
LAST-MODIFIED:20260216T075613Z
UID:38697-1771264800-1771270200@palatulculturii.ro
SUMMARY:Recital de pian: RETO REICHENBACH\, Elveția
DESCRIPTION:Complexul Muzeal Național „Moldova” Iași\, în parteneriat cu „Teleradio Moldova” – Republica Moldova\, invită publicul la un eveniment muzical special: „O seară la Palat”.Evenimentul va avea loc vineri\, 17 aprilie 2026\, de la ora 19.00\, în Sala Voievozilor de la Palatul Culturii. Sub bagheta dirijorului Andrei Zapșa\, Orchestra Simfonică Națională a Companiei „Teleradio-Moldova” va interpreta lucrări semnate de J.S. Bach\, W.A. Mozart\, G. Enescu\, G.F. Handel\, E. Grieg\, G. Bizet\, Gh. Mustea\, M. Skoryk și alți mari compozitori\, într-un program artistic de mare rafinament. „Invităm publicul să se bucure de întâlnirea cu prestigioșii artiști din Republica Moldova și de această seară de excepție\, dedicată muzicii și dialogului cultural”\, afirmă Andrei Apreotesei\, manager Palatul Culturii – Complexul Muzeal Național „Moldova” Iași. La acest eveniment\, intrarea este liberă\, în limita locurilor disponibile.
URL:https://palatulculturii.ro/eveniment/recital-de-pian-reto-reichenbach-elvetia/
CATEGORIES:Palatul Culturii
ATTACH;FMTTYPE=image/jpeg:https://palatulculturii.ro/wp-content/uploads/2026/02/afis-reto-2026-scaled.jpg
END:VEVENT
BEGIN:VEVENT
DTSTART;TZID=Europe/Bucharest:20260217T190000
DTEND;TZID=Europe/Bucharest:20260217T200000
DTSTAMP:20260420T160247
CREATED:20260128T124017Z
LAST-MODIFIED:20260217T102957Z
UID:38500-1771354800-1771358400@palatulculturii.ro
SUMMARY:Concert la Palat: „Une Vie d’Amour – duete celebre ale iubirii”
DESCRIPTION:Complexul Muzeal Național „Moldova” Iași\, în parteneriat cu „Teleradio Moldova” – Republica Moldova\, invită publicul la un eveniment muzical special: „O seară la Palat”.Evenimentul va avea loc vineri\, 17 aprilie 2026\, de la ora 19.00\, în Sala Voievozilor de la Palatul Culturii. Sub bagheta dirijorului Andrei Zapșa\, Orchestra Simfonică Națională a Companiei „Teleradio-Moldova” va interpreta lucrări semnate de J.S. Bach\, W.A. Mozart\, G. Enescu\, G.F. Handel\, E. Grieg\, G. Bizet\, Gh. Mustea\, M. Skoryk și alți mari compozitori\, într-un program artistic de mare rafinament. „Invităm publicul să se bucure de întâlnirea cu prestigioșii artiști din Republica Moldova și de această seară de excepție\, dedicată muzicii și dialogului cultural”\, afirmă Andrei Apreotesei\, manager Palatul Culturii – Complexul Muzeal Național „Moldova” Iași. La acest eveniment\, intrarea este liberă\, în limita locurilor disponibile.
URL:https://palatulculturii.ro/eveniment/concert-la-palat-une-vie-damour-duete-celebre-ale-iubirii/
LOCATION:Holul de Onoare – Palatul Culturii din Iași
CATEGORIES:Palatul Culturii
ATTACH;FMTTYPE=image/jpeg:https://palatulculturii.ro/wp-content/uploads/2026/01/Concert-la-Palat-17-febr.jpeg
END:VEVENT
BEGIN:VEVENT
DTSTART;VALUE=DATE:20260219
DTEND;VALUE=DATE:20260320
DTSTAMP:20260420T160247
CREATED:20260217T123222Z
LAST-MODIFIED:20260302T073445Z
UID:38723-1771459200-1773964799@palatulculturii.ro
SUMMARY:Luna Sculptorilor Români (VI) – evenimente expoziționale la Palatul Culturii și Muzeul Unirii
DESCRIPTION:Complexul Muzeal Național „Moldova” Iași\, în parteneriat cu „Teleradio Moldova” – Republica Moldova\, invită publicul la un eveniment muzical special: „O seară la Palat”.Evenimentul va avea loc vineri\, 17 aprilie 2026\, de la ora 19.00\, în Sala Voievozilor de la Palatul Culturii. Sub bagheta dirijorului Andrei Zapșa\, Orchestra Simfonică Națională a Companiei „Teleradio-Moldova” va interpreta lucrări semnate de J.S. Bach\, W.A. Mozart\, G. Enescu\, G.F. Handel\, E. Grieg\, G. Bizet\, Gh. Mustea\, M. Skoryk și alți mari compozitori\, într-un program artistic de mare rafinament. „Invităm publicul să se bucure de întâlnirea cu prestigioșii artiști din Republica Moldova și de această seară de excepție\, dedicată muzicii și dialogului cultural”\, afirmă Andrei Apreotesei\, manager Palatul Culturii – Complexul Muzeal Național „Moldova” Iași. La acest eveniment\, intrarea este liberă\, în limita locurilor disponibile.
URL:https://palatulculturii.ro/eveniment/luna-sculptorilor-romani-vi-evenimente-expozitionale-la-palatul-culturii-si-muzeul-unirii/
CATEGORIES:Muzeul de Artă,Muzeul Etnografic al Moldovei,Noutăți,Palatul Culturii
ATTACH;FMTTYPE=image/jpeg:https://palatulculturii.ro/wp-content/uploads/2026/02/LSR-2026-Mircea-Cantor-19-febr_Etnografie.jpeg
END:VEVENT
BEGIN:VEVENT
DTSTART;TZID=Europe/Bucharest:20260224T190000
DTEND;TZID=Europe/Bucharest:20260224T200000
DTSTAMP:20260420T160247
CREATED:20260128T123143Z
LAST-MODIFIED:20260128T124341Z
UID:38492-1771959600-1771963200@palatulculturii.ro
SUMMARY:Concert la Palat: Turneul Național „Melodie\, Dor\, Magie”
DESCRIPTION:Complexul Muzeal Național „Moldova” Iași\, în parteneriat cu „Teleradio Moldova” – Republica Moldova\, invită publicul la un eveniment muzical special: „O seară la Palat”.Evenimentul va avea loc vineri\, 17 aprilie 2026\, de la ora 19.00\, în Sala Voievozilor de la Palatul Culturii. Sub bagheta dirijorului Andrei Zapșa\, Orchestra Simfonică Națională a Companiei „Teleradio-Moldova” va interpreta lucrări semnate de J.S. Bach\, W.A. Mozart\, G. Enescu\, G.F. Handel\, E. Grieg\, G. Bizet\, Gh. Mustea\, M. Skoryk și alți mari compozitori\, într-un program artistic de mare rafinament. „Invităm publicul să se bucure de întâlnirea cu prestigioșii artiști din Republica Moldova și de această seară de excepție\, dedicată muzicii și dialogului cultural”\, afirmă Andrei Apreotesei\, manager Palatul Culturii – Complexul Muzeal Național „Moldova” Iași. La acest eveniment\, intrarea este liberă\, în limita locurilor disponibile.
URL:https://palatulculturii.ro/eveniment/concert-la-palat-turneul-national-melodie-dor-magie/
LOCATION:Holul de Onoare – Palatul Culturii din Iași
ATTACH;FMTTYPE=image/jpeg:https://palatulculturii.ro/wp-content/uploads/2026/01/Concert-la-Palat-24-febr.jpeg
END:VEVENT
BEGIN:VEVENT
DTSTART;TZID=Europe/Bucharest:20260225T173000
DTEND;TZID=Europe/Bucharest:20260225T190000
DTSTAMP:20260420T160247
CREATED:20260224T122106Z
LAST-MODIFIED:20260226T084744Z
UID:38914-1772040600-1772046000@palatulculturii.ro
SUMMARY:„Investiția care crește generații”. 30 de ani de impact în educație în regiunea Moldovei
DESCRIPTION:Complexul Muzeal Național „Moldova” Iași\, în parteneriat cu „Teleradio Moldova” – Republica Moldova\, invită publicul la un eveniment muzical special: „O seară la Palat”.Evenimentul va avea loc vineri\, 17 aprilie 2026\, de la ora 19.00\, în Sala Voievozilor de la Palatul Culturii. Sub bagheta dirijorului Andrei Zapșa\, Orchestra Simfonică Națională a Companiei „Teleradio-Moldova” va interpreta lucrări semnate de J.S. Bach\, W.A. Mozart\, G. Enescu\, G.F. Handel\, E. Grieg\, G. Bizet\, Gh. Mustea\, M. Skoryk și alți mari compozitori\, într-un program artistic de mare rafinament. „Invităm publicul să se bucure de întâlnirea cu prestigioșii artiști din Republica Moldova și de această seară de excepție\, dedicată muzicii și dialogului cultural”\, afirmă Andrei Apreotesei\, manager Palatul Culturii – Complexul Muzeal Național „Moldova” Iași. La acest eveniment\, intrarea este liberă\, în limita locurilor disponibile.
URL:https://palatulculturii.ro/eveniment/investitia-care-creste-generatii-30-de-ani-de-impact-in-educatie-in-regiunea-moldovei/
CATEGORIES:Palatul Culturii
ATTACH;FMTTYPE=image/jpeg:https://palatulculturii.ro/wp-content/uploads/2026/02/Panou-eveniment_62x86-01.jpg
END:VEVENT
BEGIN:VEVENT
DTSTART;TZID=Europe/Bucharest:20260227T100000
DTEND;TZID=Europe/Bucharest:20260227T110000
DTSTAMP:20260420T160247
CREATED:20260119T141530Z
LAST-MODIFIED:20260204T081629Z
UID:38364-1772186400-1772190000@palatulculturii.ro
SUMMARY:Atelier educațional „Portretul de familie - ieri și astăzi”
DESCRIPTION:Complexul Muzeal Național „Moldova” Iași\, în parteneriat cu „Teleradio Moldova” – Republica Moldova\, invită publicul la un eveniment muzical special: „O seară la Palat”.Evenimentul va avea loc vineri\, 17 aprilie 2026\, de la ora 19.00\, în Sala Voievozilor de la Palatul Culturii. Sub bagheta dirijorului Andrei Zapșa\, Orchestra Simfonică Națională a Companiei „Teleradio-Moldova” va interpreta lucrări semnate de J.S. Bach\, W.A. Mozart\, G. Enescu\, G.F. Handel\, E. Grieg\, G. Bizet\, Gh. Mustea\, M. Skoryk și alți mari compozitori\, într-un program artistic de mare rafinament. „Invităm publicul să se bucure de întâlnirea cu prestigioșii artiști din Republica Moldova și de această seară de excepție\, dedicată muzicii și dialogului cultural”\, afirmă Andrei Apreotesei\, manager Palatul Culturii – Complexul Muzeal Național „Moldova” Iași. La acest eveniment\, intrarea este liberă\, în limita locurilor disponibile.
URL:https://palatulculturii.ro/eveniment/atelier-educational-portretul-de-familie-ieri-si-astazi/
CATEGORIES:Atelierele DICE,Palatul Culturii
ATTACH;FMTTYPE=image/jpeg:https://palatulculturii.ro/wp-content/uploads/2026/01/Atelier-DICE_portret-familie-1.jpeg
END:VEVENT
BEGIN:VEVENT
DTSTART;TZID=Europe/Bucharest:20260227T100000
DTEND;TZID=Europe/Bucharest:20260302T190000
DTSTAMP:20260420T160247
CREATED:20260224T094458Z
LAST-MODIFIED:20260224T122525Z
UID:38887-1772186400-1772478000@palatulculturii.ro
SUMMARY:„Mărțișor – simbol și tradiție” (ediția a XI-a)
DESCRIPTION:Complexul Muzeal Național „Moldova” Iași\, în parteneriat cu „Teleradio Moldova” – Republica Moldova\, invită publicul la un eveniment muzical special: „O seară la Palat”.Evenimentul va avea loc vineri\, 17 aprilie 2026\, de la ora 19.00\, în Sala Voievozilor de la Palatul Culturii. Sub bagheta dirijorului Andrei Zapșa\, Orchestra Simfonică Națională a Companiei „Teleradio-Moldova” va interpreta lucrări semnate de J.S. Bach\, W.A. Mozart\, G. Enescu\, G.F. Handel\, E. Grieg\, G. Bizet\, Gh. Mustea\, M. Skoryk și alți mari compozitori\, într-un program artistic de mare rafinament. „Invităm publicul să se bucure de întâlnirea cu prestigioșii artiști din Republica Moldova și de această seară de excepție\, dedicată muzicii și dialogului cultural”\, afirmă Andrei Apreotesei\, manager Palatul Culturii – Complexul Muzeal Național „Moldova” Iași. La acest eveniment\, intrarea este liberă\, în limita locurilor disponibile.
URL:https://palatulculturii.ro/eveniment/martisor-simbol-si-traditie-editia-a-xi-a-27-februarie-2-martie-2026/
LOCATION:Iași\, Bulevadrul Pietonal „Ștefan cel Mare și Sfânt” – zona de acces dinspre Palatul Culturii
CATEGORIES:Muzeul Etnografic al Moldovei
ATTACH;FMTTYPE=image/jpeg:https://palatulculturii.ro/wp-content/uploads/2026/02/Targ-martisoare_Art-2026_afis-1-scaled.jpg
END:VEVENT
END:VCALENDAR