	BEGIN:VCALENDAR
VERSION:2.0
PRODID:-//Complex Muzeal Național „Moldova” Iași - ECPv6.0.12//NONSGML v1.0//EN
CALSCALE:GREGORIAN
METHOD:PUBLISH
X-ORIGINAL-URL:https://palatulculturii.ro
X-WR-CALDESC:Events for Complex Muzeal Național „Moldova” Iași
REFRESH-INTERVAL;VALUE=DURATION:PT1H
X-Robots-Tag:noindex
X-PUBLISHED-TTL:PT1H
BEGIN:VTIMEZONE
TZID:Europe/Bucharest
BEGIN:DAYLIGHT
TZOFFSETFROM:+0200
TZOFFSETTO:+0300
TZNAME:EEST
DTSTART:20250330T010000
END:DAYLIGHT
BEGIN:STANDARD
TZOFFSETFROM:+0300
TZOFFSETTO:+0200
TZNAME:EET
DTSTART:20251026T010000
END:STANDARD
END:VTIMEZONE
BEGIN:VEVENT
DTSTART;TZID=Europe/Bucharest:20250820T100000
DTEND;TZID=Europe/Bucharest:20251003T170000
DTSTAMP:20260421T053257
CREATED:20250718T070720Z
LAST-MODIFIED:20251027T094223Z
UID:34251-1755684000-1759510800@palatulculturii.ro
SUMMARY:Atelier educativ „În oglinda arheologiei: chipul femeii de la mamă la zeiță”
DESCRIPTION:Complexul Muzeal Național „Moldova” Iași\, în parteneriat cu „Teleradio Moldova” – Republica Moldova\, invită publicul la un eveniment muzical special: „O seară la Palat”.Evenimentul va avea loc vineri\, 17 aprilie 2026\, de la ora 19.00\, în Sala Voievozilor de la Palatul Culturii. Sub bagheta dirijorului Andrei Zapșa\, Orchestra Simfonică Națională a Companiei „Teleradio-Moldova” va interpreta lucrări semnate de J.S. Bach\, W.A. Mozart\, G. Enescu\, G.F. Handel\, E. Grieg\, G. Bizet\, Gh. Mustea\, M. Skoryk și alți mari compozitori\, într-un program artistic de mare rafinament. „Invităm publicul să se bucure de întâlnirea cu prestigioșii artiști din Republica Moldova și de această seară de excepție\, dedicată muzicii și dialogului cultural”\, afirmă Andrei Apreotesei\, manager Palatul Culturii – Complexul Muzeal Național „Moldova” Iași. La acest eveniment\, intrarea este liberă\, în limita locurilor disponibile.
URL:https://palatulculturii.ro/eveniment/atelier-educativ-in-oglinda-arheologiei-chipul-femeii-de-la-mama-la-zeita/
CATEGORIES:Atelierele DICE
ATTACH;FMTTYPE=image/jpeg:https://palatulculturii.ro/wp-content/uploads/2025/07/afis-OGLINDA.jpeg
END:VEVENT
BEGIN:VEVENT
DTSTART;TZID=Europe/Bucharest:20250904T150000
DTEND;TZID=Europe/Bucharest:20250904T170000
DTSTAMP:20260421T053257
CREATED:20250828T063336Z
LAST-MODIFIED:20250828T063336Z
UID:35191-1756998000-1757005200@palatulculturii.ro
SUMMARY:Lansare de carte la Muzeul Memorial „Mihail Kogălniceanu”
DESCRIPTION:Complexul Muzeal Național „Moldova” Iași\, în parteneriat cu „Teleradio Moldova” – Republica Moldova\, invită publicul la un eveniment muzical special: „O seară la Palat”.Evenimentul va avea loc vineri\, 17 aprilie 2026\, de la ora 19.00\, în Sala Voievozilor de la Palatul Culturii. Sub bagheta dirijorului Andrei Zapșa\, Orchestra Simfonică Națională a Companiei „Teleradio-Moldova” va interpreta lucrări semnate de J.S. Bach\, W.A. Mozart\, G. Enescu\, G.F. Handel\, E. Grieg\, G. Bizet\, Gh. Mustea\, M. Skoryk și alți mari compozitori\, într-un program artistic de mare rafinament. „Invităm publicul să se bucure de întâlnirea cu prestigioșii artiști din Republica Moldova și de această seară de excepție\, dedicată muzicii și dialogului cultural”\, afirmă Andrei Apreotesei\, manager Palatul Culturii – Complexul Muzeal Național „Moldova” Iași. La acest eveniment\, intrarea este liberă\, în limita locurilor disponibile.
URL:https://palatulculturii.ro/eveniment/lansare-de-carte-la-muzeul-memorial-mihail-kogalniceanu-4/
CATEGORIES:Muzeul Memorial „Mihail Kogălniceanu”
ATTACH;FMTTYPE=image/jpeg:https://palatulculturii.ro/wp-content/uploads/2025/08/4-septembrie-scaled.jpg
END:VEVENT
BEGIN:VEVENT
DTSTART;TZID=Europe/Bucharest:20250906T150000
DTEND;TZID=Europe/Bucharest:20250906T223000
DTSTAMP:20260421T053257
CREATED:20250903T110513Z
LAST-MODIFIED:20250903T110513Z
UID:35212-1757170800-1757197800@palatulculturii.ro
SUMMARY:Noaptea Muzeelor la Sate
DESCRIPTION:Complexul Muzeal Național „Moldova” Iași\, în parteneriat cu „Teleradio Moldova” – Republica Moldova\, invită publicul la un eveniment muzical special: „O seară la Palat”.Evenimentul va avea loc vineri\, 17 aprilie 2026\, de la ora 19.00\, în Sala Voievozilor de la Palatul Culturii. Sub bagheta dirijorului Andrei Zapșa\, Orchestra Simfonică Națională a Companiei „Teleradio-Moldova” va interpreta lucrări semnate de J.S. Bach\, W.A. Mozart\, G. Enescu\, G.F. Handel\, E. Grieg\, G. Bizet\, Gh. Mustea\, M. Skoryk și alți mari compozitori\, într-un program artistic de mare rafinament. „Invităm publicul să se bucure de întâlnirea cu prestigioșii artiști din Republica Moldova și de această seară de excepție\, dedicată muzicii și dialogului cultural”\, afirmă Andrei Apreotesei\, manager Palatul Culturii – Complexul Muzeal Național „Moldova” Iași. La acest eveniment\, intrarea este liberă\, în limita locurilor disponibile.
URL:https://palatulculturii.ro/eveniment/noaptea-muzeelor-la-sate/
CATEGORIES:Palatul „Alexandru Ioan Cuza” de la Ruginoasa
ATTACH;FMTTYPE=image/jpeg:https://palatulculturii.ro/wp-content/uploads/2025/09/20250906-NM-la-sate-rug-1-scaled.jpg
END:VEVENT
BEGIN:VEVENT
DTSTART;VALUE=DATE:20250919
DTEND;VALUE=DATE:20250921
DTSTAMP:20260421T053257
CREATED:20250918T105938Z
LAST-MODIFIED:20250920T104405Z
UID:35377-1758240000-1758412799@palatulculturii.ro
SUMMARY:Simpozionul Național  „Rolul Mănăstirii Secu în viața religioasă a Țării Moldovei”\, ediția a XIV-a
DESCRIPTION:Complexul Muzeal Național „Moldova” Iași\, în parteneriat cu „Teleradio Moldova” – Republica Moldova\, invită publicul la un eveniment muzical special: „O seară la Palat”.Evenimentul va avea loc vineri\, 17 aprilie 2026\, de la ora 19.00\, în Sala Voievozilor de la Palatul Culturii. Sub bagheta dirijorului Andrei Zapșa\, Orchestra Simfonică Națională a Companiei „Teleradio-Moldova” va interpreta lucrări semnate de J.S. Bach\, W.A. Mozart\, G. Enescu\, G.F. Handel\, E. Grieg\, G. Bizet\, Gh. Mustea\, M. Skoryk și alți mari compozitori\, într-un program artistic de mare rafinament. „Invităm publicul să se bucure de întâlnirea cu prestigioșii artiști din Republica Moldova și de această seară de excepție\, dedicată muzicii și dialogului cultural”\, afirmă Andrei Apreotesei\, manager Palatul Culturii – Complexul Muzeal Național „Moldova” Iași. La acest eveniment\, intrarea este liberă\, în limita locurilor disponibile.
URL:https://palatulculturii.ro/eveniment/simpozionul-national-rolul-manastirii-secu-in-viata-religioasa-a-tarii-moldovei-editia-a-xiv-a/
LOCATION:Muzeul „Poni-Cernătescu”\, Str. Mihail Kogalniceanu Nr. 7B\, Iași\, Iași\, 700454\, România
ATTACH;FMTTYPE=image/jpeg:https://palatulculturii.ro/wp-content/uploads/2025/09/Afis-Secu-2025-varianta-2-scaled.jpg
END:VEVENT
BEGIN:VEVENT
DTSTART;TZID=Europe/Bucharest:20250919T120000
DTEND;TZID=Europe/Bucharest:20250919T130000
DTSTAMP:20260421T053257
CREATED:20250918T094935Z
LAST-MODIFIED:20250919T074848Z
UID:35373-1758283200-1758286800@palatulculturii.ro
SUMMARY:PĂDURE ERASMUS la Muzeul „Poni-Cernătescu”
DESCRIPTION:Complexul Muzeal Național „Moldova” Iași\, în parteneriat cu „Teleradio Moldova” – Republica Moldova\, invită publicul la un eveniment muzical special: „O seară la Palat”.Evenimentul va avea loc vineri\, 17 aprilie 2026\, de la ora 19.00\, în Sala Voievozilor de la Palatul Culturii. Sub bagheta dirijorului Andrei Zapșa\, Orchestra Simfonică Națională a Companiei „Teleradio-Moldova” va interpreta lucrări semnate de J.S. Bach\, W.A. Mozart\, G. Enescu\, G.F. Handel\, E. Grieg\, G. Bizet\, Gh. Mustea\, M. Skoryk și alți mari compozitori\, într-un program artistic de mare rafinament. „Invităm publicul să se bucure de întâlnirea cu prestigioșii artiști din Republica Moldova și de această seară de excepție\, dedicată muzicii și dialogului cultural”\, afirmă Andrei Apreotesei\, manager Palatul Culturii – Complexul Muzeal Național „Moldova” Iași. La acest eveniment\, intrarea este liberă\, în limita locurilor disponibile.
URL:https://palatulculturii.ro/eveniment/padure-erasmus-la-muzeul-poni-cernatescu/
CATEGORIES:Muzeul „Poni - Cernătescu”
ATTACH;FMTTYPE=image/jpeg:https://palatulculturii.ro/wp-content/uploads/2025/09/20250919-padure-erasmus-scaled.jpg
END:VEVENT
BEGIN:VEVENT
DTSTART;TZID=Europe/Bucharest:20250920T130000
DTEND;TZID=Europe/Bucharest:20250920T170000
DTSTAMP:20260421T053257
CREATED:20250918T085939Z
LAST-MODIFIED:20250918T085939Z
UID:35368-1758373200-1758387600@palatulculturii.ro
SUMMARY:Întâlnirea șezătorilor: „Șezători în Țara Făgărașului” în vizită la „Șezătoarea Iași”
DESCRIPTION:Complexul Muzeal Național „Moldova” Iași\, în parteneriat cu „Teleradio Moldova” – Republica Moldova\, invită publicul la un eveniment muzical special: „O seară la Palat”.Evenimentul va avea loc vineri\, 17 aprilie 2026\, de la ora 19.00\, în Sala Voievozilor de la Palatul Culturii. Sub bagheta dirijorului Andrei Zapșa\, Orchestra Simfonică Națională a Companiei „Teleradio-Moldova” va interpreta lucrări semnate de J.S. Bach\, W.A. Mozart\, G. Enescu\, G.F. Handel\, E. Grieg\, G. Bizet\, Gh. Mustea\, M. Skoryk și alți mari compozitori\, într-un program artistic de mare rafinament. „Invităm publicul să se bucure de întâlnirea cu prestigioșii artiști din Republica Moldova și de această seară de excepție\, dedicată muzicii și dialogului cultural”\, afirmă Andrei Apreotesei\, manager Palatul Culturii – Complexul Muzeal Național „Moldova” Iași. La acest eveniment\, intrarea este liberă\, în limita locurilor disponibile.
URL:https://palatulculturii.ro/eveniment/intalnirea-sezatorilor-sezatori-in-tara-fagarasului-in-vizita-la-sezatoarea-iasi/
CATEGORIES:Muzeul Etnografic al Moldovei
ATTACH;FMTTYPE=image/jpeg:https://palatulculturii.ro/wp-content/uploads/2025/09/20250920-etno-sezatori-web.jpg
END:VEVENT
BEGIN:VEVENT
DTSTART;VALUE=DATE:20250926
DTEND;VALUE=DATE:20250927
DTSTAMP:20260421T053257
CREATED:20250925T132329Z
LAST-MODIFIED:20250925T132544Z
UID:35490-1758844800-1758931199@palatulculturii.ro
SUMMARY:Vernisajul expoziției „Palatul și ieșenii. O veche poveste de dragoste”
DESCRIPTION:Complexul Muzeal Național „Moldova” Iași\, în parteneriat cu „Teleradio Moldova” – Republica Moldova\, invită publicul la un eveniment muzical special: „O seară la Palat”.Evenimentul va avea loc vineri\, 17 aprilie 2026\, de la ora 19.00\, în Sala Voievozilor de la Palatul Culturii. Sub bagheta dirijorului Andrei Zapșa\, Orchestra Simfonică Națională a Companiei „Teleradio-Moldova” va interpreta lucrări semnate de J.S. Bach\, W.A. Mozart\, G. Enescu\, G.F. Handel\, E. Grieg\, G. Bizet\, Gh. Mustea\, M. Skoryk și alți mari compozitori\, într-un program artistic de mare rafinament. „Invităm publicul să se bucure de întâlnirea cu prestigioșii artiști din Republica Moldova și de această seară de excepție\, dedicată muzicii și dialogului cultural”\, afirmă Andrei Apreotesei\, manager Palatul Culturii – Complexul Muzeal Național „Moldova” Iași. La acest eveniment\, intrarea este liberă\, în limita locurilor disponibile.
URL:https://palatulculturii.ro/eveniment/vernisajul-expozitiei-palatul-si-iesenii-o-veche-poveste-de-dragoste/
LOCATION:Muzeul de Istorie a Moldovei – Palatul Culturii din Iași
CATEGORIES:Palatul Culturii
ATTACH;FMTTYPE=image/jpeg:https://palatulculturii.ro/wp-content/uploads/2025/09/Expozitie-Palatul-si-iesenii_afis-1-1.jpg
END:VEVENT
BEGIN:VEVENT
DTSTART;VALUE=DATE:20250926
DTEND;VALUE=DATE:20250929
DTSTAMP:20260421T053257
CREATED:20250923T115206Z
LAST-MODIFIED:20250923T144857Z
UID:35435-1758844800-1759103999@palatulculturii.ro
SUMMARY:„Sărbătoarea viei și vinului” la Hârlău - o incursiune în lumea etnografică a Moldovei
DESCRIPTION:Complexul Muzeal Național „Moldova” Iași\, în parteneriat cu „Teleradio Moldova” – Republica Moldova\, invită publicul la un eveniment muzical special: „O seară la Palat”.Evenimentul va avea loc vineri\, 17 aprilie 2026\, de la ora 19.00\, în Sala Voievozilor de la Palatul Culturii. Sub bagheta dirijorului Andrei Zapșa\, Orchestra Simfonică Națională a Companiei „Teleradio-Moldova” va interpreta lucrări semnate de J.S. Bach\, W.A. Mozart\, G. Enescu\, G.F. Handel\, E. Grieg\, G. Bizet\, Gh. Mustea\, M. Skoryk și alți mari compozitori\, într-un program artistic de mare rafinament. „Invităm publicul să se bucure de întâlnirea cu prestigioșii artiști din Republica Moldova și de această seară de excepție\, dedicată muzicii și dialogului cultural”\, afirmă Andrei Apreotesei\, manager Palatul Culturii – Complexul Muzeal Național „Moldova” Iași. La acest eveniment\, intrarea este liberă\, în limita locurilor disponibile.
URL:https://palatulculturii.ro/eveniment/sarbatoarea-viei-si-vinului-la-harlau-o-incursiune-in-lumea-etnografica-a-moldovei/
LOCATION:Muzeul Viei și Vinului din Hârlău
CATEGORIES:Muzeul Viei și Vinului din Hârlău
ATTACH;FMTTYPE=image/jpeg:https://palatulculturii.ro/wp-content/uploads/2025/09/Afis-print-Viei-si-Vinului-Harlau-scaled.jpg
END:VEVENT
BEGIN:VEVENT
DTSTART;TZID=Europe/Bucharest:20250926T100000
DTEND;TZID=Europe/Bucharest:20250928T180000
DTSTAMP:20260421T053257
CREATED:20250926T082652Z
LAST-MODIFIED:20250926T082652Z
UID:35503-1758880800-1759082400@palatulculturii.ro
SUMMARY:Program prelungit la Muzeul de Sit arheologic - \,„Cucuteni Jazz Fest” (ediția a IV-a)
DESCRIPTION:Complexul Muzeal Național „Moldova” Iași\, în parteneriat cu „Teleradio Moldova” – Republica Moldova\, invită publicul la un eveniment muzical special: „O seară la Palat”.Evenimentul va avea loc vineri\, 17 aprilie 2026\, de la ora 19.00\, în Sala Voievozilor de la Palatul Culturii. Sub bagheta dirijorului Andrei Zapșa\, Orchestra Simfonică Națională a Companiei „Teleradio-Moldova” va interpreta lucrări semnate de J.S. Bach\, W.A. Mozart\, G. Enescu\, G.F. Handel\, E. Grieg\, G. Bizet\, Gh. Mustea\, M. Skoryk și alți mari compozitori\, într-un program artistic de mare rafinament. „Invităm publicul să se bucure de întâlnirea cu prestigioșii artiști din Republica Moldova și de această seară de excepție\, dedicată muzicii și dialogului cultural”\, afirmă Andrei Apreotesei\, manager Palatul Culturii – Complexul Muzeal Național „Moldova” Iași. La acest eveniment\, intrarea este liberă\, în limita locurilor disponibile.
URL:https://palatulculturii.ro/eveniment/program-prelungit-la-muzeul-de-sit-arheologic-cucuteni-jazz-fest-editia-a-iv-a/
CATEGORIES:Muzeul de Sit Arheologic de la Cucuteni
ATTACH;FMTTYPE=image/jpeg:https://palatulculturii.ro/wp-content/uploads/2025/09/Cucuteni-Jazz-Fest_afis.jpg
END:VEVENT
BEGIN:VEVENT
DTSTART;TZID=Europe/Bucharest:20250930T190000
DTEND;TZID=Europe/Bucharest:20250930T200000
DTSTAMP:20260421T053257
CREATED:20250804T091815Z
LAST-MODIFIED:20250804T092045Z
UID:34809-1759258800-1759262400@palatulculturii.ro
SUMMARY:„Concert la Palat”: Cătălin Răducanu „Un artist\, un pian și un țambal – clasic\, jazz\, folclor”
DESCRIPTION:Complexul Muzeal Național „Moldova” Iași\, în parteneriat cu „Teleradio Moldova” – Republica Moldova\, invită publicul la un eveniment muzical special: „O seară la Palat”.Evenimentul va avea loc vineri\, 17 aprilie 2026\, de la ora 19.00\, în Sala Voievozilor de la Palatul Culturii. Sub bagheta dirijorului Andrei Zapșa\, Orchestra Simfonică Națională a Companiei „Teleradio-Moldova” va interpreta lucrări semnate de J.S. Bach\, W.A. Mozart\, G. Enescu\, G.F. Handel\, E. Grieg\, G. Bizet\, Gh. Mustea\, M. Skoryk și alți mari compozitori\, într-un program artistic de mare rafinament. „Invităm publicul să se bucure de întâlnirea cu prestigioșii artiști din Republica Moldova și de această seară de excepție\, dedicată muzicii și dialogului cultural”\, afirmă Andrei Apreotesei\, manager Palatul Culturii – Complexul Muzeal Național „Moldova” Iași. La acest eveniment\, intrarea este liberă\, în limita locurilor disponibile.
URL:https://palatulculturii.ro/eveniment/concert-la-palat-catalin-raducanu-un-artist-un-pian-si-un-tambal-clasic-jazz-folclor/
LOCATION:Holul de Onoare – Palatul Culturii din Iași
CATEGORIES:Noutăți,Palatul Culturii
ATTACH;FMTTYPE=image/jpeg:https://palatulculturii.ro/wp-content/uploads/2025/08/concert-la-palat.jpg
END:VEVENT
END:VCALENDAR