	BEGIN:VCALENDAR
VERSION:2.0
PRODID:-//Complex Muzeal Național „Moldova” Iași - ECPv6.0.12//NONSGML v1.0//EN
CALSCALE:GREGORIAN
METHOD:PUBLISH
X-ORIGINAL-URL:https://palatulculturii.ro
X-WR-CALDESC:Events for Complex Muzeal Național „Moldova” Iași
REFRESH-INTERVAL;VALUE=DURATION:PT1H
X-Robots-Tag:noindex
X-PUBLISHED-TTL:PT1H
BEGIN:VTIMEZONE
TZID:Europe/Bucharest
BEGIN:DAYLIGHT
TZOFFSETFROM:+0200
TZOFFSETTO:+0300
TZNAME:EEST
DTSTART:20240331T010000
END:DAYLIGHT
BEGIN:STANDARD
TZOFFSETFROM:+0300
TZOFFSETTO:+0200
TZNAME:EET
DTSTART:20241027T010000
END:STANDARD
BEGIN:DAYLIGHT
TZOFFSETFROM:+0200
TZOFFSETTO:+0300
TZNAME:EEST
DTSTART:20250330T010000
END:DAYLIGHT
BEGIN:STANDARD
TZOFFSETFROM:+0300
TZOFFSETTO:+0200
TZNAME:EET
DTSTART:20251026T010000
END:STANDARD
END:VTIMEZONE
BEGIN:VEVENT
DTSTART;VALUE=DATE:20241226
DTEND;VALUE=DATE:20250126
DTSTAMP:20260421T153140
CREATED:20250108T105747Z
LAST-MODIFIED:20250116T134414Z
UID:27137-1735171200-1737849599@palatulculturii.ro
SUMMARY:Expoziția de fotografie „Case vechi (care mor) din Lețcani”
DESCRIPTION:Complexul Muzeal Național „Moldova” Iași propune publicului o nouă expoziție în aer liber\, pe gardul Muzeului Unirii de pe Strada Alexandru Lăpușneanu nr. 14: „Case vechi (care mor) din Lețcani”.\nDerulată în perioada 26 decembrie 2024 – 25 ianuarie 2025\, expoziția de fotografie este organizată în parteneriat cu Primăria Municipiului Iași\, Uniunea Artiștilor Plastici din România – Filiala Iași\, Centrul Municipal de Memorie Vizuală Iași și PIM. \n„Fotografiate acum doi ani\, o parte din ele sunt doar amintire. Locul lor a fost/ va fi luat de construcții de beton fără personalitate\, fără ca proprietarul să-și dorească să le personalizeze așa cum au făcut părinții și bunicii lui. Expoziția este una documentară\, parte a unui proiect mai amplu\, satele județului Iași păstrând\, încă\, o zestre extraordinară\, mărturie a sufletului nobil al omului simplu”\, afirmă Ozolin Dușa. \nEvenimentul face parte din proiectul „Un an împreună”\, care cuprinde douăsprezece expoziții organizate de Ozolin Dușa pe gardul Muzeului Unirii\,  în perioada noiembrie 2024 –  noiembrie 2025.
URL:https://palatulculturii.ro/eveniment/expozitia-de-fotografie-case-vechi-care-mor-din-letcani/
LOCATION:Muzeul Unirii Iași\, Str. Alexandru Lăpușneanu nr. 14\, Iași\, România
CATEGORIES:Muzeul Unirii
ATTACH;FMTTYPE=image/jpeg:https://palatulculturii.ro/wp-content/uploads/2025/01/expo-case-vechi_ozolin-dusa_print.jpg
END:VEVENT
BEGIN:VEVENT
DTSTART;TZID=Europe/Bucharest:20250115T110000
DTEND;TZID=Europe/Bucharest:20250115T123000
DTSTAMP:20260421T153140
CREATED:20250109T075120Z
LAST-MODIFIED:20250115T084141Z
UID:27187-1736938800-1736944200@palatulculturii.ro
SUMMARY:Conferința-dezbatere „România în Uniunea Europeană”\, eveniment dedicat Zilei Culturii Naționale
DESCRIPTION:ACTUALIZARE: Conferința-dezbatere „România în Uniunea Europeană” se va desfășura în Sala Voievozilor.\nComplexul Muzeal Național „Moldova” Iași – Muzeul de Istorie a Moldovei\, în parteneriat cu Universitatea „Alexandru Ioan Cuza” din Iași\, Inspectoratul Școlar Județean Iași și Colegiul Național „Mihai Eminescu” Iași organizează miercuri\, 15 ianuarie 2025\, la Palatul Culturii – Sala „Ștefan Procopiu”\, ora 11.00\, conferința-dezbatere „România în Uniunea Europeană”. \nManifestarea\, dedicată Zilei Culturii Naționale\, îl va avea ca invitat de onoare pe prof. univ. dr. Lucian Leuștean\, o personalitate marcantă a mediului academic ieșean\, care va aborda importanța apartenenței României la Uniunea Europeană. Intervenția sa va analiza rolul și implicațiile integrării României în spațiul politic\, economic și cultural european\, punând accent pe oportunitățile și beneficiile pe care Uniunea Europeană și instituțiile sale le oferă cetățenilor români\, mai ales în actualul context geopolitic. \n„Toți iubitorii de cultură\, educație și istorie sunt invitați să participe la acest eveniment de excepție\, care va aduce în prim-plan subiecte de actualitate și va oferi oportunitatea de a interacționa cu unul dintre cei mai respectați istorici români”\, afirmă Andrei Apreotesei\, managerul Complexului Muzeal Național „Moldova” Iași. \nEvenimentul este coordonat de prof. Sorin Sitea și face parte din seria manifestărilor dedicate aniversării a 160 de ani de la înființarea Colegiului Național „Mihai Eminescu” din Iași\, instituție de prestigiu cu o tradiție deosebită în educația românească.
URL:https://palatulculturii.ro/eveniment/conferinta-dezbatere-romania-in-uniunea-europeana-eveniment-dedicat-zilei-culturii-nationale/
CATEGORIES:Palatul Culturii
ATTACH;FMTTYPE=image/jpeg:https://palatulculturii.ro/wp-content/uploads/2025/01/AFIS.jpg
END:VEVENT
BEGIN:VEVENT
DTSTART;TZID=Europe/Bucharest:20250115T183000
DTEND;TZID=Europe/Bucharest:20250115T200000
DTSTAMP:20260421T153140
CREATED:20250113T072512Z
LAST-MODIFIED:20250113T080932Z
UID:27214-1736965800-1736971200@palatulculturii.ro
SUMMARY:Concert de Ziua Culturii Naționale la Palat
DESCRIPTION:Complexul Muzeal Național „Moldova” Iași\, în parteneriat cu Opera Națională Română Iași\, invită publicul la un eveniment special\, dedicat Zilei Culturii Naționale și aniversării a 175 de ani de la nașterea poetului Mihai Eminescu: „Concert de Ziua Culturii Naționale la Palat”.\nConcertul va avea loc la miercuri\, 15 ianuarie 2025\, începând cu ora 18.30\, în Holul de Onoare al Palatului Culturii din Iași. \nSoliștii Cristina Grigoraș\, Diana Ionescu\, Angelica Solomon\, Marinela Nicola-Pahoncea\, Sorana Nastasiu\, Ovidiu Manolache\, Olivian Andrișoae și Cezar Octavian Ionescu vor interpreta celebre creații românești\, acompaniați de artiștii instrumentiști Adina Alupei (pian)\, Radu Cotoman (vioară)\, Adriana Stoica (violă)\, Emerich Ghercă (violoncel)\, Adrian Fântână (contrabas)\, Cătălin Simerea (flaut) și Silviu Butnaru (clarinet). \nTotodată\, la evenimentul de miercuri\, veți putea audia și pagini orchestrale de referință din repertoriul liric național\, precum „Rapsodia română nr. 1” de George Enescu\, dar și cântece inspirate din folclor\, printre care „Mocirița” și „Ciuleandra”. De asemenea\, momente speciale vor fi susținute de Corul de Copii al ONRI\, dirijat de Raluca Zaharia. \nDetalii și bilete\, pe site-ul partenerului: Opera Națională Română Iași \nVă așteptăm cu drag!
URL:https://palatulculturii.ro/eveniment/concert-de-ziua-culturii-nationale-la-palat/
LOCATION:Holul de Onoare – Palatul Culturii din Iași
CATEGORIES:Palatul Culturii
ATTACH;FMTTYPE=image/jpeg:https://palatulculturii.ro/wp-content/uploads/2025/01/15-ian-2025-ZCN.jpeg
END:VEVENT
BEGIN:VEVENT
DTSTART;TZID=Europe/Bucharest:20250116T160000
DTEND;TZID=Europe/Bucharest:20250116T170000
DTSTAMP:20260421T153140
CREATED:20250115T141853Z
LAST-MODIFIED:20250115T141903Z
UID:27301-1737043200-1737046800@palatulculturii.ro
SUMMARY:Recital de canto la Palatul Culturii
DESCRIPTION:Complexul Muzeal Național „Moldova” Iași\, în parteneriat cu Universitatea Națională de Arte „George Enescu” Iași\, invită publicul la un nou recital: „M-ai sărutat pe suflet”\, care va avea loc joi\, 16 ianuarie 2025\, începând cu ora 16.00\, în Sala „Henri Coandă” de la Palatul Culturii.\nEvenimentul muzical aduce în lumina reflectoarelor studenți de la Facultatea de Interpretare\, Compoziție și Studii muzicale teoretice – Universitatea Națională de Arte „George Enescu” din Iași\, aflați sub îndrumarea Asist. univ. dr. Eliza Irina-Solomon. \nProgramul întâlnirii muzicale structurează o listă generoasă de lucrări – Non si da follia magiore\, opera Il turco in Italia – G. Rossini\, Dove sono – opera Le nozze di Figaro – W.A. Mozart\, In quelle trine morbide\, opera Manon Lescaut – G. Puccini\, dar și multe alte arii și lieduri din creația compozitorilor H. Purcel\, W.A. Mozart\, L.v. Beethoven\, F. Schubert\, F.M. Bartholdy\, C. Gounod\, J. Offenbach\, J. Brahms\, G.Puccini\, F. Donceanu\, E. Doga  \nInterpretează:  \nMelissa Hanga – anul I \nRoxana Stoleru – anul II \nDenisa Strugariu – anul III \nAlexandra Condrea – anul IV \nAlexandra Stăncescu – anul IV \nDiana Cruceanu – anul IV \nDaria Khomenko – anul I Master. \nLa pian: Conf.univ.dr. Brîndusa Tudor și Lect.univ.dr. Ina Cristea. \nEvenimentul va fi prezentat de Asist. univ. dr. Eliza Irina-Solomon. \nIntrarea este liberă\, în limita locurilor disponibile.  \nVă așteptăm cu drag!
URL:https://palatulculturii.ro/eveniment/recital-de-canto-la-palatul-culturii-2/
CATEGORIES:Palatul Culturii
ATTACH;FMTTYPE=image/jpeg:https://palatulculturii.ro/wp-content/uploads/2025/01/2025afis_Recital-Palat-1.jpg
END:VEVENT
BEGIN:VEVENT
DTSTART;TZID=Europe/Bucharest:20250117T170000
DTEND;TZID=Europe/Bucharest:20250117T180000
DTSTAMP:20260421T153140
CREATED:20250116T133928Z
LAST-MODIFIED:20250116T134030Z
UID:27329-1737133200-1737136800@palatulculturii.ro
SUMMARY:Recital vocal-instrumental „Voci și povești”
DESCRIPTION:Complexul Muzeal Național „Moldova” Iași\, în parteneriat cu Universitatea Națională de Arte „George Enescu” Iași\, organizează vineri\, 17 ianuarie 2025\, începând cu ora 17.00\, în Sala „Henri Coandă” de la Palatul Culturii\, recitalul vocal-instrumental „Voci și povești”\, susținut de studenți ai Facultății de Interpretare\, Compoziție și Studii muzicale teoretice\, coordonați de prof. univ. dr. Cristina Simionescu-Fântână.\nProgramul evenimentului structurează o listă generoasă de lucrări din creația compozitorilor: G.F. Händel\, W.A. Mozart\, D. Cimarosa\, G. Rossini\, B. Sheremetev\, F. Lehár\, J. Strauss\, ce vor bucura auditoriul prin interpretarea studenților Evelina Maria Barcan\, Andreea Dumitran\, Giulia Alexia Portariuc\, Andreea Vecliuc\, Nectarie Cazaciuc\, Denis Josanu\, Teodora Păiuș\, Alexandra Spiridon\, Maria Băicănescu. \nLa pian: prof. univ. dr. Cezara Petrescu\, conf. univ. dr. Brîndușa Tudor\, conf. univ. dr. Vasilica Stoiciu-Frunză\, lect. univ. dr. Ina Cristea. \nLa acest eveniment\, intrarea este liberă\, în limita locurilor disponibile! \nVă așteptăm cu drag!
URL:https://palatulculturii.ro/eveniment/recital-vocal-instrumental-voci-si-povesti/
ATTACH;FMTTYPE=image/jpeg:https://palatulculturii.ro/wp-content/uploads/2025/01/2025.01.17afis_CMNM_fnl-scaled.jpg
END:VEVENT
BEGIN:VEVENT
DTSTART;VALUE=DATE:20250121
DTEND;VALUE=DATE:20250201
DTSTAMP:20260421T153140
CREATED:20250121T142613Z
LAST-MODIFIED:20250217T145041Z
UID:27384-1737417600-1738367999@palatulculturii.ro
SUMMARY:Cel mai bun an din istoria Palatului Culturii
DESCRIPTION:Pe parcursul anului 2024\, Complexul Muzeal Național „Moldova” Iași a organizat peste 200 de evenimente culturale\, prilejuind întâlnirea cu un public numeros și\, totodată\, stabilind premisele unui program aniversar de excepție.\n„2024 a fost cel mai bun an din istoria Palatului și sunt convins că 2025 va fi memorabil\, pentru că toate proiectele noastre sunt așezate cu recunoștință în fața memoriei înaintașilor noștri\, care au întemeiat\, cu multă imaginație\, muncă și tenacitate acest loc dedicat excelenței\, valorilor perene\, patrimoniului neprețuit. Avem această datorie și\, totodată\, onoranta misiune de a păstra și de a pune în lumină acest impresionant patrimoniu\, pentru generațiile viitoare”\, afirmă Andrei Apreotesei\, managerul Complexului Muzeal Național „Moldova” Iași. \nDeschiderea Galeriei de Artă Europeană de la Muzeul de Artă Iași; valorificarea pentru public a „Monoxilei Moldovei” – barca medievală descoperită în albia râului Moldova\, expusă la Palatul Culturii; Instalații țărănești augmentate prin intermediul aplicației MuzeAR\, la Muzeul Etnografic al Moldovei; cea de-a XIV-a ediție a Festivalului Internațional al Muzicii Mecanice\, organizat de Muzeul Științei și Tehnicii „Ștefan Procopiu”; Târgurile meșterilor populari\, organizate de Muzeul Etnografic al Moldovei pe tot parcursul anului – sunt doar câteva dintre evenimentele derulate în 2024. Acestora li se adaugă conferințe\, simpozioane\, lansări de carte\, ateliere de educație muzeală\, evenimente în cadrul proiectelor Erasmus+. \nDe asemenea\, în 2024\, Palatul Culturii a primit vizita onorantă a Excelențelor Lor: dl. Nicolas Warnery\, Ambasadorul Franței în România; dl. Katae Takashi\, Ambasadorul Japoniei în România; dl. Paul Cunha Alvez – Ambasadorul Portugaliei în România; dl. Ali Yerlik\, Ambasador al Republicii Kazahstan în România\, precum și a numeroase delegații oficiale internaționale și personalități din diverse domenii. \n„Balul Palatului” va avea o ediție extraordinară în 2025\, evenimentul ajungând la a IV-a ediție\, iar „Concert la Palat”\, un proiect realizat în colaborare Opera Națională Română Iași și Ateneul Național din Iași\, care s-a bucurat de mare succes în 2024\, continuă\, prilejuind întâlnirile de marți ale publicului iubitor de muzică și patrimoniu muzeal\, deopotrivă. \nÎn cifre\, dintr-un total de peste 450.000 de beneficiari\, peste 370.000 de vizitatori au fost prezenți în spațiile muzeale în 2024\, instituția marcând o creștere cu peste 26 % a activităților\, peste 4.000.000 lei a încasărilor și peste 11 % a veniturilor proprii. \nAnul 2025 marchează un moment istoric pentru Iași și pentru patrimoniul cultural național: Palatul Culturii – Palat al Muzeelor\, simbol al orașului și al valorilor perene românești\, a ajuns la Centenar. În anul 1955\, vechiul Palat de Justiție a devenit Palat al Culturii\, în prezent aici aflându-se sediul Complexului Muzeal Național „Moldova” Iași și a patru muzee de talie națională\, Muzeul de Artă\, Muzeul de Istorie a Moldovei\, Muzeul Etnografic al Moldovei\, Muzeul Științei și Tehnicii „Ștefan Procopiu”\, alături de Centrul de Cercetare şi Conservare-Restaurare a Patrimoniului Cultural. \nPe 31 ianuarie 2025\, publicul este invitat la venisajul expoziției „Siviu Oravitzan – Cărările luminii”\, organizate de Complexul Muzeal Național „Moldova” Iași – Muzeul de Istorie a Moldovei\, în parteneriat cu Muzeul Național al Bucovinei din Suceava. Cu această ocazie\, vor fi prezentate mai multe detalii despre evenimentele pregătite pentru Centenarul Palatului. \nInvităm publicul să ne fie alături\, să ne susțină în demersul de promovare a muzeelor și să se bucure de evenimentele din acest an. \nVă așteptăm cu drag!
URL:https://palatulculturii.ro/eveniment/cel-mai-bun-an-din-istoria-palatului-culturii/
CATEGORIES:Palatul Culturii
ATTACH;FMTTYPE=image/jpeg:https://palatulculturii.ro/wp-content/uploads/2025/01/bilant-2024-1.jpg
END:VEVENT
BEGIN:VEVENT
DTSTART;TZID=Europe/Bucharest:20250121T190000
DTEND;TZID=Europe/Bucharest:20250121T200000
DTSTAMP:20260421T153140
CREATED:20250108T114817Z
LAST-MODIFIED:20250113T081318Z
UID:27169-1737486000-1737489600@palatulculturii.ro
SUMMARY:„Concert la Palat”: „Iubesc femeia!” | Angelica Solomon\, Gabriel Bîrjovanu și Ciprian Oloi
DESCRIPTION:Complexul Muzeal Național „Moldova” Iași\, în parteneriat cu Ateneul Național din Iași invită publicul la un nou eveniment sub genericul „Concert la Palat”: „Iubesc femeia!”\, susținut de Angelica Solomon\, Gabriel Bîrjovanu și Ciprian Oloi.\nConcertul va avea loc în Holul de Onoare al Palatului Culturii\, marți\, 21 ianuarie 2025\, începând cu ora 19.00. \nBilete\, pe site-ul organizatorului principal al acestui eveniment: Ateneul Național din Iași
URL:https://palatulculturii.ro/eveniment/concert-la-palat-iubesc-femeia-angelica-solomon-gabriel-birjovanu-si-ciprian-oloi/
LOCATION:Holul de Onoare – Palatul Culturii din Iași
CATEGORIES:Palatul Culturii
ATTACH;FMTTYPE=image/jpeg:https://palatulculturii.ro/wp-content/uploads/2025/01/Concert-la-Palat_Angelica-Solomon.jpg
END:VEVENT
BEGIN:VEVENT
DTSTART;TZID=Europe/Bucharest:20250122T100000
DTEND;TZID=Europe/Bucharest:20250417T153000
DTSTAMP:20260421T153140
CREATED:20250122T122814Z
LAST-MODIFIED:20250509T123336Z
UID:27397-1737540000-1744903800@palatulculturii.ro
SUMMARY:Atelierul educativ „Oglinzi din trecut: Grecia antică în vase și povestiri”
DESCRIPTION:Complexul Muzeal Național „Moldova” Iași\, prin Secția Mediere culturală\, proiecte\, marketing și cu sprijinul activ al Muzeului de Istorie a Moldovei\, desfășoară un nou atelier în perioada 22 ianuarie – 11 mai 2025\, organizat sub sigla Atelierele D.I.C.E. de la Palatul Culturii. Intitulat „Oglinzi din trecut: Grecia antică în vase și povestiri”\, atelierul are ca scop descoperirea acestei fascinante lumi prin prisma ceramicii decorate cu figuri roșii.\nPentru a oferi participanților o incursiune captivantă în cultura și mitologia Greciei antice\, vom explora mai întâi poveștile ascunse pe suprafața vaselor ceramice\, simbolurile artistice și semnificațiile lor istorice\, în expoziția „Grecii de peste mări: Vase cu figuri roșii din Etruria și Magna Grecia”\, după care vom continua activitatea practică în Sala de Educație Muzeală de la parterul Palatului Culturii. \nAtelierul este o oportunitate unică de a îmbina istoria\, arta și educația într-un mod accesibil și plăcut. Sub îndrumarea specialiștilor noștri\, participanții vor învăța despre rolul ceramicii în viața cotidiană și ceremonială a grecilor antici\, dar și despre influența culturii elene în Etruria și Magna Grecia.Atelierul durează aproximativ 90 de minute\, prețul unui bilet este de 40 lei. Programările se pot face la numărul de telefon 0232.275.979\, interior 116 și prin mesaj privat pe pagina Atelierele DICE. \nVă așteptăm să descoperim împreună un univers captivant!
URL:https://palatulculturii.ro/eveniment/atelierul-educativ-oglinzi-din-trecut-grecia-antica-in-vase-si-povestiri/
LOCATION:Palatul Culturii Iași – Complexul Muzeal Național „Moldova” Iași
CATEGORIES:Atelierele DICE,Muzeul de Istorie a Moldovei,Noutăți,Palatul Culturii
ATTACH;FMTTYPE=image/jpeg:https://palatulculturii.ro/wp-content/uploads/2025/01/Atelier-DICE-Grecii-de-peste-mari.jpg
END:VEVENT
BEGIN:VEVENT
DTSTART;TZID=Europe/Bucharest:20250124T110000
DTEND;TZID=Europe/Bucharest:20250124T123000
DTSTAMP:20260421T153140
CREATED:20250122T132554Z
LAST-MODIFIED:20250122T133236Z
UID:27427-1737716400-1737721800@palatulculturii.ro
SUMMARY:Conferința „Un reper cultural identitar marca Mihail Kogălniceanu: «Dacia literară» - 185”
DESCRIPTION:Ziua Unirii Principatelor Române constituie un nou prilej de rememorare a operei lui Mihail Kogălniceanu (1817 – 1891)\, personalitate complexă a secolului al XIX-lea\, exponent al generației de ctitori ai României moderne.\nVineri\, 24 ianuarie 2025\, de la ora 11.00\, în Salonul Muzeului Memorial „Mihail Kogălniceanu”\, publicul este invitat la conferința „Un reper cultural identitar marca Mihail Kogălniceanu: «Dacia literară» – 185”\, susținută de Alexandru Ovidiu Vintilă\, doctor în istorie\, președinte al Societăţii Scriitorilor Bucovineni. \nOrganizată de Complexul Muzeal Național „Moldova” Iași – Muzeul de Istorie a Moldovei – Muzeul Memorial „Mihail Kogălniceanu”\, în parteneriat cu Asociația „Mihail Kogălniceanu” Iași\, conferința readuce în atenția publicului revista „Dacia literară”\, de la apariția căreia se împlinesc anul acesta 185 de ani. \nSpre deosebire de majoritatea contemporanilor săi cu preocupări literare\, gazetărești și politice\, Mihail Kogălniceanu a văzut\, în momentele de răscruce din istoria națională\, necesitatea de a pune în valoare sufletul românesc printr-o literatură națională. Programul său literar\, trasat în „Introducțiunea” revistei „Dacia literară”\, a creat\, dincolo de granițe\, premisele unei apropieri între scriitorii din toate teritoriile românești. Solidaritatea între tineri scriitori din Moldova și Muntenia a reverberat și a catalizat acțiunile politice comune\, care au avut ca finalitate Unirea celor două Principate\, în ianuarie 1859. \nLa acest eveniment\, intrarea este liberă\, în limita locurilor disponibile. \nVă așteptăm cu drag!
URL:https://palatulculturii.ro/eveniment/conferinta-un-reper-cultural-identitar-marca-mihail-kogalniceanu-dacia-literara-185/
LOCATION:Muzeul Memorial „Mihail Kogălniceanu” Iași
CATEGORIES:Muzeul de Istorie a Moldovei,Muzeul Memorial „Mihail Kogălniceanu”
ATTACH;FMTTYPE=image/jpeg:https://palatulculturii.ro/wp-content/uploads/2025/01/Conferinta-24-ian-2025_Muzeul-Kogalniceanu.jpg
END:VEVENT
BEGIN:VEVENT
DTSTART;TZID=Europe/Bucharest:20250124T120000
DTEND;TZID=Europe/Bucharest:20250124T150000
DTSTAMP:20260421T153140
CREATED:20250122T141153Z
LAST-MODIFIED:20250122T151126Z
UID:27459-1737720000-1737730800@palatulculturii.ro
SUMMARY:24 ianuarie 2025 - 166 de ani de la Unirea Principatelor Române
DESCRIPTION:„Hora Unirii” va răsuna pe 24 ianuarie 2025\, la Palatul „Alexandru Ioan Cuza” de la Ruginoasa\, unde publicul este invitat să participe la o serie de momente speciale\, prilejuite de împlinirea a 166 de ani de la momentul istoric al Unirii Principatelor Române.\nEvenimentul este organizat de Complexul Muzeal Național „Moldova” Iași – Muzeul de Istorie a Moldovei – Muzeul Memorial „Alexandru Ioan Cuza” din Ruginoasa\, în parteneriat cu Primăria Comunei Ruginoasa. \n„Unirea e singura stare politică ce putea să asigure viitorul nostru și să ne permită a da țării organizarea ce o aștepta de atât de mult timp”\, spunea Alexandru Ioan Cuza despre actul de la 24 ianuarie 1859 – Unirea Moldovei cu Țara Românească. \nProgramul cuprinde o serie de activități menite să păstreze vie memoria domnitorului Unirii\, Alexandru Ioan Cuza: \n\nora 10.00\, „Te Deum” la Biserica Domnească Ruginoasa\, urmat de depuneri de coroane la monumentul funerar al Domnitorului Alexandru Ioan Cuza;\nora 13.00\, „Hora Unirii” în curtea Muzeului Memorial „Alexandru Ioan Cuza” – un moment tradițional pentru locuitorii din Ruginoasa\, la care sunt invitați să participe toți cei prezenți; momentul va fi urmat de alocuțiunile oficialităților locale și ale invitaților;\nora 14.00 – spectacol susținut de tineri de la Centrul Cultural Ruginoasa\, Clubul Copiilor – Filiala Ruginoasa\, Centrul Cultural „Flori de Mai” Todirești și Ansamblul Folcloric „Trei generații”\, Heleșteni.\n\nVă așteptăm cu drag să celebrăm împreună această zi istorică!  
URL:https://palatulculturii.ro/eveniment/24-ianuarie-2025-166-de-ani-de-la-unirea-principatelor-romane/
LOCATION:Palatul “Alexandru Ioan Cuza” de la Ruginoasa\, Palatul Memorial Alexandru Ioan Cuza\, DN28A\, Ruginoasa\, Iași\, 707421\, România
CATEGORIES:Muzeul de Istorie a Moldovei,Noutăți,Palatul „Alexandru Ioan Cuza” de la Ruginoasa
ATTACH;FMTTYPE=image/jpeg:https://palatulculturii.ro/wp-content/uploads/2025/01/24-ianuarie-2025-Ruginoasa-scaled.jpg
END:VEVENT
BEGIN:VEVENT
DTSTART;VALUE=DATE:20250129
DTEND;VALUE=DATE:20250217
DTSTAMP:20260421T153140
CREATED:20240910T142610Z
LAST-MODIFIED:20250217T145145Z
UID:25580-1738108800-1739750399@palatulculturii.ro
SUMMARY:Mai multe vizite în Turnul Palatului!
DESCRIPTION:Complexul Muzeal Național „Moldova” Iași anunță modificarea programului de vizitare a Ceasului din Turnul Central al Palatului Culturii\, începând cu data de 11 septembrie 2024.\nVizitatorii\, însoțiți de personalul de specialitate\, vor avea acces în Camera Mecanismului din Turnul Central\, de miercuri până duminică (luni\, marți și sărbători legale\, închis)\, de la orele 10.45\, 11.45\, 12.45\, 13.45\, 14.45\, 15.45. Rezervările se fac doar la casa de bilete\, în ziua vizitei\, numărul de locuri fiind limitat (max. 14 persoane/ grup). Copiii cu vârsta până la 14 ani au acces în turn doar însoțiți de un membru adult al familiei. Prețul unui bilet este de 30 lei pentru adulți\, 15 lei pentru pensionari\, 7.50 lei pentru elevi/ studenți. \n„Orologiul simbol al Iașului poate fi vizitat acum de un public mai numeros și am convingerea că asta va aduce multă bucurie în inimile vizitatorilor și ale ieșenilor”\, apreciază Andrei Apreotesei\, manager al Complexului Muzeal Național „Moldova” Iași. \nCeasul redă\, la fiecare oră exactă\, o melodie cu o rezonanță specială pentru români\, „Hora Unirii”\, compusă de Alexandru Fechtenmacher\, pe versurile poetului Vasile Alecsandri\, ce marchează în mod simbolic Unirea Principatelor de la 1859. \nComandat de arhitectul Ion D. Berindei în Germania\, ceasul cu carillon a fost instalat în Turnul Central în 1925\, special pentru a conferi o încărcătură istorică Palatului Administrativ și de Justiție (destinația inițială a clădirii)\, precum și pentru a atribui o conotație romantică edificiului înălțat pe „platoul de aur al orașului”. Ceasornicul din Turnul Palatului amintea de orologiului instalat în turnul porții Curții Domnești la 1728\, care a dat\, multă vreme\, ritmurile orașului. \nDin 2016\, după redeschiderea Palatului Culturii\, în urma celui mai amplu proces de restaurare din existența clădirii\, zeci de mii de vizitatori s-au bucurat de spectacolul oferit de ceasul cu carillon.
URL:https://palatulculturii.ro/eveniment/mai-multe-vizite-in-turnul-palatului/
CATEGORIES:Palatul Culturii
ATTACH;FMTTYPE=image/jpeg:https://palatulculturii.ro/wp-content/uploads/2024/09/ceas-turn-palat.jpg
END:VEVENT
BEGIN:VEVENT
DTSTART;TZID=Europe/Bucharest:20250129T093000
DTEND;TZID=Europe/Bucharest:20250130T163000
DTSTAMP:20260421T153140
CREATED:20250816T045547Z
LAST-MODIFIED:20250816T045547Z
UID:35077-1738143000-1738254600@palatulculturii.ro
SUMMARY:Prima întâlnire în cadrul proiectului Erasmus Plus „ONE Culture”
DESCRIPTION:În perioada 29 – 30 ianuarie 2025\, în Franța\, la Bordeaux\, se va desfășura prima întâlnire transnațională în cadrul proiectului de cooperare Erasmus+ în domeniul educației adulților  „ONE Culture – Overcoming Nationalism and Euroscepticism through Culture”.\n\n\nLiderul proiectului este ENCRE – European Network of Comics Representatives and Entrepreneurs\, din Belgia\, care îi are ca parteneri pe Skill Up din Italia\, Cap Ulysse\, din Franța\, Museumsverein Klostertal din Austria\, Complexul Muzeal Național „Moldova” din România și Quiosq din Olanda.\n\n\nProiectul ONE Culture are ca obiective principale: creșterea competențelor transversale pentru participanții adulți prin metode și instrumente de învățare informală\, consolidarea competențelor formatorilor\, creșterea gradului de asumare a competențelor\, precum cetățenie globală\, și a valorilor europene în rândul beneficiarilor adulți.
URL:https://palatulculturii.ro/eveniment/prima-intalnire-in-cadrul-proiectului-erasmus-plus-one-culture/
END:VEVENT
BEGIN:VEVENT
DTSTART;TZID=Europe/Bucharest:20250131T120000
DTEND;TZID=Europe/Bucharest:20250131T133000
DTSTAMP:20260421T153140
CREATED:20250128T102750Z
LAST-MODIFIED:20250128T120022Z
UID:27575-1738324800-1738330200@palatulculturii.ro
SUMMARY:Eveniment de lansare de carte la Muzeul „Poni-Cernătescu”
DESCRIPTION:Muzeul Ştiinţei şi Tehnicii „Ştefan Procopiu” din cadrul Complexului Muzeal Naţional „Moldova” Iaşi vă invită vineri\, 31 ianuarie 2025\, începând cu ora 12.00\, la Muzeul „Poni-Cernătescu”\, situat pe Strada Mihail Kogălniceanu nr.7B\, la evenimentul de lansare a volumului „Replică și rezonanță în chimie”.\nCartea\, semnată de prof. univ. dr. dipl. chim. Mariana Bezdadea și cercetătorul științific I\, dr. ing. Sabina Olaru\, abordează conceptul de polimerizare matricială (replica)\, ca metodă inovatoare de preparare a materialelor inteligente\, incluzând membrane semipermeabile ce pot avea aplicații semnificative în domenii precum chimia și bioingineria. \n„Vă invităm să fiți alături de noi la această manifestare științifică și culturală\, pentru a celebra cunoașterea și inovația!”\, precizează Andrei Apreotesei\, Managerul Complexului Muzeal Național „Moldova” Iași. \nEvenimentul moderat de dr. ing. Monica Nănescu va avea loc în prezența autorilor și a dr. oenolog Viorel Ralea\, publicul având ocazia să afle mai multe despre cercetările și descoperirile recente din domeniul chimiei și tehnologiilor emergente. \nÎn încheierea acestui moment va avea loc un microrecital de vioară susținut de Ioana-Larisa Cașcaval\, elevă la Colegiul Național de Artă „Octav Băncilă” Iași\, îndrumată de prof. Marian Gorovei. La pian va acompania prof. dr. Loredana Filipescu. Programul muzical va include lucrări din creația compozitorilor Pierre Rode (Capriciul nr. 24)\, Johann Sebastian Bach (Partita I – Sarabande\, Double) și Henrik Wieniawski (Concertul nr. 2 în Re minor\, partea I). \nVă așteptăm cu drag!
URL:https://palatulculturii.ro/eveniment/eveniment-de-lansare-de-carte-la-muzeul-poni-cernatescu/
LOCATION:Muzeul „Poni – Cernătescu”\, Str. Mihail Kogălniceanu nr. 7B\, Iași\, Romania
CATEGORIES:Muzeul „Poni - Cernătescu”
ATTACH;FMTTYPE=image/jpeg:https://palatulculturii.ro/wp-content/uploads/2025/01/afis-carte-bezdadea-scaled.jpg
END:VEVENT
END:VCALENDAR