	BEGIN:VCALENDAR
VERSION:2.0
PRODID:-//Complex Muzeal Național „Moldova” Iași - ECPv6.0.12//NONSGML v1.0//EN
CALSCALE:GREGORIAN
METHOD:PUBLISH
X-ORIGINAL-URL:https://palatulculturii.ro
X-WR-CALDESC:Events for Complex Muzeal Național „Moldova” Iași
REFRESH-INTERVAL;VALUE=DURATION:PT1H
X-Robots-Tag:noindex
X-PUBLISHED-TTL:PT1H
BEGIN:VTIMEZONE
TZID:Europe/Bucharest
BEGIN:DAYLIGHT
TZOFFSETFROM:+0200
TZOFFSETTO:+0300
TZNAME:EEST
DTSTART:20260329T010000
END:DAYLIGHT
BEGIN:STANDARD
TZOFFSETFROM:+0300
TZOFFSETTO:+0200
TZNAME:EET
DTSTART:20261025T010000
END:STANDARD
END:VTIMEZONE
BEGIN:VEVENT
DTSTART;TZID=Europe/Bucharest:20260403T173000
DTEND;TZID=Europe/Bucharest:20260403T190000
DTSTAMP:20260422T110732
CREATED:20260401T101734Z
LAST-MODIFIED:20260402T084303Z
UID:39435-1775237400-1775242800@palatulculturii.ro
SUMMARY:Recital „Armonii sonore în prag de Florii”
DESCRIPTION:Complexul Muzeal Național „Moldova” Iași este partener al proiectului de cooperare Erasmus Plus „ONE Culture – Overcoming Nationalism and Euroscepticism through Culture”\, în domeniul educației adulților.Coordonat de European Network of Comics Representatives and Entrepreneurs (ENCRE)\, din Belgia\, parteneriatul include în structura sa organizații din alte cinci țări europene: Skill Up Srl din Italia\, Cap Ulysse din Franța\, Museumsverein Klostertal din Austria\, Quiosq din Olanda și Complexul Muzeal Național „Moldova” din România. „Ne bucurăm că prin proiectele europene derulate\, Palatul Culturii continuă să valorifice într-o manieră atractivă și accesibilă patrimoniul pe care îl deține\, creând resurse educaționale care să contribuie la dezvoltarea armonioasă a publicului larg”\, afirmă Andrei Apreotesei\, manager Palatul Culturii – Complexul Muzeal Național „Moldova” Iași. În perioada 4 – 6 februarie 2026\, la Palatul Culturii\, în cadrul Centrului Multicultural REVIVE\, se vor desfășura atât întâlnirea transnațională a proiectului\, cât și activitatea de învățare în cadrul căreia vor fi testate resurse precum kitul pentru formatori și kitul pentru cursanți\, dar și manualul creat pentru a facilita utilizarea acestora\, totul cu scopul de a contribui la învățarea intergenerațională și la promovarea valorilor europene de respect reciproc și responsabilitate civică. Proiectul\, cu o durată totală de 24 luni\, cuprinsă între noiembrie 2024 – octombrie 2026\, a inclus până în prezent alte două întâlniri transnaționale\, desfășurate în luna ianuarie 2025 la Bordeaux\, în Franța\, și respectiv în octombrie 2025 la Wald am Arlberg\, în Austria.
URL:https://palatulculturii.ro/eveniment/recital-armonii-sonore-in-prag-de-florii/
LOCATION:Palatul Culturii – Sala Voievozilor
CATEGORIES:Palatul Culturii
ATTACH;FMTTYPE=image/jpeg:https://palatulculturii.ro/wp-content/uploads/2026/04/Recital-Armonii-Sonore_afis-web.jpeg
END:VEVENT
BEGIN:VEVENT
DTSTART;TZID=Europe/Bucharest:20260410T090000
DTEND;TZID=Europe/Bucharest:20260413T220000
DTSTAMP:20260422T110732
CREATED:20260406T083444Z
LAST-MODIFIED:20260406T095026Z
UID:39609-1775811600-1776117600@palatulculturii.ro
SUMMARY:Palatul Culturii deschis în perioada Sărbătorilor Pascale 
DESCRIPTION:Complexul Muzeal Național „Moldova” Iași este partener al proiectului de cooperare Erasmus Plus „ONE Culture – Overcoming Nationalism and Euroscepticism through Culture”\, în domeniul educației adulților.Coordonat de European Network of Comics Representatives and Entrepreneurs (ENCRE)\, din Belgia\, parteneriatul include în structura sa organizații din alte cinci țări europene: Skill Up Srl din Italia\, Cap Ulysse din Franța\, Museumsverein Klostertal din Austria\, Quiosq din Olanda și Complexul Muzeal Național „Moldova” din România. „Ne bucurăm că prin proiectele europene derulate\, Palatul Culturii continuă să valorifice într-o manieră atractivă și accesibilă patrimoniul pe care îl deține\, creând resurse educaționale care să contribuie la dezvoltarea armonioasă a publicului larg”\, afirmă Andrei Apreotesei\, manager Palatul Culturii – Complexul Muzeal Național „Moldova” Iași. În perioada 4 – 6 februarie 2026\, la Palatul Culturii\, în cadrul Centrului Multicultural REVIVE\, se vor desfășura atât întâlnirea transnațională a proiectului\, cât și activitatea de învățare în cadrul căreia vor fi testate resurse precum kitul pentru formatori și kitul pentru cursanți\, dar și manualul creat pentru a facilita utilizarea acestora\, totul cu scopul de a contribui la învățarea intergenerațională și la promovarea valorilor europene de respect reciproc și responsabilitate civică. Proiectul\, cu o durată totală de 24 luni\, cuprinsă între noiembrie 2024 – octombrie 2026\, a inclus până în prezent alte două întâlniri transnaționale\, desfășurate în luna ianuarie 2025 la Bordeaux\, în Franța\, și respectiv în octombrie 2025 la Wald am Arlberg\, în Austria.
URL:https://palatulculturii.ro/eveniment/palatul-culturii-deschis-in-perioada-sarbatorilor-pascale/
CATEGORIES:Palatul Culturii
ATTACH;FMTTYPE=image/jpeg:https://palatulculturii.ro/wp-content/uploads/2026/04/Program-CMNM-Palatul-Culturii.jpg
END:VEVENT
BEGIN:VEVENT
DTSTART;TZID=Europe/Bucharest:20260414T190000
DTEND;TZID=Europe/Bucharest:20260414T200000
DTSTAMP:20260422T110732
CREATED:20260414T084904Z
LAST-MODIFIED:20260414T085914Z
UID:39653-1776193200-1776196800@palatulculturii.ro
SUMMARY:Concert la Palat: „Tribut Maria Tănase”
DESCRIPTION:Complexul Muzeal Național „Moldova” Iași este partener al proiectului de cooperare Erasmus Plus „ONE Culture – Overcoming Nationalism and Euroscepticism through Culture”\, în domeniul educației adulților.Coordonat de European Network of Comics Representatives and Entrepreneurs (ENCRE)\, din Belgia\, parteneriatul include în structura sa organizații din alte cinci țări europene: Skill Up Srl din Italia\, Cap Ulysse din Franța\, Museumsverein Klostertal din Austria\, Quiosq din Olanda și Complexul Muzeal Național „Moldova” din România. „Ne bucurăm că prin proiectele europene derulate\, Palatul Culturii continuă să valorifice într-o manieră atractivă și accesibilă patrimoniul pe care îl deține\, creând resurse educaționale care să contribuie la dezvoltarea armonioasă a publicului larg”\, afirmă Andrei Apreotesei\, manager Palatul Culturii – Complexul Muzeal Național „Moldova” Iași. În perioada 4 – 6 februarie 2026\, la Palatul Culturii\, în cadrul Centrului Multicultural REVIVE\, se vor desfășura atât întâlnirea transnațională a proiectului\, cât și activitatea de învățare în cadrul căreia vor fi testate resurse precum kitul pentru formatori și kitul pentru cursanți\, dar și manualul creat pentru a facilita utilizarea acestora\, totul cu scopul de a contribui la învățarea intergenerațională și la promovarea valorilor europene de respect reciproc și responsabilitate civică. Proiectul\, cu o durată totală de 24 luni\, cuprinsă între noiembrie 2024 – octombrie 2026\, a inclus până în prezent alte două întâlniri transnaționale\, desfășurate în luna ianuarie 2025 la Bordeaux\, în Franța\, și respectiv în octombrie 2025 la Wald am Arlberg\, în Austria.
URL:https://palatulculturii.ro/eveniment/concert-la-palat-tribut-maria-tanase/
LOCATION:Palatul Culturii din Iași – Sala Voievozilor
CATEGORIES:Palatul Culturii
ATTACH;FMTTYPE=image/jpeg:https://palatulculturii.ro/wp-content/uploads/2026/04/palat-maria.jpeg
END:VEVENT
BEGIN:VEVENT
DTSTART;TZID=Europe/Bucharest:20260417T190000
DTEND;TZID=Europe/Bucharest:20260417T203000
DTSTAMP:20260422T110732
CREATED:20260416T133830Z
LAST-MODIFIED:20260416T133858Z
UID:39723-1776452400-1776457800@palatulculturii.ro
SUMMARY:„O seară la Palat” – concert susținut de Orchestra Simfonică Națională „Teleradio-Moldova”
DESCRIPTION:Complexul Muzeal Național „Moldova” Iași este partener al proiectului de cooperare Erasmus Plus „ONE Culture – Overcoming Nationalism and Euroscepticism through Culture”\, în domeniul educației adulților.Coordonat de European Network of Comics Representatives and Entrepreneurs (ENCRE)\, din Belgia\, parteneriatul include în structura sa organizații din alte cinci țări europene: Skill Up Srl din Italia\, Cap Ulysse din Franța\, Museumsverein Klostertal din Austria\, Quiosq din Olanda și Complexul Muzeal Național „Moldova” din România. „Ne bucurăm că prin proiectele europene derulate\, Palatul Culturii continuă să valorifice într-o manieră atractivă și accesibilă patrimoniul pe care îl deține\, creând resurse educaționale care să contribuie la dezvoltarea armonioasă a publicului larg”\, afirmă Andrei Apreotesei\, manager Palatul Culturii – Complexul Muzeal Național „Moldova” Iași. În perioada 4 – 6 februarie 2026\, la Palatul Culturii\, în cadrul Centrului Multicultural REVIVE\, se vor desfășura atât întâlnirea transnațională a proiectului\, cât și activitatea de învățare în cadrul căreia vor fi testate resurse precum kitul pentru formatori și kitul pentru cursanți\, dar și manualul creat pentru a facilita utilizarea acestora\, totul cu scopul de a contribui la învățarea intergenerațională și la promovarea valorilor europene de respect reciproc și responsabilitate civică. Proiectul\, cu o durată totală de 24 luni\, cuprinsă între noiembrie 2024 – octombrie 2026\, a inclus până în prezent alte două întâlniri transnaționale\, desfășurate în luna ianuarie 2025 la Bordeaux\, în Franța\, și respectiv în octombrie 2025 la Wald am Arlberg\, în Austria.
URL:https://palatulculturii.ro/eveniment/o-seara-la-palat-concert-sustinut-de-orchestra-simfonica-nationala-teleradio-moldova/
LOCATION:Palatul Culturii – Sala Voievozilor
CATEGORIES:Palatul Culturii
ATTACH;FMTTYPE=image/jpeg:https://palatulculturii.ro/wp-content/uploads/2026/04/o-seara-la-palat_afis.jpeg
END:VEVENT
BEGIN:VEVENT
DTSTART;VALUE=DATE:20260418
DTEND;VALUE=DATE:20260420
DTSTAMP:20260422T110732
CREATED:20260416T130017Z
LAST-MODIFIED:20260417T074513Z
UID:39692-1776470400-1776643199@palatulculturii.ro
SUMMARY:„Taine” - Concert caritabil la Palatul Culturii
DESCRIPTION:Complexul Muzeal Național „Moldova” Iași este partener al proiectului de cooperare Erasmus Plus „ONE Culture – Overcoming Nationalism and Euroscepticism through Culture”\, în domeniul educației adulților.Coordonat de European Network of Comics Representatives and Entrepreneurs (ENCRE)\, din Belgia\, parteneriatul include în structura sa organizații din alte cinci țări europene: Skill Up Srl din Italia\, Cap Ulysse din Franța\, Museumsverein Klostertal din Austria\, Quiosq din Olanda și Complexul Muzeal Național „Moldova” din România. „Ne bucurăm că prin proiectele europene derulate\, Palatul Culturii continuă să valorifice într-o manieră atractivă și accesibilă patrimoniul pe care îl deține\, creând resurse educaționale care să contribuie la dezvoltarea armonioasă a publicului larg”\, afirmă Andrei Apreotesei\, manager Palatul Culturii – Complexul Muzeal Național „Moldova” Iași. În perioada 4 – 6 februarie 2026\, la Palatul Culturii\, în cadrul Centrului Multicultural REVIVE\, se vor desfășura atât întâlnirea transnațională a proiectului\, cât și activitatea de învățare în cadrul căreia vor fi testate resurse precum kitul pentru formatori și kitul pentru cursanți\, dar și manualul creat pentru a facilita utilizarea acestora\, totul cu scopul de a contribui la învățarea intergenerațională și la promovarea valorilor europene de respect reciproc și responsabilitate civică. Proiectul\, cu o durată totală de 24 luni\, cuprinsă între noiembrie 2024 – octombrie 2026\, a inclus până în prezent alte două întâlniri transnaționale\, desfășurate în luna ianuarie 2025 la Bordeaux\, în Franța\, și respectiv în octombrie 2025 la Wald am Arlberg\, în Austria.
URL:https://palatulculturii.ro/eveniment/taine-concert-caritabil-la-palatul-culturii/
CATEGORIES:Palatul Culturii
ATTACH;FMTTYPE=image/jpeg:https://palatulculturii.ro/wp-content/uploads/2026/04/Concerte-caritabile_Salvati-Copiii_Palatul-Culturii.jpg
END:VEVENT
BEGIN:VEVENT
DTSTART;TZID=Europe/Bucharest:20260421T190000
DTEND;TZID=Europe/Bucharest:20260421T200000
DTSTAMP:20260422T110732
CREATED:20260414T091607Z
LAST-MODIFIED:20260420T081538Z
UID:39654-1776798000-1776801600@palatulculturii.ro
SUMMARY:Concert la Palat: „Concertmaestro” - Liviu Prunaru
DESCRIPTION:Complexul Muzeal Național „Moldova” Iași este partener al proiectului de cooperare Erasmus Plus „ONE Culture – Overcoming Nationalism and Euroscepticism through Culture”\, în domeniul educației adulților.Coordonat de European Network of Comics Representatives and Entrepreneurs (ENCRE)\, din Belgia\, parteneriatul include în structura sa organizații din alte cinci țări europene: Skill Up Srl din Italia\, Cap Ulysse din Franța\, Museumsverein Klostertal din Austria\, Quiosq din Olanda și Complexul Muzeal Național „Moldova” din România. „Ne bucurăm că prin proiectele europene derulate\, Palatul Culturii continuă să valorifice într-o manieră atractivă și accesibilă patrimoniul pe care îl deține\, creând resurse educaționale care să contribuie la dezvoltarea armonioasă a publicului larg”\, afirmă Andrei Apreotesei\, manager Palatul Culturii – Complexul Muzeal Național „Moldova” Iași. În perioada 4 – 6 februarie 2026\, la Palatul Culturii\, în cadrul Centrului Multicultural REVIVE\, se vor desfășura atât întâlnirea transnațională a proiectului\, cât și activitatea de învățare în cadrul căreia vor fi testate resurse precum kitul pentru formatori și kitul pentru cursanți\, dar și manualul creat pentru a facilita utilizarea acestora\, totul cu scopul de a contribui la învățarea intergenerațională și la promovarea valorilor europene de respect reciproc și responsabilitate civică. Proiectul\, cu o durată totală de 24 luni\, cuprinsă între noiembrie 2024 – octombrie 2026\, a inclus până în prezent alte două întâlniri transnaționale\, desfășurate în luna ianuarie 2025 la Bordeaux\, în Franța\, și respectiv în octombrie 2025 la Wald am Arlberg\, în Austria.
URL:https://palatulculturii.ro/eveniment/concert-la-palat-concertmaestro-liviu-prunaru/
LOCATION:Palatul Culturii din Iași – Sala Voievozilor
CATEGORIES:Palatul Culturii
ATTACH;FMTTYPE=image/jpeg:https://palatulculturii.ro/wp-content/uploads/2026/04/21-aprilie-palat.jpeg
END:VEVENT
BEGIN:VEVENT
DTSTART;TZID=Europe/Bucharest:20260422T183000
DTEND;TZID=Europe/Bucharest:20260422T193000
DTSTAMP:20260422T110732
CREATED:20260415T115222Z
LAST-MODIFIED:20260421T061600Z
UID:39677-1776882600-1776886200@palatulculturii.ro
SUMMARY:Concert la Palat: „Poezie în sunet și culoare”
DESCRIPTION:Complexul Muzeal Național „Moldova” Iași este partener al proiectului de cooperare Erasmus Plus „ONE Culture – Overcoming Nationalism and Euroscepticism through Culture”\, în domeniul educației adulților.Coordonat de European Network of Comics Representatives and Entrepreneurs (ENCRE)\, din Belgia\, parteneriatul include în structura sa organizații din alte cinci țări europene: Skill Up Srl din Italia\, Cap Ulysse din Franța\, Museumsverein Klostertal din Austria\, Quiosq din Olanda și Complexul Muzeal Național „Moldova” din România. „Ne bucurăm că prin proiectele europene derulate\, Palatul Culturii continuă să valorifice într-o manieră atractivă și accesibilă patrimoniul pe care îl deține\, creând resurse educaționale care să contribuie la dezvoltarea armonioasă a publicului larg”\, afirmă Andrei Apreotesei\, manager Palatul Culturii – Complexul Muzeal Național „Moldova” Iași. În perioada 4 – 6 februarie 2026\, la Palatul Culturii\, în cadrul Centrului Multicultural REVIVE\, se vor desfășura atât întâlnirea transnațională a proiectului\, cât și activitatea de învățare în cadrul căreia vor fi testate resurse precum kitul pentru formatori și kitul pentru cursanți\, dar și manualul creat pentru a facilita utilizarea acestora\, totul cu scopul de a contribui la învățarea intergenerațională și la promovarea valorilor europene de respect reciproc și responsabilitate civică. Proiectul\, cu o durată totală de 24 luni\, cuprinsă între noiembrie 2024 – octombrie 2026\, a inclus până în prezent alte două întâlniri transnaționale\, desfășurate în luna ianuarie 2025 la Bordeaux\, în Franța\, și respectiv în octombrie 2025 la Wald am Arlberg\, în Austria.
URL:https://palatulculturii.ro/eveniment/concert-la-palat-poezie-in-sunet-si-culoare/
LOCATION:Palatul Culturii din Iași – Sala Voievozilor
CATEGORIES:Palatul Culturii
ATTACH;FMTTYPE=image/jpeg:https://palatulculturii.ro/wp-content/uploads/2026/04/Concert-Opera-22-apr_afis.jpeg
END:VEVENT
END:VCALENDAR