	BEGIN:VCALENDAR
VERSION:2.0
PRODID:-//Complex Muzeal Național „Moldova” Iași - ECPv6.0.12//NONSGML v1.0//EN
CALSCALE:GREGORIAN
METHOD:PUBLISH
X-WR-CALNAME:Complex Muzeal Național „Moldova” Iași
X-ORIGINAL-URL:https://palatulculturii.ro
X-WR-CALDESC:Events for Complex Muzeal Național „Moldova” Iași
REFRESH-INTERVAL;VALUE=DURATION:PT1H
X-Robots-Tag:noindex
X-PUBLISHED-TTL:PT1H
BEGIN:VTIMEZONE
TZID:Europe/Bucharest
BEGIN:DAYLIGHT
TZOFFSETFROM:+0200
TZOFFSETTO:+0300
TZNAME:EEST
DTSTART:20250330T010000
END:DAYLIGHT
BEGIN:STANDARD
TZOFFSETFROM:+0300
TZOFFSETTO:+0200
TZNAME:EET
DTSTART:20251026T010000
END:STANDARD
END:VTIMEZONE
BEGIN:VEVENT
DTSTART;TZID=Europe/Bucharest:20251001T100000
DTEND;TZID=Europe/Bucharest:20251031T160000
DTSTAMP:20260422T075126
CREATED:20251004T103348Z
LAST-MODIFIED:20251031T140652Z
UID:35672-1759312800-1761926400@palatulculturii.ro
SUMMARY:Programul lunii octombrie la Palatul Culturii
DESCRIPTION:Complexul Muzeal Național „Moldova” Iași\, în parteneriat cu „Teleradio Moldova” – Republica Moldova\, invită publicul la un eveniment muzical special: „O seară la Palat”.Evenimentul va avea loc vineri\, 17 aprilie 2026\, de la ora 19.00\, în Sala Voievozilor de la Palatul Culturii. Sub bagheta dirijorului Andrei Zapșa\, Orchestra Simfonică Națională a Companiei „Teleradio-Moldova” va interpreta lucrări semnate de J.S. Bach\, W.A. Mozart\, G. Enescu\, G.F. Handel\, E. Grieg\, G. Bizet\, Gh. Mustea\, M. Skoryk și alți mari compozitori\, într-un program artistic de mare rafinament. „Invităm publicul să se bucure de întâlnirea cu prestigioșii artiști din Republica Moldova și de această seară de excepție\, dedicată muzicii și dialogului cultural”\, afirmă Andrei Apreotesei\, manager Palatul Culturii – Complexul Muzeal Național „Moldova” Iași. La acest eveniment\, intrarea este liberă\, în limita locurilor disponibile.
URL:https://palatulculturii.ro/eveniment/program-octombrie-2025-la-palat/
CATEGORIES:Noutăți,Palatul Culturii
ATTACH;FMTTYPE=image/jpeg:https://palatulculturii.ro/wp-content/uploads/2025/10/PROGRAM-OCTOMBRIE-PALATUL-CULTURII-scaled.jpg
END:VEVENT
BEGIN:VEVENT
DTSTART;TZID=Europe/Bucharest:20251003T100000
DTEND;TZID=Europe/Bucharest:20251005T180000
DTSTAMP:20260422T075126
CREATED:20250926T123632Z
LAST-MODIFIED:20251002T124456Z
UID:35533-1759485600-1759687200@palatulculturii.ro
SUMMARY:„Mineral Show” revine la Palatul Culturii
DESCRIPTION:Complexul Muzeal Național „Moldova” Iași\, în parteneriat cu „Teleradio Moldova” – Republica Moldova\, invită publicul la un eveniment muzical special: „O seară la Palat”.Evenimentul va avea loc vineri\, 17 aprilie 2026\, de la ora 19.00\, în Sala Voievozilor de la Palatul Culturii. Sub bagheta dirijorului Andrei Zapșa\, Orchestra Simfonică Națională a Companiei „Teleradio-Moldova” va interpreta lucrări semnate de J.S. Bach\, W.A. Mozart\, G. Enescu\, G.F. Handel\, E. Grieg\, G. Bizet\, Gh. Mustea\, M. Skoryk și alți mari compozitori\, într-un program artistic de mare rafinament. „Invităm publicul să se bucure de întâlnirea cu prestigioșii artiști din Republica Moldova și de această seară de excepție\, dedicată muzicii și dialogului cultural”\, afirmă Andrei Apreotesei\, manager Palatul Culturii – Complexul Muzeal Național „Moldova” Iași. La acest eveniment\, intrarea este liberă\, în limita locurilor disponibile.
URL:https://palatulculturii.ro/eveniment/mineral-show-revine-la-palatul-culturii/
LOCATION:Palatul Culturii – Muzeul Științei și Tehnicii „Ștefan Procopiu”
CATEGORIES:Palatul Culturii
ATTACH;FMTTYPE=image/jpeg:https://palatulculturii.ro/wp-content/uploads/2025/09/Expo-Minerale_oct-2025_afis-web.jpg
END:VEVENT
BEGIN:VEVENT
DTSTART;TZID=Europe/Bucharest:20251013T080000
DTEND;TZID=Europe/Bucharest:20251013T170000
DTSTAMP:20260422T075126
CREATED:20251013T120430Z
LAST-MODIFIED:20251014T061708Z
UID:36051-1760342400-1760374800@palatulculturii.ro
SUMMARY:Concert caritabil „PER TE” – solidaritate prin muzică pentru copiii  români orfani de război din raionul Cernăuți
DESCRIPTION:Complexul Muzeal Național „Moldova” Iași\, în parteneriat cu „Teleradio Moldova” – Republica Moldova\, invită publicul la un eveniment muzical special: „O seară la Palat”.Evenimentul va avea loc vineri\, 17 aprilie 2026\, de la ora 19.00\, în Sala Voievozilor de la Palatul Culturii. Sub bagheta dirijorului Andrei Zapșa\, Orchestra Simfonică Națională a Companiei „Teleradio-Moldova” va interpreta lucrări semnate de J.S. Bach\, W.A. Mozart\, G. Enescu\, G.F. Handel\, E. Grieg\, G. Bizet\, Gh. Mustea\, M. Skoryk și alți mari compozitori\, într-un program artistic de mare rafinament. „Invităm publicul să se bucure de întâlnirea cu prestigioșii artiști din Republica Moldova și de această seară de excepție\, dedicată muzicii și dialogului cultural”\, afirmă Andrei Apreotesei\, manager Palatul Culturii – Complexul Muzeal Național „Moldova” Iași. La acest eveniment\, intrarea este liberă\, în limita locurilor disponibile.
URL:https://palatulculturii.ro/eveniment/concert-caritabil-per-te-solidaritate-prin-muzica-pentru-copiii-romani-orfani-de-razboi-din-raionul-cernauti/
CATEGORIES:Palatul Culturii
ATTACH;FMTTYPE=image/jpeg:https://palatulculturii.ro/wp-content/uploads/2025/10/20251019-concert-palat-caritabil-1.jpg
END:VEVENT
BEGIN:VEVENT
DTSTART;TZID=Europe/Bucharest:20251016T170000
DTEND;TZID=Europe/Bucharest:20251016T180000
DTSTAMP:20260422T075126
CREATED:20251010T105117Z
LAST-MODIFIED:20251010T105321Z
UID:35784-1760634000-1760637600@palatulculturii.ro
SUMMARY:Conferință la Palat: „Limba română ca istorie”\, susținută de Acad. Ioan - Aurel Pop\, președintele Academiei Române
DESCRIPTION:Complexul Muzeal Național „Moldova” Iași\, în parteneriat cu „Teleradio Moldova” – Republica Moldova\, invită publicul la un eveniment muzical special: „O seară la Palat”.Evenimentul va avea loc vineri\, 17 aprilie 2026\, de la ora 19.00\, în Sala Voievozilor de la Palatul Culturii. Sub bagheta dirijorului Andrei Zapșa\, Orchestra Simfonică Națională a Companiei „Teleradio-Moldova” va interpreta lucrări semnate de J.S. Bach\, W.A. Mozart\, G. Enescu\, G.F. Handel\, E. Grieg\, G. Bizet\, Gh. Mustea\, M. Skoryk și alți mari compozitori\, într-un program artistic de mare rafinament. „Invităm publicul să se bucure de întâlnirea cu prestigioșii artiști din Republica Moldova și de această seară de excepție\, dedicată muzicii și dialogului cultural”\, afirmă Andrei Apreotesei\, manager Palatul Culturii – Complexul Muzeal Național „Moldova” Iași. La acest eveniment\, intrarea este liberă\, în limita locurilor disponibile.
URL:https://palatulculturii.ro/eveniment/conferinta-la-palat-limba-romana-ca-istorie-sustinuta-de-acad-ioan-aurel-pop-presedintele-academiei-romane/
CATEGORIES:Palatul Culturii
ATTACH;FMTTYPE=image/jpeg:https://palatulculturii.ro/wp-content/uploads/2025/10/Conferinta-Ioan-Aurel-Pop_afis.jpeg
END:VEVENT
BEGIN:VEVENT
DTSTART;TZID=Europe/Bucharest:20251018T140000
DTEND;TZID=Europe/Bucharest:20251018T150000
DTSTAMP:20260422T075126
CREATED:20251010T074732Z
LAST-MODIFIED:20251010T074904Z
UID:35780-1760796000-1760799600@palatulculturii.ro
SUMMARY:Discuție filosofică „Artistul Cucuteni – Modelarea lutului și a propriei vieți”
DESCRIPTION:Complexul Muzeal Național „Moldova” Iași\, în parteneriat cu „Teleradio Moldova” – Republica Moldova\, invită publicul la un eveniment muzical special: „O seară la Palat”.Evenimentul va avea loc vineri\, 17 aprilie 2026\, de la ora 19.00\, în Sala Voievozilor de la Palatul Culturii. Sub bagheta dirijorului Andrei Zapșa\, Orchestra Simfonică Națională a Companiei „Teleradio-Moldova” va interpreta lucrări semnate de J.S. Bach\, W.A. Mozart\, G. Enescu\, G.F. Handel\, E. Grieg\, G. Bizet\, Gh. Mustea\, M. Skoryk și alți mari compozitori\, într-un program artistic de mare rafinament. „Invităm publicul să se bucure de întâlnirea cu prestigioșii artiști din Republica Moldova și de această seară de excepție\, dedicată muzicii și dialogului cultural”\, afirmă Andrei Apreotesei\, manager Palatul Culturii – Complexul Muzeal Național „Moldova” Iași. La acest eveniment\, intrarea este liberă\, în limita locurilor disponibile.
URL:https://palatulculturii.ro/eveniment/discutie-filosofica-artistul-cucuteni-modelarea-lutului-si-a-propriei-vieti/
CATEGORIES:Palatul Culturii
ATTACH;FMTTYPE=image/png:https://palatulculturii.ro/wp-content/uploads/2025/10/Prelegere-afis-A3.png
END:VEVENT
BEGIN:VEVENT
DTSTART;TZID=Europe/Bucharest:20251021T190000
DTEND;TZID=Europe/Bucharest:20251021T200000
DTSTAMP:20260422T075126
CREATED:20251021T065437Z
LAST-MODIFIED:20251104T081415Z
UID:36314-1761073200-1761076800@palatulculturii.ro
SUMMARY:„Concert la Palat”: „La fereastra cu pisică”
DESCRIPTION:Complexul Muzeal Național „Moldova” Iași\, în parteneriat cu „Teleradio Moldova” – Republica Moldova\, invită publicul la un eveniment muzical special: „O seară la Palat”.Evenimentul va avea loc vineri\, 17 aprilie 2026\, de la ora 19.00\, în Sala Voievozilor de la Palatul Culturii. Sub bagheta dirijorului Andrei Zapșa\, Orchestra Simfonică Națională a Companiei „Teleradio-Moldova” va interpreta lucrări semnate de J.S. Bach\, W.A. Mozart\, G. Enescu\, G.F. Handel\, E. Grieg\, G. Bizet\, Gh. Mustea\, M. Skoryk și alți mari compozitori\, într-un program artistic de mare rafinament. „Invităm publicul să se bucure de întâlnirea cu prestigioșii artiști din Republica Moldova și de această seară de excepție\, dedicată muzicii și dialogului cultural”\, afirmă Andrei Apreotesei\, manager Palatul Culturii – Complexul Muzeal Național „Moldova” Iași. La acest eveniment\, intrarea este liberă\, în limita locurilor disponibile.
URL:https://palatulculturii.ro/eveniment/concert-la-palat-la-fereastra-cu-pisica/
CATEGORIES:Palatul Culturii
ATTACH;FMTTYPE=image/jpeg:https://palatulculturii.ro/wp-content/uploads/2025/10/Concet-la-Palat_21-oct.jpg
END:VEVENT
BEGIN:VEVENT
DTSTART;TZID=Europe/Bucharest:20251023T200000
DTEND;TZID=Europe/Bucharest:20251023T210000
DTSTAMP:20260422T075126
CREATED:20251023T093121Z
LAST-MODIFIED:20251023T144553Z
UID:36422-1761249600-1761253200@palatulculturii.ro
SUMMARY:Concert de muzică veche la Palat: Ansamblul „Anton Pann” 
DESCRIPTION:Complexul Muzeal Național „Moldova” Iași\, în parteneriat cu „Teleradio Moldova” – Republica Moldova\, invită publicul la un eveniment muzical special: „O seară la Palat”.Evenimentul va avea loc vineri\, 17 aprilie 2026\, de la ora 19.00\, în Sala Voievozilor de la Palatul Culturii. Sub bagheta dirijorului Andrei Zapșa\, Orchestra Simfonică Națională a Companiei „Teleradio-Moldova” va interpreta lucrări semnate de J.S. Bach\, W.A. Mozart\, G. Enescu\, G.F. Handel\, E. Grieg\, G. Bizet\, Gh. Mustea\, M. Skoryk și alți mari compozitori\, într-un program artistic de mare rafinament. „Invităm publicul să se bucure de întâlnirea cu prestigioșii artiști din Republica Moldova și de această seară de excepție\, dedicată muzicii și dialogului cultural”\, afirmă Andrei Apreotesei\, manager Palatul Culturii – Complexul Muzeal Național „Moldova” Iași. La acest eveniment\, intrarea este liberă\, în limita locurilor disponibile.
URL:https://palatulculturii.ro/eveniment/concert-de-muzica-veche-la-palat-ansamblul-anton-pann/
CATEGORIES:Palatul Culturii
ATTACH;FMTTYPE=image/jpeg:https://palatulculturii.ro/wp-content/uploads/2025/10/Ansamblul-Anton-Pann.jpg
END:VEVENT
BEGIN:VEVENT
DTSTART;VALUE=DATE:20251024
DTEND;VALUE=DATE:20251027
DTSTAMP:20260422T075126
CREATED:20251020T085929Z
LAST-MODIFIED:20251020T090523Z
UID:36235-1761264000-1761523199@palatulculturii.ro
SUMMARY:Conferință etno-didactică și Târg al meșterilor populari la Palatul Culturii din Iași
DESCRIPTION:Complexul Muzeal Național „Moldova” Iași\, în parteneriat cu „Teleradio Moldova” – Republica Moldova\, invită publicul la un eveniment muzical special: „O seară la Palat”.Evenimentul va avea loc vineri\, 17 aprilie 2026\, de la ora 19.00\, în Sala Voievozilor de la Palatul Culturii. Sub bagheta dirijorului Andrei Zapșa\, Orchestra Simfonică Națională a Companiei „Teleradio-Moldova” va interpreta lucrări semnate de J.S. Bach\, W.A. Mozart\, G. Enescu\, G.F. Handel\, E. Grieg\, G. Bizet\, Gh. Mustea\, M. Skoryk și alți mari compozitori\, într-un program artistic de mare rafinament. „Invităm publicul să se bucure de întâlnirea cu prestigioșii artiști din Republica Moldova și de această seară de excepție\, dedicată muzicii și dialogului cultural”\, afirmă Andrei Apreotesei\, manager Palatul Culturii – Complexul Muzeal Național „Moldova” Iași. La acest eveniment\, intrarea este liberă\, în limita locurilor disponibile.
URL:https://palatulculturii.ro/eveniment/conferinta-etno-didactica-si-targ-al-mesterilor-populari-la-palatul-culturii-din-iasi/
CATEGORIES:Muzeul Etnografic al Moldovei,Noutăți,Palatul Culturii
ATTACH;FMTTYPE=image/jpeg:https://palatulculturii.ro/wp-content/uploads/2025/10/Targ-si-conferinta-etno_didactica.jpeg
END:VEVENT
BEGIN:VEVENT
DTSTART;TZID=Europe/Bucharest:20251025T090000
DTEND;TZID=Europe/Bucharest:20251025T220000
DTSTAMP:20260422T075126
CREATED:20251022T101336Z
LAST-MODIFIED:20260206T080458Z
UID:36375-1761382800-1761429600@palatulculturii.ro
SUMMARY:MAMUTUL DE LA PALAT. Singurul craniu de Mammuthus trogontherii din România
DESCRIPTION:Complexul Muzeal Național „Moldova” Iași\, în parteneriat cu „Teleradio Moldova” – Republica Moldova\, invită publicul la un eveniment muzical special: „O seară la Palat”.Evenimentul va avea loc vineri\, 17 aprilie 2026\, de la ora 19.00\, în Sala Voievozilor de la Palatul Culturii. Sub bagheta dirijorului Andrei Zapșa\, Orchestra Simfonică Națională a Companiei „Teleradio-Moldova” va interpreta lucrări semnate de J.S. Bach\, W.A. Mozart\, G. Enescu\, G.F. Handel\, E. Grieg\, G. Bizet\, Gh. Mustea\, M. Skoryk și alți mari compozitori\, într-un program artistic de mare rafinament. „Invităm publicul să se bucure de întâlnirea cu prestigioșii artiști din Republica Moldova și de această seară de excepție\, dedicată muzicii și dialogului cultural”\, afirmă Andrei Apreotesei\, manager Palatul Culturii – Complexul Muzeal Național „Moldova” Iași. La acest eveniment\, intrarea este liberă\, în limita locurilor disponibile.
URL:https://palatulculturii.ro/eveniment/mamutul-de-la-palat-singurul-craniu-de-mammuthus-trogontherii-din-romania/
LOCATION:Holul de Onoare – Palatul Culturii din Iași
CATEGORIES:Palatul Culturii
ATTACH;FMTTYPE=image/jpeg:https://palatulculturii.ro/wp-content/uploads/2025/10/MAMUTUL-DE-LA-PALAT.jpg
END:VEVENT
BEGIN:VEVENT
DTSTART;TZID=Europe/Bucharest:20251027T190000
DTEND;TZID=Europe/Bucharest:20251027T203000
DTSTAMP:20260422T075126
CREATED:20251027T095409Z
LAST-MODIFIED:20251027T095418Z
UID:36434-1761591600-1761597000@palatulculturii.ro
SUMMARY:Spectacol aniversar „Inter Artes” la Palatul Culturii
DESCRIPTION:Complexul Muzeal Național „Moldova” Iași\, în parteneriat cu „Teleradio Moldova” – Republica Moldova\, invită publicul la un eveniment muzical special: „O seară la Palat”.Evenimentul va avea loc vineri\, 17 aprilie 2026\, de la ora 19.00\, în Sala Voievozilor de la Palatul Culturii. Sub bagheta dirijorului Andrei Zapșa\, Orchestra Simfonică Națională a Companiei „Teleradio-Moldova” va interpreta lucrări semnate de J.S. Bach\, W.A. Mozart\, G. Enescu\, G.F. Handel\, E. Grieg\, G. Bizet\, Gh. Mustea\, M. Skoryk și alți mari compozitori\, într-un program artistic de mare rafinament. „Invităm publicul să se bucure de întâlnirea cu prestigioșii artiști din Republica Moldova și de această seară de excepție\, dedicată muzicii și dialogului cultural”\, afirmă Andrei Apreotesei\, manager Palatul Culturii – Complexul Muzeal Național „Moldova” Iași. La acest eveniment\, intrarea este liberă\, în limita locurilor disponibile.
URL:https://palatulculturii.ro/eveniment/spectacol-aniversar-inter-artes-la-palatul-culturii/
CATEGORIES:Palatul Culturii
ATTACH;FMTTYPE=image/jpeg:https://palatulculturii.ro/wp-content/uploads/2025/10/Eveniment-UNAGE-27-OCT.jpg
END:VEVENT
BEGIN:VEVENT
DTSTART;TZID=Europe/Bucharest:20251028T183000
DTEND;TZID=Europe/Bucharest:20251028T190000
DTSTAMP:20260422T075126
CREATED:20251027T122630Z
LAST-MODIFIED:20251028T122659Z
UID:36462-1761676200-1761678000@palatulculturii.ro
SUMMARY:Concert la Palat: Aniversare Adina Alupei | Soprana Elena Moșuc\, alături de soliști ai Operei ieșene
DESCRIPTION:Complexul Muzeal Național „Moldova” Iași\, în parteneriat cu „Teleradio Moldova” – Republica Moldova\, invită publicul la un eveniment muzical special: „O seară la Palat”.Evenimentul va avea loc vineri\, 17 aprilie 2026\, de la ora 19.00\, în Sala Voievozilor de la Palatul Culturii. Sub bagheta dirijorului Andrei Zapșa\, Orchestra Simfonică Națională a Companiei „Teleradio-Moldova” va interpreta lucrări semnate de J.S. Bach\, W.A. Mozart\, G. Enescu\, G.F. Handel\, E. Grieg\, G. Bizet\, Gh. Mustea\, M. Skoryk și alți mari compozitori\, într-un program artistic de mare rafinament. „Invităm publicul să se bucure de întâlnirea cu prestigioșii artiști din Republica Moldova și de această seară de excepție\, dedicată muzicii și dialogului cultural”\, afirmă Andrei Apreotesei\, manager Palatul Culturii – Complexul Muzeal Național „Moldova” Iași. La acest eveniment\, intrarea este liberă\, în limita locurilor disponibile.
URL:https://palatulculturii.ro/eveniment/concert-la-palat-aniversare-adina-alupei-soprana-elena-mosuc-alaturi-de-solisti-ai-operei-iesene/
LOCATION:Holul de Onoare – Palatul Culturii din Iași
CATEGORIES:Palatul Culturii
ATTACH;FMTTYPE=image/jpeg:https://palatulculturii.ro/wp-content/uploads/2025/10/Concert-la-Palat-Opera-28.jpg
END:VEVENT
BEGIN:VEVENT
DTSTART;VALUE=DATE:20251031
DTEND;VALUE=DATE:20251201
DTSTAMP:20260422T075126
CREATED:20251031T135954Z
LAST-MODIFIED:20251031T141755Z
UID:36579-1761868800-1764547199@palatulculturii.ro
SUMMARY:Noiembrie la Palatul Culturii – o lună bogată în evenimente
DESCRIPTION:Complexul Muzeal Național „Moldova” Iași\, în parteneriat cu „Teleradio Moldova” – Republica Moldova\, invită publicul la un eveniment muzical special: „O seară la Palat”.Evenimentul va avea loc vineri\, 17 aprilie 2026\, de la ora 19.00\, în Sala Voievozilor de la Palatul Culturii. Sub bagheta dirijorului Andrei Zapșa\, Orchestra Simfonică Națională a Companiei „Teleradio-Moldova” va interpreta lucrări semnate de J.S. Bach\, W.A. Mozart\, G. Enescu\, G.F. Handel\, E. Grieg\, G. Bizet\, Gh. Mustea\, M. Skoryk și alți mari compozitori\, într-un program artistic de mare rafinament. „Invităm publicul să se bucure de întâlnirea cu prestigioșii artiști din Republica Moldova și de această seară de excepție\, dedicată muzicii și dialogului cultural”\, afirmă Andrei Apreotesei\, manager Palatul Culturii – Complexul Muzeal Național „Moldova” Iași. La acest eveniment\, intrarea este liberă\, în limita locurilor disponibile.
URL:https://palatulculturii.ro/eveniment/noiembrie-la-palatul-culturii-o-luna-bogata-in-evenimente/
CATEGORIES:Noutăți,Palatul Culturii
ATTACH;FMTTYPE=image/jpeg:https://palatulculturii.ro/wp-content/uploads/2025/10/Palatul-Culturii-program-noiembrie-2025-scaled.jpg
END:VEVENT
END:VCALENDAR