	BEGIN:VCALENDAR
VERSION:2.0
PRODID:-//Complex Muzeal Național „Moldova” Iași - ECPv6.0.12//NONSGML v1.0//EN
CALSCALE:GREGORIAN
METHOD:PUBLISH
X-ORIGINAL-URL:https://palatulculturii.ro
X-WR-CALDESC:Events for Complex Muzeal Național „Moldova” Iași
REFRESH-INTERVAL;VALUE=DURATION:PT1H
X-Robots-Tag:noindex
X-PUBLISHED-TTL:PT1H
BEGIN:VTIMEZONE
TZID:Europe/Bucharest
BEGIN:DAYLIGHT
TZOFFSETFROM:+0200
TZOFFSETTO:+0300
TZNAME:EEST
DTSTART:20250330T010000
END:DAYLIGHT
BEGIN:STANDARD
TZOFFSETFROM:+0300
TZOFFSETTO:+0200
TZNAME:EET
DTSTART:20251026T010000
END:STANDARD
END:VTIMEZONE
BEGIN:VEVENT
DTSTART;TZID=Europe/Bucharest:20250603T190000
DTEND;TZID=Europe/Bucharest:20250603T200000
DTSTAMP:20260422T153559
CREATED:20250528T095345Z
LAST-MODIFIED:20250528T101926Z
UID:33048-1748977200-1748980800@palatulculturii.ro
SUMMARY:Concert la Palat: Horia MIHAIL - „Pianul călător”
DESCRIPTION:Complexul Muzeal Național „Moldova” Iași\, în parteneriat cu „Teleradio Moldova” – Republica Moldova\, invită publicul la un eveniment muzical special: „O seară la Palat”.Evenimentul va avea loc vineri\, 17 aprilie 2026\, de la ora 19.00\, în Sala Voievozilor de la Palatul Culturii. Sub bagheta dirijorului Andrei Zapșa\, Orchestra Simfonică Națională a Companiei „Teleradio-Moldova” va interpreta lucrări semnate de J.S. Bach\, W.A. Mozart\, G. Enescu\, G.F. Handel\, E. Grieg\, G. Bizet\, Gh. Mustea\, M. Skoryk și alți mari compozitori\, într-un program artistic de mare rafinament. „Invităm publicul să se bucure de întâlnirea cu prestigioșii artiști din Republica Moldova și de această seară de excepție\, dedicată muzicii și dialogului cultural”\, afirmă Andrei Apreotesei\, manager Palatul Culturii – Complexul Muzeal Național „Moldova” Iași. La acest eveniment\, intrarea este liberă\, în limita locurilor disponibile.
URL:https://palatulculturii.ro/eveniment/concert-la-palat-horia-mihal-pianul-calator/
LOCATION:Palatul Culturii Iași – Complexul Muzeal Național „Moldova” Iași
CATEGORIES:Palatul Culturii
ATTACH;FMTTYPE=image/jpeg:https://palatulculturii.ro/wp-content/uploads/2025/05/concert-ateneu-horia-mihail-3-iunie.jpg
END:VEVENT
BEGIN:VEVENT
DTSTART;TZID=Europe/Bucharest:20250604T190000
DTEND;TZID=Europe/Bucharest:20250604T200000
DTSTAMP:20260422T153559
CREATED:20250603T125556Z
LAST-MODIFIED:20250603T125556Z
UID:33226-1749063600-1749067200@palatulculturii.ro
SUMMARY:Concert al absolvenților de dirijat cor academic și ansamblu coral
DESCRIPTION:Complexul Muzeal Național „Moldova” Iași\, în parteneriat cu „Teleradio Moldova” – Republica Moldova\, invită publicul la un eveniment muzical special: „O seară la Palat”.Evenimentul va avea loc vineri\, 17 aprilie 2026\, de la ora 19.00\, în Sala Voievozilor de la Palatul Culturii. Sub bagheta dirijorului Andrei Zapșa\, Orchestra Simfonică Națională a Companiei „Teleradio-Moldova” va interpreta lucrări semnate de J.S. Bach\, W.A. Mozart\, G. Enescu\, G.F. Handel\, E. Grieg\, G. Bizet\, Gh. Mustea\, M. Skoryk și alți mari compozitori\, într-un program artistic de mare rafinament. „Invităm publicul să se bucure de întâlnirea cu prestigioșii artiști din Republica Moldova și de această seară de excepție\, dedicată muzicii și dialogului cultural”\, afirmă Andrei Apreotesei\, manager Palatul Culturii – Complexul Muzeal Național „Moldova” Iași. La acest eveniment\, intrarea este liberă\, în limita locurilor disponibile.
URL:https://palatulculturii.ro/eveniment/concert-al-absolventilor-de-dirijat-cor-academic-si-ansamblu-coral/
LOCATION:Palatul Culturii – Sala „Henri Coandă”
CATEGORIES:Palatul Culturii
ATTACH;FMTTYPE=image/jpeg:https://palatulculturii.ro/wp-content/uploads/2025/06/Concert-UNAGE-4-iunie-scaled.jpg
END:VEVENT
BEGIN:VEVENT
DTSTART;TZID=Europe/Bucharest:20250605T183000
DTEND;TZID=Europe/Bucharest:20250605T200000
DTSTAMP:20260422T153559
CREATED:20250528T104223Z
LAST-MODIFIED:20250528T104834Z
UID:33075-1749148200-1749153600@palatulculturii.ro
SUMMARY:Concert extraordinar – „In memoriam Ciprian Porumbescu – 142 de ani” (ediția a VII-a)
DESCRIPTION:Complexul Muzeal Național „Moldova” Iași\, în parteneriat cu „Teleradio Moldova” – Republica Moldova\, invită publicul la un eveniment muzical special: „O seară la Palat”.Evenimentul va avea loc vineri\, 17 aprilie 2026\, de la ora 19.00\, în Sala Voievozilor de la Palatul Culturii. Sub bagheta dirijorului Andrei Zapșa\, Orchestra Simfonică Națională a Companiei „Teleradio-Moldova” va interpreta lucrări semnate de J.S. Bach\, W.A. Mozart\, G. Enescu\, G.F. Handel\, E. Grieg\, G. Bizet\, Gh. Mustea\, M. Skoryk și alți mari compozitori\, într-un program artistic de mare rafinament. „Invităm publicul să se bucure de întâlnirea cu prestigioșii artiști din Republica Moldova și de această seară de excepție\, dedicată muzicii și dialogului cultural”\, afirmă Andrei Apreotesei\, manager Palatul Culturii – Complexul Muzeal Național „Moldova” Iași. La acest eveniment\, intrarea este liberă\, în limita locurilor disponibile.
URL:https://palatulculturii.ro/eveniment/concert-extraordinar-in-memoriam-ciprian-porumbescu-142-de-ani-editia-a-vii-a/
CATEGORIES:Palatul Culturii
ATTACH;FMTTYPE=image/jpeg:https://palatulculturii.ro/wp-content/uploads/2025/05/coprian-porumbescu-iasi.jpg
END:VEVENT
BEGIN:VEVENT
DTSTART;TZID=Europe/Bucharest:20250610T190000
DTEND;TZID=Europe/Bucharest:20250610T200000
DTSTAMP:20260422T153559
CREATED:20250528T095402Z
LAST-MODIFIED:20250616T071731Z
UID:33049-1749582000-1749585600@palatulculturii.ro
SUMMARY:Concert la Palat: Argentinissimo - Analia Selis și Mariano Castro
DESCRIPTION:Complexul Muzeal Național „Moldova” Iași\, în parteneriat cu „Teleradio Moldova” – Republica Moldova\, invită publicul la un eveniment muzical special: „O seară la Palat”.Evenimentul va avea loc vineri\, 17 aprilie 2026\, de la ora 19.00\, în Sala Voievozilor de la Palatul Culturii. Sub bagheta dirijorului Andrei Zapșa\, Orchestra Simfonică Națională a Companiei „Teleradio-Moldova” va interpreta lucrări semnate de J.S. Bach\, W.A. Mozart\, G. Enescu\, G.F. Handel\, E. Grieg\, G. Bizet\, Gh. Mustea\, M. Skoryk și alți mari compozitori\, într-un program artistic de mare rafinament. „Invităm publicul să se bucure de întâlnirea cu prestigioșii artiști din Republica Moldova și de această seară de excepție\, dedicată muzicii și dialogului cultural”\, afirmă Andrei Apreotesei\, manager Palatul Culturii – Complexul Muzeal Național „Moldova” Iași. La acest eveniment\, intrarea este liberă\, în limita locurilor disponibile.
URL:https://palatulculturii.ro/eveniment/concert-la-palat-argentinissimo-analia-selis-si-mariano-castro/
LOCATION:Palatul Culturii Iași – Complexul Muzeal Național „Moldova” Iași
CATEGORIES:Palatul Culturii
ATTACH;FMTTYPE=image/jpeg:https://palatulculturii.ro/wp-content/uploads/2025/05/concert-la-palat_ateneu_10-iun.jpg
END:VEVENT
BEGIN:VEVENT
DTSTART;TZID=Europe/Bucharest:20250616T180000
DTEND;TZID=Europe/Bucharest:20250616T193000
DTSTAMP:20260422T153559
CREATED:20250611T125313Z
LAST-MODIFIED:20250612T070746Z
UID:33618-1750096800-1750102200@palatulculturii.ro
SUMMARY:Gala „Armonii muzicale în Capitale Culturale” la Palatul Culturii
DESCRIPTION:Complexul Muzeal Național „Moldova” Iași\, în parteneriat cu „Teleradio Moldova” – Republica Moldova\, invită publicul la un eveniment muzical special: „O seară la Palat”.Evenimentul va avea loc vineri\, 17 aprilie 2026\, de la ora 19.00\, în Sala Voievozilor de la Palatul Culturii. Sub bagheta dirijorului Andrei Zapșa\, Orchestra Simfonică Națională a Companiei „Teleradio-Moldova” va interpreta lucrări semnate de J.S. Bach\, W.A. Mozart\, G. Enescu\, G.F. Handel\, E. Grieg\, G. Bizet\, Gh. Mustea\, M. Skoryk și alți mari compozitori\, într-un program artistic de mare rafinament. „Invităm publicul să se bucure de întâlnirea cu prestigioșii artiști din Republica Moldova și de această seară de excepție\, dedicată muzicii și dialogului cultural”\, afirmă Andrei Apreotesei\, manager Palatul Culturii – Complexul Muzeal Național „Moldova” Iași. La acest eveniment\, intrarea este liberă\, în limita locurilor disponibile.
URL:https://palatulculturii.ro/eveniment/gala-armonii-muzicale-in-capitale-culturale-la-palatul-culturii/
CATEGORIES:Palatul Culturii
ATTACH;FMTTYPE=image/jpeg:https://palatulculturii.ro/wp-content/uploads/2025/06/Gala-CNAOB_AFIS.jpg
END:VEVENT
BEGIN:VEVENT
DTSTART;TZID=Europe/Bucharest:20250618T170000
DTEND;TZID=Europe/Bucharest:20250618T180000
DTSTAMP:20260422T153559
CREATED:20250617T120904Z
LAST-MODIFIED:20250617T123806Z
UID:33909-1750266000-1750269600@palatulculturii.ro
SUMMARY:Recital - tineri artiști la Palatul Culturii
DESCRIPTION:Complexul Muzeal Național „Moldova” Iași\, în parteneriat cu „Teleradio Moldova” – Republica Moldova\, invită publicul la un eveniment muzical special: „O seară la Palat”.Evenimentul va avea loc vineri\, 17 aprilie 2026\, de la ora 19.00\, în Sala Voievozilor de la Palatul Culturii. Sub bagheta dirijorului Andrei Zapșa\, Orchestra Simfonică Națională a Companiei „Teleradio-Moldova” va interpreta lucrări semnate de J.S. Bach\, W.A. Mozart\, G. Enescu\, G.F. Handel\, E. Grieg\, G. Bizet\, Gh. Mustea\, M. Skoryk și alți mari compozitori\, într-un program artistic de mare rafinament. „Invităm publicul să se bucure de întâlnirea cu prestigioșii artiști din Republica Moldova și de această seară de excepție\, dedicată muzicii și dialogului cultural”\, afirmă Andrei Apreotesei\, manager Palatul Culturii – Complexul Muzeal Național „Moldova” Iași. La acest eveniment\, intrarea este liberă\, în limita locurilor disponibile.
URL:https://palatulculturii.ro/eveniment/recital-tineri-artisti-la-palatul-culturii/
LOCATION:Holul de Onoare – Palatul Culturii din Iași
CATEGORIES:Palatul Culturii
ATTACH;FMTTYPE=image/jpeg:https://palatulculturii.ro/wp-content/uploads/2025/06/concert-UNAGE_18-iun-2025.jpg
END:VEVENT
BEGIN:VEVENT
DTSTART;TZID=Europe/Bucharest:20250626T170000
DTEND;TZID=Europe/Bucharest:20250626T180000
DTSTAMP:20260422T153559
CREATED:20250623T125652Z
LAST-MODIFIED:20250624T075406Z
UID:33990-1750957200-1750960800@palatulculturii.ro
SUMMARY:Vernisajul expoziției „Istorii deturnate - destine rescrise. Patrimoniul construit din București sub regimul comunist”
DESCRIPTION:Complexul Muzeal Național „Moldova” Iași\, în parteneriat cu „Teleradio Moldova” – Republica Moldova\, invită publicul la un eveniment muzical special: „O seară la Palat”.Evenimentul va avea loc vineri\, 17 aprilie 2026\, de la ora 19.00\, în Sala Voievozilor de la Palatul Culturii. Sub bagheta dirijorului Andrei Zapșa\, Orchestra Simfonică Națională a Companiei „Teleradio-Moldova” va interpreta lucrări semnate de J.S. Bach\, W.A. Mozart\, G. Enescu\, G.F. Handel\, E. Grieg\, G. Bizet\, Gh. Mustea\, M. Skoryk și alți mari compozitori\, într-un program artistic de mare rafinament. „Invităm publicul să se bucure de întâlnirea cu prestigioșii artiști din Republica Moldova și de această seară de excepție\, dedicată muzicii și dialogului cultural”\, afirmă Andrei Apreotesei\, manager Palatul Culturii – Complexul Muzeal Național „Moldova” Iași. La acest eveniment\, intrarea este liberă\, în limita locurilor disponibile.
URL:https://palatulculturii.ro/eveniment/vernisajul-expozitiei-istorii-deturnate-destine-rescrise-patrimoniul-construit-din-bucuresti-sub-regimul-comunist/
LOCATION:Palatul Culturii Iași – Complexul Muzeal Național „Moldova” Iași
CATEGORIES:Muzeul de Istorie a Moldovei,Noutăți,Palatul Culturii
ATTACH;FMTTYPE=image/jpeg:https://palatulculturii.ro/wp-content/uploads/2025/06/Istorii-deturnate_afis-scaled.jpg
END:VEVENT
END:VCALENDAR