	BEGIN:VCALENDAR
VERSION:2.0
PRODID:-//Complex Muzeal Național „Moldova” Iași - ECPv6.0.12//NONSGML v1.0//EN
CALSCALE:GREGORIAN
METHOD:PUBLISH
X-WR-CALNAME:Complex Muzeal Național „Moldova” Iași
X-ORIGINAL-URL:https://palatulculturii.ro
X-WR-CALDESC:Events for Complex Muzeal Național „Moldova” Iași
REFRESH-INTERVAL;VALUE=DURATION:PT1H
X-Robots-Tag:noindex
X-PUBLISHED-TTL:PT1H
BEGIN:VTIMEZONE
TZID:Europe/Bucharest
BEGIN:DAYLIGHT
TZOFFSETFROM:+0200
TZOFFSETTO:+0300
TZNAME:EEST
DTSTART:20250330T010000
END:DAYLIGHT
BEGIN:STANDARD
TZOFFSETFROM:+0300
TZOFFSETTO:+0200
TZNAME:EET
DTSTART:20251026T010000
END:STANDARD
END:VTIMEZONE
BEGIN:VEVENT
DTSTART;VALUE=DATE:20251031
DTEND;VALUE=DATE:20251201
DTSTAMP:20260425T060005
CREATED:20251031T135954Z
LAST-MODIFIED:20251031T141755Z
UID:36579-1761868800-1764547199@palatulculturii.ro
SUMMARY:Noiembrie la Palatul Culturii – o lună bogată în evenimente
DESCRIPTION:Incursiunea în expozițiile care pot fi vizitate în spațiile celor patru muzee de la Palatul Culturii – Muzeul de Artă\, Muzeul de Istorie a Moldovei\, Muzeul Etnografic al Moldovei și Muzeul Științei și Tehnicii „Ștefan Procopiu” din cadrul Complexului Muzeal Național „Moldova” Iași – este completată\, în luna aprilie\, cu numeroase activități dedicate atât publicului\, cât și specialiștilor.Vă invităm să descoperiți detalii despre programul lunii aprilie\, pe site-ul www.palatulculturii.ro\, în secțiunile EXPOZIȚII și EVENIMENTE\, precum și pe site-urile instituțiilor partenere.
URL:https://palatulculturii.ro/eveniment/noiembrie-la-palatul-culturii-o-luna-bogata-in-evenimente/
CATEGORIES:Noutăți,Palatul Culturii
ATTACH;FMTTYPE=image/jpeg:https://palatulculturii.ro/wp-content/uploads/2025/10/Palatul-Culturii-program-noiembrie-2025-scaled.jpg
END:VEVENT
BEGIN:VEVENT
DTSTART;TZID=Europe/Bucharest:20251111T190000
DTEND;TZID=Europe/Bucharest:20251111T200000
DTSTAMP:20260425T060005
CREATED:20251105T073505Z
LAST-MODIFIED:20251105T073521Z
UID:36728-1762887600-1762891200@palatulculturii.ro
SUMMARY:Concert la Palat: „Dialoguri românești pentru vioară și pian” - Raluca Dobre și Smaranda Acatrinei
DESCRIPTION:Incursiunea în expozițiile care pot fi vizitate în spațiile celor patru muzee de la Palatul Culturii – Muzeul de Artă\, Muzeul de Istorie a Moldovei\, Muzeul Etnografic al Moldovei și Muzeul Științei și Tehnicii „Ștefan Procopiu” din cadrul Complexului Muzeal Național „Moldova” Iași – este completată\, în luna aprilie\, cu numeroase activități dedicate atât publicului\, cât și specialiștilor.Vă invităm să descoperiți detalii despre programul lunii aprilie\, pe site-ul www.palatulculturii.ro\, în secțiunile EXPOZIȚII și EVENIMENTE\, precum și pe site-urile instituțiilor partenere.
URL:https://palatulculturii.ro/eveniment/concert-la-palat-dialoguri-romanesti-pentru-vioara-si-pian-raluca-dobre-si-smaranda-acatrinei/
CATEGORIES:Noutăți,Palatul Culturii
ATTACH;FMTTYPE=image/jpeg:https://palatulculturii.ro/wp-content/uploads/2025/11/Concert-la-Palat-11-noiembrie.jpg
END:VEVENT
BEGIN:VEVENT
DTSTART;TZID=Europe/Bucharest:20251113T100000
DTEND;TZID=Europe/Bucharest:20251114T150000
DTSTAMP:20260425T060005
CREATED:20251106T152732Z
LAST-MODIFIED:20251106T152751Z
UID:36915-1763028000-1763132400@palatulculturii.ro
SUMMARY:Conferința „MediCult” (IV) la Palatul Culturii din Iași
DESCRIPTION:Incursiunea în expozițiile care pot fi vizitate în spațiile celor patru muzee de la Palatul Culturii – Muzeul de Artă\, Muzeul de Istorie a Moldovei\, Muzeul Etnografic al Moldovei și Muzeul Științei și Tehnicii „Ștefan Procopiu” din cadrul Complexului Muzeal Național „Moldova” Iași – este completată\, în luna aprilie\, cu numeroase activități dedicate atât publicului\, cât și specialiștilor.Vă invităm să descoperiți detalii despre programul lunii aprilie\, pe site-ul www.palatulculturii.ro\, în secțiunile EXPOZIȚII și EVENIMENTE\, precum și pe site-urile instituțiilor partenere.
URL:https://palatulculturii.ro/eveniment/conferinta-medicult-iv-la-palatul-culturii-din-iasi/
LOCATION:Palatul Culturii – Sala „Ștefan Procopiu”
CATEGORIES:Noutăți,Palatul Culturii
ATTACH;FMTTYPE=image/jpeg:https://palatulculturii.ro/wp-content/uploads/2025/11/Conferinta-Medicult-2025_afis-web.jpg
END:VEVENT
END:VCALENDAR