	BEGIN:VCALENDAR
VERSION:2.0
PRODID:-//Complex Muzeal Național „Moldova” Iași - ECPv6.0.12//NONSGML v1.0//EN
CALSCALE:GREGORIAN
METHOD:PUBLISH
X-ORIGINAL-URL:https://palatulculturii.ro
X-WR-CALDESC:Events for Complex Muzeal Național „Moldova” Iași
REFRESH-INTERVAL;VALUE=DURATION:PT1H
X-Robots-Tag:noindex
X-PUBLISHED-TTL:PT1H
BEGIN:VTIMEZONE
TZID:Europe/Bucharest
BEGIN:DAYLIGHT
TZOFFSETFROM:+0200
TZOFFSETTO:+0300
TZNAME:EEST
DTSTART:20260329T010000
END:DAYLIGHT
BEGIN:STANDARD
TZOFFSETFROM:+0300
TZOFFSETTO:+0200
TZNAME:EET
DTSTART:20261025T010000
END:STANDARD
END:VTIMEZONE
BEGIN:VEVENT
DTSTART;VALUE=DATE:20260301
DTEND;VALUE=DATE:20260401
DTSTAMP:20260420T155209
CREATED:20260303T111705Z
LAST-MODIFIED:20260306T113429Z
UID:39087-1772323200-1775001599@palatulculturii.ro
SUMMARY:Evenimentele lunii martie la Palat
DESCRIPTION:Complexul Muzeal Național „Moldova” Iași\, în parteneriat cu „Teleradio Moldova” – Republica Moldova\, invită publicul la un eveniment muzical special: „O seară la Palat”.Evenimentul va avea loc vineri\, 17 aprilie 2026\, de la ora 19.00\, în Sala Voievozilor de la Palatul Culturii. Sub bagheta dirijorului Andrei Zapșa\, Orchestra Simfonică Națională a Companiei „Teleradio-Moldova” va interpreta lucrări semnate de J.S. Bach\, W.A. Mozart\, G. Enescu\, G.F. Handel\, E. Grieg\, G. Bizet\, Gh. Mustea\, M. Skoryk și alți mari compozitori\, într-un program artistic de mare rafinament. „Invităm publicul să se bucure de întâlnirea cu prestigioșii artiști din Republica Moldova și de această seară de excepție\, dedicată muzicii și dialogului cultural”\, afirmă Andrei Apreotesei\, manager Palatul Culturii – Complexul Muzeal Național „Moldova” Iași. La acest eveniment\, intrarea este liberă\, în limita locurilor disponibile.
URL:https://palatulculturii.ro/eveniment/evenimentele-lunii-martie-la-palat/
LOCATION:Palatul Culturii Iași – Complexul Muzeal Național „Moldova” Iași
CATEGORIES:Palatul Culturii
ATTACH;FMTTYPE=image/jpeg:https://palatulculturii.ro/wp-content/uploads/2026/03/PROGRAM-martie-2026_2-mart-scaled.jpeg
END:VEVENT
BEGIN:VEVENT
DTSTART;TZID=Europe/Bucharest:20260303T110000
DTEND;TZID=Europe/Bucharest:20260403T170000
DTSTAMP:20260420T155209
CREATED:20260302T103240Z
LAST-MODIFIED:20260303T075938Z
UID:39002-1772535600-1775235600@palatulculturii.ro
SUMMARY:TRONUL DOMNITORILOR prezentat publicului la Palatul Culturii
DESCRIPTION:Complexul Muzeal Național „Moldova” Iași\, în parteneriat cu „Teleradio Moldova” – Republica Moldova\, invită publicul la un eveniment muzical special: „O seară la Palat”.Evenimentul va avea loc vineri\, 17 aprilie 2026\, de la ora 19.00\, în Sala Voievozilor de la Palatul Culturii. Sub bagheta dirijorului Andrei Zapșa\, Orchestra Simfonică Națională a Companiei „Teleradio-Moldova” va interpreta lucrări semnate de J.S. Bach\, W.A. Mozart\, G. Enescu\, G.F. Handel\, E. Grieg\, G. Bizet\, Gh. Mustea\, M. Skoryk și alți mari compozitori\, într-un program artistic de mare rafinament. „Invităm publicul să se bucure de întâlnirea cu prestigioșii artiști din Republica Moldova și de această seară de excepție\, dedicată muzicii și dialogului cultural”\, afirmă Andrei Apreotesei\, manager Palatul Culturii – Complexul Muzeal Național „Moldova” Iași. La acest eveniment\, intrarea este liberă\, în limita locurilor disponibile.
URL:https://palatulculturii.ro/eveniment/tronul-domnitorilor-prezentat-publicului-la-palatul-culturii/
CATEGORIES:Palatul Culturii
ATTACH;FMTTYPE=image/jpeg:https://palatulculturii.ro/wp-content/uploads/2026/03/20260304-afis-tronul.jpg-scaled.jpeg
END:VEVENT
BEGIN:VEVENT
DTSTART;TZID=Europe/Bucharest:20260313T160000
DTEND;TZID=Europe/Bucharest:20260331T170000
DTSTAMP:20260420T155209
CREATED:20260313T102246Z
LAST-MODIFIED:20260313T102332Z
UID:39198-1773417600-1774976400@palatulculturii.ro
SUMMARY:„Interventions in public space/ Intervenții în spațiul public” la Muzeul „Poni – Cernătescu”
DESCRIPTION:Complexul Muzeal Național „Moldova” Iași\, în parteneriat cu „Teleradio Moldova” – Republica Moldova\, invită publicul la un eveniment muzical special: „O seară la Palat”.Evenimentul va avea loc vineri\, 17 aprilie 2026\, de la ora 19.00\, în Sala Voievozilor de la Palatul Culturii. Sub bagheta dirijorului Andrei Zapșa\, Orchestra Simfonică Națională a Companiei „Teleradio-Moldova” va interpreta lucrări semnate de J.S. Bach\, W.A. Mozart\, G. Enescu\, G.F. Handel\, E. Grieg\, G. Bizet\, Gh. Mustea\, M. Skoryk și alți mari compozitori\, într-un program artistic de mare rafinament. „Invităm publicul să se bucure de întâlnirea cu prestigioșii artiști din Republica Moldova și de această seară de excepție\, dedicată muzicii și dialogului cultural”\, afirmă Andrei Apreotesei\, manager Palatul Culturii – Complexul Muzeal Național „Moldova” Iași. La acest eveniment\, intrarea este liberă\, în limita locurilor disponibile.
URL:https://palatulculturii.ro/eveniment/interventions-in-public-space-interventii-in-spatiul-public-la-muzeul-poni-cernatescu/
LOCATION:Muzeul „Poni – Cernătescu”\, Str. Mihail Kogălniceanu nr. 7B\, Iași\, Romania
CATEGORIES:Muzeul „Poni - Cernătescu”
ATTACH;FMTTYPE=image/jpeg:https://palatulculturii.ro/wp-content/uploads/2026/03/Instalatie-artistica-Muzeul-Poni.jpg
END:VEVENT
BEGIN:VEVENT
DTSTART;TZID=Europe/Bucharest:20260321T110000
DTEND;TZID=Europe/Bucharest:20260409T150000
DTSTAMP:20260420T155209
CREATED:20260320T110300Z
LAST-MODIFIED:20260320T110350Z
UID:39248-1774090800-1775746800@palatulculturii.ro
SUMMARY:Atelier de decorat ouă de Paști la Palatul Culturii
DESCRIPTION:Complexul Muzeal Național „Moldova” Iași\, în parteneriat cu „Teleradio Moldova” – Republica Moldova\, invită publicul la un eveniment muzical special: „O seară la Palat”.Evenimentul va avea loc vineri\, 17 aprilie 2026\, de la ora 19.00\, în Sala Voievozilor de la Palatul Culturii. Sub bagheta dirijorului Andrei Zapșa\, Orchestra Simfonică Națională a Companiei „Teleradio-Moldova” va interpreta lucrări semnate de J.S. Bach\, W.A. Mozart\, G. Enescu\, G.F. Handel\, E. Grieg\, G. Bizet\, Gh. Mustea\, M. Skoryk și alți mari compozitori\, într-un program artistic de mare rafinament. „Invităm publicul să se bucure de întâlnirea cu prestigioșii artiști din Republica Moldova și de această seară de excepție\, dedicată muzicii și dialogului cultural”\, afirmă Andrei Apreotesei\, manager Palatul Culturii – Complexul Muzeal Național „Moldova” Iași. La acest eveniment\, intrarea este liberă\, în limita locurilor disponibile.
URL:https://palatulculturii.ro/eveniment/atelier-de-decorat-oua-de-pasti-la-palatul-culturii/
LOCATION:Palatul Culturii Iași – Complexul Muzeal Național „Moldova” Iași
CATEGORIES:Palatul Culturii
ATTACH;FMTTYPE=image/jpeg:https://palatulculturii.ro/wp-content/uploads/2026/03/Atelier-oua.jpg
END:VEVENT
BEGIN:VEVENT
DTSTART;VALUE=DATE:20260328
DTEND;VALUE=DATE:20260330
DTSTAMP:20260420T155209
CREATED:20260325T082937Z
LAST-MODIFIED:20260325T083017Z
UID:39327-1774656000-1774828799@palatulculturii.ro
SUMMARY:Ediție jubiliară a manifestării „Ouă încondeiate. Expoziţie. Atelier. Vânzare”
DESCRIPTION:Complexul Muzeal Național „Moldova” Iași\, în parteneriat cu „Teleradio Moldova” – Republica Moldova\, invită publicul la un eveniment muzical special: „O seară la Palat”.Evenimentul va avea loc vineri\, 17 aprilie 2026\, de la ora 19.00\, în Sala Voievozilor de la Palatul Culturii. Sub bagheta dirijorului Andrei Zapșa\, Orchestra Simfonică Națională a Companiei „Teleradio-Moldova” va interpreta lucrări semnate de J.S. Bach\, W.A. Mozart\, G. Enescu\, G.F. Handel\, E. Grieg\, G. Bizet\, Gh. Mustea\, M. Skoryk și alți mari compozitori\, într-un program artistic de mare rafinament. „Invităm publicul să se bucure de întâlnirea cu prestigioșii artiști din Republica Moldova și de această seară de excepție\, dedicată muzicii și dialogului cultural”\, afirmă Andrei Apreotesei\, manager Palatul Culturii – Complexul Muzeal Național „Moldova” Iași. La acest eveniment\, intrarea este liberă\, în limita locurilor disponibile.
URL:https://palatulculturii.ro/eveniment/editie-jubiliara-a-manifestarii-oua-incondeiate-expozitie-atelier-vanzare/
ATTACH;FMTTYPE=image/jpeg:https://palatulculturii.ro/wp-content/uploads/2026/03/oua-incondeiate-2026_afis-web.jpg
END:VEVENT
BEGIN:VEVENT
DTSTART;TZID=Europe/Bucharest:20260329T110000
DTEND;TZID=Europe/Bucharest:20260329T123000
DTSTAMP:20260420T155209
CREATED:20260326T125146Z
LAST-MODIFIED:20260326T125202Z
UID:39344-1774782000-1774787400@palatulculturii.ro
SUMMARY:„Inginerie și Poezie” la Muzeul Științei și Tehnicii „Ștefan Procopiu”
DESCRIPTION:Complexul Muzeal Național „Moldova” Iași\, în parteneriat cu „Teleradio Moldova” – Republica Moldova\, invită publicul la un eveniment muzical special: „O seară la Palat”.Evenimentul va avea loc vineri\, 17 aprilie 2026\, de la ora 19.00\, în Sala Voievozilor de la Palatul Culturii. Sub bagheta dirijorului Andrei Zapșa\, Orchestra Simfonică Națională a Companiei „Teleradio-Moldova” va interpreta lucrări semnate de J.S. Bach\, W.A. Mozart\, G. Enescu\, G.F. Handel\, E. Grieg\, G. Bizet\, Gh. Mustea\, M. Skoryk și alți mari compozitori\, într-un program artistic de mare rafinament. „Invităm publicul să se bucure de întâlnirea cu prestigioșii artiști din Republica Moldova și de această seară de excepție\, dedicată muzicii și dialogului cultural”\, afirmă Andrei Apreotesei\, manager Palatul Culturii – Complexul Muzeal Național „Moldova” Iași. La acest eveniment\, intrarea este liberă\, în limita locurilor disponibile.
URL:https://palatulculturii.ro/eveniment/inginerie-si-poezie-la-muzeul-stiintei-si-tehnicii-stefan-procopiu/
LOCATION:Palatul Culturii – Muzeul Științei și Tehnicii „Ștefan Procopiu”
CATEGORIES:Muzeul Științei și Tehnicii „Ștefan Procopiu””,Palatul Culturii
ATTACH;FMTTYPE=image/jpeg:https://palatulculturii.ro/wp-content/uploads/2026/03/Inginerie-si-poezie_Muzeul-Stiintei-si-Tehnicii.jpeg
END:VEVENT
END:VCALENDAR