	BEGIN:VCALENDAR
VERSION:2.0
PRODID:-//Complex Muzeal Național „Moldova” Iași - ECPv6.0.12//NONSGML v1.0//EN
CALSCALE:GREGORIAN
METHOD:PUBLISH
X-ORIGINAL-URL:https://palatulculturii.ro
X-WR-CALDESC:Events for Complex Muzeal Național „Moldova” Iași
REFRESH-INTERVAL;VALUE=DURATION:PT1H
X-Robots-Tag:noindex
X-PUBLISHED-TTL:PT1H
BEGIN:VTIMEZONE
TZID:Europe/Bucharest
BEGIN:DAYLIGHT
TZOFFSETFROM:+0200
TZOFFSETTO:+0300
TZNAME:EEST
DTSTART:20250330T010000
END:DAYLIGHT
BEGIN:STANDARD
TZOFFSETFROM:+0300
TZOFFSETTO:+0200
TZNAME:EET
DTSTART:20251026T010000
END:STANDARD
BEGIN:DAYLIGHT
TZOFFSETFROM:+0200
TZOFFSETTO:+0300
TZNAME:EEST
DTSTART:20260329T010000
END:DAYLIGHT
BEGIN:STANDARD
TZOFFSETFROM:+0300
TZOFFSETTO:+0200
TZNAME:EET
DTSTART:20261025T010000
END:STANDARD
END:VTIMEZONE
BEGIN:VEVENT
DTSTART;TZID=Europe/Bucharest:20251007T090000
DTEND;TZID=Europe/Bucharest:20260107T220000
DTSTAMP:20260420T195520
CREATED:20241004T105259Z
LAST-MODIFIED:20260204T081843Z
UID:25958-1759827600-1767823200@palatulculturii.ro
SUMMARY:Mai multe opțiuni de vizitare a Palatului Culturii
DESCRIPTION:Complexul Muzeal Național „Moldova” Iași\, în parteneriat cu „Teleradio Moldova” – Republica Moldova\, invită publicul la un eveniment muzical special: „O seară la Palat”.Evenimentul va avea loc vineri\, 17 aprilie 2026\, de la ora 19.00\, în Sala Voievozilor de la Palatul Culturii. Sub bagheta dirijorului Andrei Zapșa\, Orchestra Simfonică Națională a Companiei „Teleradio-Moldova” va interpreta lucrări semnate de J.S. Bach\, W.A. Mozart\, G. Enescu\, G.F. Handel\, E. Grieg\, G. Bizet\, Gh. Mustea\, M. Skoryk și alți mari compozitori\, într-un program artistic de mare rafinament. „Invităm publicul să se bucure de întâlnirea cu prestigioșii artiști din Republica Moldova și de această seară de excepție\, dedicată muzicii și dialogului cultural”\, afirmă Andrei Apreotesei\, manager Palatul Culturii – Complexul Muzeal Național „Moldova” Iași. La acest eveniment\, intrarea este liberă\, în limita locurilor disponibile.
URL:https://palatulculturii.ro/eveniment/mai-multe-optiuni-de-vizitare-a-palatului-culturii/
ATTACH;FMTTYPE=image/jpeg:https://palatulculturii.ro/wp-content/uploads/2024/10/Palatul-Culturii.jpg
END:VEVENT
BEGIN:VEVENT
DTSTART;TZID=Europe/Bucharest:20251127T100000
DTEND;TZID=Europe/Bucharest:20251227T150000
DTSTAMP:20260420T195520
CREATED:20251127T122826Z
LAST-MODIFIED:20260205T072458Z
UID:37087-1764237600-1766847600@palatulculturii.ro
SUMMARY:PORTRETUL - Atelier în creație mixtă
DESCRIPTION:Complexul Muzeal Național „Moldova” Iași\, în parteneriat cu „Teleradio Moldova” – Republica Moldova\, invită publicul la un eveniment muzical special: „O seară la Palat”.Evenimentul va avea loc vineri\, 17 aprilie 2026\, de la ora 19.00\, în Sala Voievozilor de la Palatul Culturii. Sub bagheta dirijorului Andrei Zapșa\, Orchestra Simfonică Națională a Companiei „Teleradio-Moldova” va interpreta lucrări semnate de J.S. Bach\, W.A. Mozart\, G. Enescu\, G.F. Handel\, E. Grieg\, G. Bizet\, Gh. Mustea\, M. Skoryk și alți mari compozitori\, într-un program artistic de mare rafinament. „Invităm publicul să se bucure de întâlnirea cu prestigioșii artiști din Republica Moldova și de această seară de excepție\, dedicată muzicii și dialogului cultural”\, afirmă Andrei Apreotesei\, manager Palatul Culturii – Complexul Muzeal Național „Moldova” Iași. La acest eveniment\, intrarea este liberă\, în limita locurilor disponibile.
URL:https://palatulculturii.ro/eveniment/portretul-atelier-in-creatie-mixta/
CATEGORIES:Atelierele DICE,Palatul Culturii
ATTACH;FMTTYPE=image/png:https://palatulculturii.ro/wp-content/uploads/2025/11/POSTER-DICE-PORTRETUL-creatie-mixta.png
END:VEVENT
BEGIN:VEVENT
DTSTART;TZID=Europe/Bucharest:20251201T080000
DTEND;TZID=Europe/Bucharest:20251230T170000
DTSTAMP:20260420T195520
CREATED:20251203T121728Z
LAST-MODIFIED:20251209T093704Z
UID:37346-1764576000-1767114000@palatulculturii.ro
SUMMARY:Evenimentele lunii decembrie la Palatul Culturii din Iași
DESCRIPTION:Complexul Muzeal Național „Moldova” Iași\, în parteneriat cu „Teleradio Moldova” – Republica Moldova\, invită publicul la un eveniment muzical special: „O seară la Palat”.Evenimentul va avea loc vineri\, 17 aprilie 2026\, de la ora 19.00\, în Sala Voievozilor de la Palatul Culturii. Sub bagheta dirijorului Andrei Zapșa\, Orchestra Simfonică Națională a Companiei „Teleradio-Moldova” va interpreta lucrări semnate de J.S. Bach\, W.A. Mozart\, G. Enescu\, G.F. Handel\, E. Grieg\, G. Bizet\, Gh. Mustea\, M. Skoryk și alți mari compozitori\, într-un program artistic de mare rafinament. „Invităm publicul să se bucure de întâlnirea cu prestigioșii artiști din Republica Moldova și de această seară de excepție\, dedicată muzicii și dialogului cultural”\, afirmă Andrei Apreotesei\, manager Palatul Culturii – Complexul Muzeal Național „Moldova” Iași. La acest eveniment\, intrarea este liberă\, în limita locurilor disponibile.
URL:https://palatulculturii.ro/eveniment/evenimentele-lunii-decembrie-la-palatul-culturii-din-iasi/
LOCATION:Palatul Culturii Iași – Complexul Muzeal Național „Moldova” Iași
CATEGORIES:Noutăți,Palatul Culturii
ATTACH;FMTTYPE=image/jpeg:https://palatulculturii.ro/wp-content/uploads/2025/12/PROGRAM-dec-Palatul-Culturii-Iasi-scaled.jpg
END:VEVENT
BEGIN:VEVENT
DTSTART;VALUE=DATE:20251224
DTEND;VALUE=DATE:20260108
DTSTAMP:20260420T195520
CREATED:20251223T092401Z
LAST-MODIFIED:20251230T121314Z
UID:37955-1766534400-1767830399@palatulculturii.ro
SUMMARY:Palatul Culturii din Iași - deschis de sărbători!
DESCRIPTION:Complexul Muzeal Național „Moldova” Iași\, în parteneriat cu „Teleradio Moldova” – Republica Moldova\, invită publicul la un eveniment muzical special: „O seară la Palat”.Evenimentul va avea loc vineri\, 17 aprilie 2026\, de la ora 19.00\, în Sala Voievozilor de la Palatul Culturii. Sub bagheta dirijorului Andrei Zapșa\, Orchestra Simfonică Națională a Companiei „Teleradio-Moldova” va interpreta lucrări semnate de J.S. Bach\, W.A. Mozart\, G. Enescu\, G.F. Handel\, E. Grieg\, G. Bizet\, Gh. Mustea\, M. Skoryk și alți mari compozitori\, într-un program artistic de mare rafinament. „Invităm publicul să se bucure de întâlnirea cu prestigioșii artiști din Republica Moldova și de această seară de excepție\, dedicată muzicii și dialogului cultural”\, afirmă Andrei Apreotesei\, manager Palatul Culturii – Complexul Muzeal Național „Moldova” Iași. La acest eveniment\, intrarea este liberă\, în limita locurilor disponibile.
URL:https://palatulculturii.ro/eveniment/palatul-culturii-din-iasi-deschis-de-sarbatori/
CATEGORIES:Noutăți,Palatul Culturii
ATTACH;FMTTYPE=image/jpeg:https://palatulculturii.ro/wp-content/uploads/2025/12/2025-palat-sarbatori-web.jpg
END:VEVENT
END:VCALENDAR