	BEGIN:VCALENDAR
VERSION:2.0
PRODID:-//Complex Muzeal Național „Moldova” Iași - ECPv6.0.12//NONSGML v1.0//EN
CALSCALE:GREGORIAN
METHOD:PUBLISH
X-WR-CALNAME:Complex Muzeal Național „Moldova” Iași
X-ORIGINAL-URL:https://palatulculturii.ro
X-WR-CALDESC:Events for Complex Muzeal Național „Moldova” Iași
REFRESH-INTERVAL;VALUE=DURATION:PT1H
X-Robots-Tag:noindex
X-PUBLISHED-TTL:PT1H
BEGIN:VTIMEZONE
TZID:Europe/Bucharest
BEGIN:DAYLIGHT
TZOFFSETFROM:+0200
TZOFFSETTO:+0300
TZNAME:EEST
DTSTART:20250330T010000
END:DAYLIGHT
BEGIN:STANDARD
TZOFFSETFROM:+0300
TZOFFSETTO:+0200
TZNAME:EET
DTSTART:20251026T010000
END:STANDARD
END:VTIMEZONE
BEGIN:VEVENT
DTSTART;VALUE=DATE:20250121
DTEND;VALUE=DATE:20250201
DTSTAMP:20260421T165355
CREATED:20250121T142613Z
LAST-MODIFIED:20250217T145041Z
UID:27384-1737417600-1738367999@palatulculturii.ro
SUMMARY:Cel mai bun an din istoria Palatului Culturii
DESCRIPTION:Pe parcursul anului 2024\, Complexul Muzeal Național „Moldova” Iași a organizat peste 200 de evenimente culturale\, prilejuind întâlnirea cu un public numeros și\, totodată\, stabilind premisele unui program aniversar de excepție.\n„2024 a fost cel mai bun an din istoria Palatului și sunt convins că 2025 va fi memorabil\, pentru că toate proiectele noastre sunt așezate cu recunoștință în fața memoriei înaintașilor noștri\, care au întemeiat\, cu multă imaginație\, muncă și tenacitate acest loc dedicat excelenței\, valorilor perene\, patrimoniului neprețuit. Avem această datorie și\, totodată\, onoranta misiune de a păstra și de a pune în lumină acest impresionant patrimoniu\, pentru generațiile viitoare”\, afirmă Andrei Apreotesei\, managerul Complexului Muzeal Național „Moldova” Iași. \nDeschiderea Galeriei de Artă Europeană de la Muzeul de Artă Iași; valorificarea pentru public a „Monoxilei Moldovei” – barca medievală descoperită în albia râului Moldova\, expusă la Palatul Culturii; Instalații țărănești augmentate prin intermediul aplicației MuzeAR\, la Muzeul Etnografic al Moldovei; cea de-a XIV-a ediție a Festivalului Internațional al Muzicii Mecanice\, organizat de Muzeul Științei și Tehnicii „Ștefan Procopiu”; Târgurile meșterilor populari\, organizate de Muzeul Etnografic al Moldovei pe tot parcursul anului – sunt doar câteva dintre evenimentele derulate în 2024. Acestora li se adaugă conferințe\, simpozioane\, lansări de carte\, ateliere de educație muzeală\, evenimente în cadrul proiectelor Erasmus+. \nDe asemenea\, în 2024\, Palatul Culturii a primit vizita onorantă a Excelențelor Lor: dl. Nicolas Warnery\, Ambasadorul Franței în România; dl. Katae Takashi\, Ambasadorul Japoniei în România; dl. Paul Cunha Alvez – Ambasadorul Portugaliei în România; dl. Ali Yerlik\, Ambasador al Republicii Kazahstan în România\, precum și a numeroase delegații oficiale internaționale și personalități din diverse domenii. \n„Balul Palatului” va avea o ediție extraordinară în 2025\, evenimentul ajungând la a IV-a ediție\, iar „Concert la Palat”\, un proiect realizat în colaborare Opera Națională Română Iași și Ateneul Național din Iași\, care s-a bucurat de mare succes în 2024\, continuă\, prilejuind întâlnirile de marți ale publicului iubitor de muzică și patrimoniu muzeal\, deopotrivă. \nÎn cifre\, dintr-un total de peste 450.000 de beneficiari\, peste 370.000 de vizitatori au fost prezenți în spațiile muzeale în 2024\, instituția marcând o creștere cu peste 26 % a activităților\, peste 4.000.000 lei a încasărilor și peste 11 % a veniturilor proprii. \nAnul 2025 marchează un moment istoric pentru Iași și pentru patrimoniul cultural național: Palatul Culturii – Palat al Muzeelor\, simbol al orașului și al valorilor perene românești\, a ajuns la Centenar. În anul 1955\, vechiul Palat de Justiție a devenit Palat al Culturii\, în prezent aici aflându-se sediul Complexului Muzeal Național „Moldova” Iași și a patru muzee de talie națională\, Muzeul de Artă\, Muzeul de Istorie a Moldovei\, Muzeul Etnografic al Moldovei\, Muzeul Științei și Tehnicii „Ștefan Procopiu”\, alături de Centrul de Cercetare şi Conservare-Restaurare a Patrimoniului Cultural. \nPe 31 ianuarie 2025\, publicul este invitat la venisajul expoziției „Siviu Oravitzan – Cărările luminii”\, organizate de Complexul Muzeal Național „Moldova” Iași – Muzeul de Istorie a Moldovei\, în parteneriat cu Muzeul Național al Bucovinei din Suceava. Cu această ocazie\, vor fi prezentate mai multe detalii despre evenimentele pregătite pentru Centenarul Palatului. \nInvităm publicul să ne fie alături\, să ne susțină în demersul de promovare a muzeelor și să se bucure de evenimentele din acest an. \nVă așteptăm cu drag!
URL:https://palatulculturii.ro/eveniment/cel-mai-bun-an-din-istoria-palatului-culturii/
CATEGORIES:Palatul Culturii
ATTACH;FMTTYPE=image/jpeg:https://palatulculturii.ro/wp-content/uploads/2025/01/bilant-2024-1.jpg
END:VEVENT
BEGIN:VEVENT
DTSTART;TZID=Europe/Bucharest:20250122T100000
DTEND;TZID=Europe/Bucharest:20250417T153000
DTSTAMP:20260421T165355
CREATED:20250122T122814Z
LAST-MODIFIED:20250509T123336Z
UID:27397-1737540000-1744903800@palatulculturii.ro
SUMMARY:Atelierul educativ „Oglinzi din trecut: Grecia antică în vase și povestiri”
DESCRIPTION:Complexul Muzeal Național „Moldova” Iași\, prin Secția Mediere culturală\, proiecte\, marketing și cu sprijinul activ al Muzeului de Istorie a Moldovei\, desfășoară un nou atelier în perioada 22 ianuarie – 11 mai 2025\, organizat sub sigla Atelierele D.I.C.E. de la Palatul Culturii. Intitulat „Oglinzi din trecut: Grecia antică în vase și povestiri”\, atelierul are ca scop descoperirea acestei fascinante lumi prin prisma ceramicii decorate cu figuri roșii.\nPentru a oferi participanților o incursiune captivantă în cultura și mitologia Greciei antice\, vom explora mai întâi poveștile ascunse pe suprafața vaselor ceramice\, simbolurile artistice și semnificațiile lor istorice\, în expoziția „Grecii de peste mări: Vase cu figuri roșii din Etruria și Magna Grecia”\, după care vom continua activitatea practică în Sala de Educație Muzeală de la parterul Palatului Culturii. \nAtelierul este o oportunitate unică de a îmbina istoria\, arta și educația într-un mod accesibil și plăcut. Sub îndrumarea specialiștilor noștri\, participanții vor învăța despre rolul ceramicii în viața cotidiană și ceremonială a grecilor antici\, dar și despre influența culturii elene în Etruria și Magna Grecia.Atelierul durează aproximativ 90 de minute\, prețul unui bilet este de 40 lei. Programările se pot face la numărul de telefon 0232.275.979\, interior 116 și prin mesaj privat pe pagina Atelierele DICE. \nVă așteptăm să descoperim împreună un univers captivant!
URL:https://palatulculturii.ro/eveniment/atelierul-educativ-oglinzi-din-trecut-grecia-antica-in-vase-si-povestiri/
LOCATION:Palatul Culturii Iași – Complexul Muzeal Național „Moldova” Iași
CATEGORIES:Atelierele DICE,Muzeul de Istorie a Moldovei,Noutăți,Palatul Culturii
ATTACH;FMTTYPE=image/jpeg:https://palatulculturii.ro/wp-content/uploads/2025/01/Atelier-DICE-Grecii-de-peste-mari.jpg
END:VEVENT
END:VCALENDAR