	BEGIN:VCALENDAR
VERSION:2.0
PRODID:-//Complex Muzeal Național „Moldova” Iași - ECPv6.0.12//NONSGML v1.0//EN
CALSCALE:GREGORIAN
METHOD:PUBLISH
X-WR-CALNAME:Complex Muzeal Național „Moldova” Iași
X-ORIGINAL-URL:https://palatulculturii.ro
X-WR-CALDESC:Events for Complex Muzeal Național „Moldova” Iași
REFRESH-INTERVAL;VALUE=DURATION:PT1H
X-Robots-Tag:noindex
X-PUBLISHED-TTL:PT1H
BEGIN:VTIMEZONE
TZID:Europe/Bucharest
BEGIN:DAYLIGHT
TZOFFSETFROM:+0200
TZOFFSETTO:+0300
TZNAME:EEST
DTSTART:20240331T010000
END:DAYLIGHT
BEGIN:STANDARD
TZOFFSETFROM:+0300
TZOFFSETTO:+0200
TZNAME:EET
DTSTART:20241027T010000
END:STANDARD
BEGIN:DAYLIGHT
TZOFFSETFROM:+0200
TZOFFSETTO:+0300
TZNAME:EEST
DTSTART:20250330T010000
END:DAYLIGHT
BEGIN:STANDARD
TZOFFSETFROM:+0300
TZOFFSETTO:+0200
TZNAME:EET
DTSTART:20251026T010000
END:STANDARD
END:VTIMEZONE
BEGIN:VEVENT
DTSTART;VALUE=DATE:20241226
DTEND;VALUE=DATE:20250126
DTSTAMP:20260421T182735
CREATED:20250108T105747Z
LAST-MODIFIED:20250116T134414Z
UID:27137-1735171200-1737849599@palatulculturii.ro
SUMMARY:Expoziția de fotografie „Case vechi (care mor) din Lețcani”
DESCRIPTION:Complexul Muzeal Național „Moldova” Iași propune publicului o nouă expoziție în aer liber\, pe gardul Muzeului Unirii de pe Strada Alexandru Lăpușneanu nr. 14: „Case vechi (care mor) din Lețcani”.\nDerulată în perioada 26 decembrie 2024 – 25 ianuarie 2025\, expoziția de fotografie este organizată în parteneriat cu Primăria Municipiului Iași\, Uniunea Artiștilor Plastici din România – Filiala Iași\, Centrul Municipal de Memorie Vizuală Iași și PIM. \n„Fotografiate acum doi ani\, o parte din ele sunt doar amintire. Locul lor a fost/ va fi luat de construcții de beton fără personalitate\, fără ca proprietarul să-și dorească să le personalizeze așa cum au făcut părinții și bunicii lui. Expoziția este una documentară\, parte a unui proiect mai amplu\, satele județului Iași păstrând\, încă\, o zestre extraordinară\, mărturie a sufletului nobil al omului simplu”\, afirmă Ozolin Dușa. \nEvenimentul face parte din proiectul „Un an împreună”\, care cuprinde douăsprezece expoziții organizate de Ozolin Dușa pe gardul Muzeului Unirii\,  în perioada noiembrie 2024 –  noiembrie 2025.
URL:https://palatulculturii.ro/eveniment/expozitia-de-fotografie-case-vechi-care-mor-din-letcani/
LOCATION:Muzeul Unirii Iași\, Str. Alexandru Lăpușneanu nr. 14\, Iași\, România
CATEGORIES:Muzeul Unirii
ATTACH;FMTTYPE=image/jpeg:https://palatulculturii.ro/wp-content/uploads/2025/01/expo-case-vechi_ozolin-dusa_print.jpg
END:VEVENT
BEGIN:VEVENT
DTSTART;TZID=Europe/Bucharest:20250117T170000
DTEND;TZID=Europe/Bucharest:20250117T180000
DTSTAMP:20260421T182735
CREATED:20250116T133928Z
LAST-MODIFIED:20250116T134030Z
UID:27329-1737133200-1737136800@palatulculturii.ro
SUMMARY:Recital vocal-instrumental „Voci și povești”
DESCRIPTION:Complexul Muzeal Național „Moldova” Iași\, în parteneriat cu Universitatea Națională de Arte „George Enescu” Iași\, organizează vineri\, 17 ianuarie 2025\, începând cu ora 17.00\, în Sala „Henri Coandă” de la Palatul Culturii\, recitalul vocal-instrumental „Voci și povești”\, susținut de studenți ai Facultății de Interpretare\, Compoziție și Studii muzicale teoretice\, coordonați de prof. univ. dr. Cristina Simionescu-Fântână.\nProgramul evenimentului structurează o listă generoasă de lucrări din creația compozitorilor: G.F. Händel\, W.A. Mozart\, D. Cimarosa\, G. Rossini\, B. Sheremetev\, F. Lehár\, J. Strauss\, ce vor bucura auditoriul prin interpretarea studenților Evelina Maria Barcan\, Andreea Dumitran\, Giulia Alexia Portariuc\, Andreea Vecliuc\, Nectarie Cazaciuc\, Denis Josanu\, Teodora Păiuș\, Alexandra Spiridon\, Maria Băicănescu. \nLa pian: prof. univ. dr. Cezara Petrescu\, conf. univ. dr. Brîndușa Tudor\, conf. univ. dr. Vasilica Stoiciu-Frunză\, lect. univ. dr. Ina Cristea. \nLa acest eveniment\, intrarea este liberă\, în limita locurilor disponibile! \nVă așteptăm cu drag!
URL:https://palatulculturii.ro/eveniment/recital-vocal-instrumental-voci-si-povesti/
ATTACH;FMTTYPE=image/jpeg:https://palatulculturii.ro/wp-content/uploads/2025/01/2025.01.17afis_CMNM_fnl-scaled.jpg
END:VEVENT
END:VCALENDAR