	BEGIN:VCALENDAR
VERSION:2.0
PRODID:-//Complex Muzeal Național „Moldova” Iași - ECPv6.0.12//NONSGML v1.0//EN
CALSCALE:GREGORIAN
METHOD:PUBLISH
X-ORIGINAL-URL:https://palatulculturii.ro
X-WR-CALDESC:Events for Complex Muzeal Național „Moldova” Iași
REFRESH-INTERVAL;VALUE=DURATION:PT1H
X-Robots-Tag:noindex
X-PUBLISHED-TTL:PT1H
BEGIN:VTIMEZONE
TZID:Europe/Bucharest
BEGIN:DAYLIGHT
TZOFFSETFROM:+0200
TZOFFSETTO:+0300
TZNAME:EEST
DTSTART:20240331T010000
END:DAYLIGHT
BEGIN:STANDARD
TZOFFSETFROM:+0300
TZOFFSETTO:+0200
TZNAME:EET
DTSTART:20241027T010000
END:STANDARD
END:VTIMEZONE
BEGIN:VEVENT
DTSTART;TZID=Europe/Bucharest:20241219T100000
DTEND;TZID=Europe/Bucharest:20241222T170000
DTSTAMP:20260421T153148
CREATED:20241218T110254Z
LAST-MODIFIED:20241218T111121Z
UID:26942-1734602400-1734886800@palatulculturii.ro
SUMMARY:Târg de antichități la Palat
DESCRIPTION:În perioada 19 – 22 decembrie 2024\, Complexul Muzeal Național „Moldova” Iași invită publicul la un nou eveniment dedicat pasionaților de frumos\, în preajma sărbătorilor de  iarnă: Târg de antichități la Palat\, desfășurat la parterul Palatului Culturii.\nPasionații de obiecte vintage vor putea admira și achiziționa piese de numismatică\, filatelie și cartofilie\, precum și tablouri\, bijuterii\, ceasuri\, figurine din porțelan sau obiecte cu valențe etnografice\, etalate de colecționari din Botoșani\, Suceava\, Piatra Neamț\, Roman\, Iași\, Galați\, București și Blaj. \n„Târgul oferă prilejul de a admira piese originale\, valoroase prin vechimea apreciabilă și prin raritatea lor\, obiecte care cu siguranță vor bucura privirile vizitatorilor și le vor oferi idei de cadouri inedite pentru cei dragi”\, apreciază Andrei Apreotesei\, managerul Complexului Muzeal Național „Moldova” Iași. \nTârgul poate fi vizitat de joi până sâmbătă\, în intervalul orar 10.00 – 20.00; duminică\, orele 10.00 – 17.00. La acest eveniment\, intrarea este liberă. \nVă așteptăm cu drag!
URL:https://palatulculturii.ro/eveniment/targ-de-antichitati-la-palat/
LOCATION:Palatul Culturii Iași – Complexul Muzeal Național „Moldova” Iași
CATEGORIES:Palatul Culturii
ATTACH;FMTTYPE=image/jpeg:https://palatulculturii.ro/wp-content/uploads/2024/12/targ-antichitati-Palat.jpg
END:VEVENT
BEGIN:VEVENT
DTSTART;TZID=Europe/Bucharest:20241219T100000
DTEND;TZID=Europe/Bucharest:20241222T180000
DTSTAMP:20260421T153148
CREATED:20241217T121149Z
LAST-MODIFIED:20241217T122232Z
UID:26924-1734602400-1734890400@palatulculturii.ro
SUMMARY:Târg de Crăciun al Meșterilor Populari în Piața Unirii din Iași
DESCRIPTION:Muzeul Etnografic al Moldovei din cadrul Complexului Muzeal Național „Moldova” Iași\, în colaborare cu Asociaţia „ART – Meşteşugurile Prutului” și Primăria Municipiului Iași\, invită publicul să participe la Târgul de Crăciun al Meșterilor Populari\, desfășurat în perioada 19 – 22 decembrie 2024\, în Piața Unirii din Iaşi.\nAjuns la cea de-a IV-a ediție\, târgul reunește 25 de meșteri populari din Moldova și din alte zone etnografice ale României. Vizitatorii vor regăsi aici obiecte autentice\, daruri tradiționale de Crăciun și Anul Nou\, care provin din diferite domenii meșteșugărești: port popular\, pictură icoane\, olărit\, cioplituri în lemn\, împletituri din fibre vegetale\, ţesături\, pielărit etc. \n„Vă invităm să ne bucurăm împreună de prezența acestor valoroși creatori populari și să continuăm tradiția frumoaselor noastre obiceiuri din cea mai însemnată perioadă de sărbătoare românească a anului”\, afirmă Andrei Apreotesei\, manager al Complexului Muzeal Național „Moldova” Iași. \nPrintre invitații acestei ediții se numără și reprezentanți ai Centrului de Informare Turistică din Ungheni – Republica Moldova și ai Centrului de meșteșuguri „Covorul dorului” din Sărata Veche\, Fălești – Republica Moldova. \nFestivitatea de deschidere va avea loc joi\, 19 decembrie 2024\, de la ora 14.30 și va prilejui publicului întâlnirea cu elevi de la Palatul Copiilor din Iași\, precum și cu grupul de dansatori de la Căminul Cultural al comunei Scânteia – județul Iași\, care vor aduce în centrul orașului colinde\, cântece și dansuri populare specifice sărbătorilor de iarnă. \n„Meșterii populari doresc să aducă un strop de bucurie și de speranță ieșenilor\, precum și turiștilor care ajung în această perioadă la Iași\, expunând obiecte tradiționale lucrate cu dragoste și trudă. Nu vor lipsi\, desigur\, demonstrațiile meșteșugărești și atelierele de creație interactive”\, subliniază Silvia Cozmîncă\, preşedinte al Asociaţiei „ART – Meşteşugurile Prutului”. \nEvenimentul este organizat în parteneriat cu Asociaţia Dialog Pentru Dezvoltare (ADD) – Iași; Asociația Societăților Imobiliare din Moldova (A.S.I.M.); GAL Stejarii Argintii\, Iași; Palatul Copiilor\, Iași; Căminul Cultural al comunei Scânteia\, județul Iași. \nTârgul de Crăciun al Meșterilor Populari poate fi vizitat de joi până duminică\, între orele 10.00 și 18.00. \nVă aşteptăm cu drag!
URL:https://palatulculturii.ro/eveniment/targ-de-craciun-al-mesterilor-populari-piata-unirii-din-iasi/
CATEGORIES:Muzeul Etnografic al Moldovei
ATTACH;FMTTYPE=image/jpeg:https://palatulculturii.ro/wp-content/uploads/2024/12/Targ-mesteri_Piata-Unirii.jpg
END:VEVENT
END:VCALENDAR