	BEGIN:VCALENDAR
VERSION:2.0
PRODID:-//Complex Muzeal Național „Moldova” Iași - ECPv6.0.12//NONSGML v1.0//EN
CALSCALE:GREGORIAN
METHOD:PUBLISH
X-ORIGINAL-URL:https://palatulculturii.ro
X-WR-CALDESC:Events for Complex Muzeal Național „Moldova” Iași
REFRESH-INTERVAL;VALUE=DURATION:PT1H
X-Robots-Tag:noindex
X-PUBLISHED-TTL:PT1H
BEGIN:VTIMEZONE
TZID:Europe/Bucharest
BEGIN:DAYLIGHT
TZOFFSETFROM:+0200
TZOFFSETTO:+0300
TZNAME:EEST
DTSTART:20240331T010000
END:DAYLIGHT
BEGIN:STANDARD
TZOFFSETFROM:+0300
TZOFFSETTO:+0200
TZNAME:EET
DTSTART:20241027T010000
END:STANDARD
END:VTIMEZONE
BEGIN:VEVENT
DTSTART;TZID=Europe/Bucharest:20241210T090000
DTEND;TZID=Europe/Bucharest:20241212T170000
DTSTAMP:20260421T153200
CREATED:20250816T044941Z
LAST-MODIFIED:20250816T044941Z
UID:35074-1733821200-1734022800@palatulculturii.ro
SUMMARY:Activitate de învățare în cadrul proiectului Erasmus Plus REACT
DESCRIPTION:În cadrul proiectului Erasmus Plus „Ressources for Accessible Cultural Tours”\, în perioada 10-12 decembrie 2024\, la Paris\, se va desfășura o activitate de învățare destinată profesioniștilor din domeniul muzeal-cultural\, vizând însușirea de abilități de accesibilizare a conținutului propus vizitatorilor. \nProiectul\, coordonat de Antenna Audio (ALTO) – Franța\, parteneri fiind Les Apprimeurs – Franța\, Logopsycom – Belgia\, Arteria – Polonia\, Complexul Muzeal Național „Moldova” Iași – România\, se axează pe transmiterea de bune practici de incluziune și instrumente de accesibilizare a muzeelor pentru toate categoriile de public.
URL:https://palatulculturii.ro/eveniment/activitate-de-invatare-in-cadrul-proiectului-erasmus-plus-react/
END:VEVENT
END:VCALENDAR