	BEGIN:VCALENDAR
VERSION:2.0
PRODID:-//Complex Muzeal Național „Moldova” Iași - ECPv6.0.12//NONSGML v1.0//EN
CALSCALE:GREGORIAN
METHOD:PUBLISH
X-WR-CALNAME:Complex Muzeal Național „Moldova” Iași
X-ORIGINAL-URL:https://palatulculturii.ro
X-WR-CALDESC:Events for Complex Muzeal Național „Moldova” Iași
REFRESH-INTERVAL;VALUE=DURATION:PT1H
X-Robots-Tag:noindex
X-PUBLISHED-TTL:PT1H
BEGIN:VTIMEZONE
TZID:Europe/Bucharest
BEGIN:DAYLIGHT
TZOFFSETFROM:+0200
TZOFFSETTO:+0300
TZNAME:EEST
DTSTART:20240331T010000
END:DAYLIGHT
BEGIN:STANDARD
TZOFFSETFROM:+0300
TZOFFSETTO:+0200
TZNAME:EET
DTSTART:20241027T010000
END:STANDARD
END:VTIMEZONE
BEGIN:VEVENT
DTSTART;TZID=Europe/Bucharest:20241206T100000
DTEND;TZID=Europe/Bucharest:20241208T170000
DTSTAMP:20260421T165357
CREATED:20241203T124509Z
LAST-MODIFIED:20241204T074422Z
UID:26821-1733479200-1733677200@palatulculturii.ro
SUMMARY:Târgul de Sfântul Nicolae al meșterilor populari\, la Palatul Culturii din Iași
DESCRIPTION:Muzeul Etnografic al Moldovei din cadrul Complexului Muzeal Național „Moldova” Iași invită publicul la o nouă întâlnire cu tradițiile și obiceiurile de iarnă: „Târgul de Sfântul Nicolae al meșterilor populari”\, eveniment desfășurat în perioada 6 – 8 decembrie 2024\, la Palatul Culturii (parter).\nMenit să marcheze debutul celei mai așteptate perioade de peste an\, cea a sărbătorilor de iarnă\, târgul oferă vizitatorilor prilejul de a admira obiecte tradiționale și de a descoperi cadouri speciale de Crăciun\, daruri unicat pentru cei dragi\, realizate de peste 20 de meșteri populari din Moldova\, veniți din numeroase localități ale județelor Botoșani\, Neamț\, Suceava și Iași. \nMăști de Anul Nou\, traiste\, clopoței\, obiecte din domenii meșteșugărești precum port popular\, ţesături\, pictură icoane\, cioplituri în lemn\, împletituri din fibre vegetale\, ceramică sau artă naivă\, vor aduce spiritul sărbătorilor în edificiul simbol al Iașului\, Palatul Culturii. „Vă invităm să vă bucurați\, în cadrul acestui Târg de Sfântul Nicolae organizat pentru prima dată în această formă\, de obiecte unicat ce recompun atmosfera sărbătorilor din satul de altădată\, pe care specialiștii Muzeului Etnografic al Moldovei o promovează prin intermediul expozițiilor organizate pe întreg parcursul anului și în cadrul evenimentelor la care meșterii populari sunt invitați să ne dăruiască din munca și talentul lor”\, apreciază Andrei Apreotesei\, managerul Complexului Muzeal Național „Moldova” Iași. \n„Târgul de Sfântul Nicolae al meșterilor populari” poate fi vizitat între orele 10.00 și 17.00. La acest eveniment\, intrarea este liberă. \nVă așteptăm cu drag!
URL:https://palatulculturii.ro/eveniment/targul-de-sfantul-nicolae-al-mesterilor-populari-la-palatul-culturii-din-iasi/
CATEGORIES:Muzeul Etnografic al Moldovei,Palatul Culturii
ATTACH;FMTTYPE=image/jpeg:https://palatulculturii.ro/wp-content/uploads/2024/12/20241206-etno-mesteri-web.jpg
END:VEVENT
BEGIN:VEVENT
DTSTART;TZID=Europe/Bucharest:20241207T100000
DTEND;TZID=Europe/Bucharest:20241207T170000
DTSTAMP:20260421T165357
CREATED:20241204T095203Z
LAST-MODIFIED:20241204T095203Z
UID:26837-1733565600-1733590800@palatulculturii.ro
SUMMARY:Concursul Internaţional de Interpretare  Vocal-instrumentală „Armonii sonore in muzica tradiţională''
DESCRIPTION:Muzeul Ştiinţei şi Tehnicii „Ştefan Procopiu” din cadrul Complexului Muzeal Naţional „Moldova” laşi\, în parteneriat cu Asociaţia Art & Music Day\, Universitatea Naţională de Arte „George Enescu” laşi\, Colegiul Naţional de Artă „0ctav Băncilă”\, vă invită sâmbătă\, 7 decembrie 2024\, între orele 10.00 – 17.00\, la Concursul Internaţional de Interpretare Vocal-lnstrumentală „Armonii Sonore în Muzica Tradiţională”\, care va avea loc la Palatul Culturii – Sala „Ştefan Procopiu”.\n„Competiţia promite să aducă pe scenă tineri artişti talentaţi\, fiecare cu un mesaj muzical unic\, care va contribui la promovarea tradiţiilor şi valorilor culturale româneşti”\, apreciază Andrei Apreotesei\, managerul Complexului Muzeal Naţional „Moldova” laşi.\nProgramul ediţiei concursului din acest an se va desfăşura în mai multe locaţii din laşi\, fiind un bun prilej pentru a descoperi viitoare talente muzicale. Secţiunile la care pot participa candidaţii înscrişi la concurs sunt: muzică uşoară\, jazz\, muzică tradiţională\, canto clasic şi compoziţie muzicală. Secţiunea de Muzică Tradiţională va fi găzduită de Sala „Ştefan Procopiu” de la Palatului Culturii laşi.\nVă invităm cu drag să ne fiţi alături la acest eveniment deosebit şi să susţineţi performanţele impresionante ale participanţilor!
URL:https://palatulculturii.ro/eveniment/concursul-international-de-interpretare-vocal-instrumentala-armonii-sonore-in-muzica-traditionala/
LOCATION:Palatul Culturii\, Sala „Ștefan Procopiu”
CATEGORIES:Palatul Culturii
ATTACH;FMTTYPE=image/jpeg:https://palatulculturii.ro/wp-content/uploads/2024/12/afis-5-1-scaled.jpg
END:VEVENT
BEGIN:VEVENT
DTSTART;TZID=Europe/Bucharest:20241207T170000
DTEND;TZID=Europe/Bucharest:20241207T183000
DTSTAMP:20260421T165357
CREATED:20241204T075530Z
LAST-MODIFIED:20241204T120835Z
UID:26834-1733590800-1733596200@palatulculturii.ro
SUMMARY:Seară Culturală Poloneză
DESCRIPTION:Muzeul Științei și Tehnicii „Ștefan Procopiu” din cadrul Complexului Muzeal Național „Moldova” Iași\, în parteneriat cu Uniunea Polonezilor din România „Dom Polski” – Filiala Iași\, Asociația Crescendo Events\,  Universitatea „Alexandru Ioan Cuza” Iași – Facultatea de Litere\, Lectoratul de Limbă Polonă – Catedra de Slavistică „Petru Caraman” și Colegiul Național de Artă „Octav Băncilă” Iași\, vă invită sâmbătă\, 7 decembrie 2024\, ora 17.00\, în Sala „Henri Coandă” a Palatului Culturii\, la o „Seară Culturală Poloneză”.\n„Acest eveniment cultural este un prilej deosebit pentru a descoperi limba\, cultura și tradițiile comunității poloneze\, o prezență cu o istorie bogată în România”\, declară Andrei Apreotesei\, managerul Complexului Muzeal Național „Moldova” Iași.\nProgramul serii va include colinde în limba polonă\, muzică vocală și instrumentală din creația unor mari compozitori polonezi\, precum și dansuri tradiționale din Polonia.\nEdiția din 2024 se va bucura de prezența unor tineri talentați\, precum studenți de la Lectoratul de limbă polonă – Catedra de Slavistică a Universității „Alexandru Ioan Cuza” Iași și elevi ai Colegiului Național de Artă „Octav Băncilă” din Iași. Programul muzical va fi susținut de Ana Karina Voion\, Anastasia Sârghie (pian)\, Ana Maria Ciorap\, Denisa Natalia Iovu\, Daria Elena Străchinaru (canto)\, Alina Andriuți-Shemchuk (pian) – Opera Națională Română Iași și Ansamblul „Mała Pojana” din Poiana Micului (județul Suceava)\, coordonat de Agneșca Polacec.\nVă așteptăm cu drag pentru o seară specială\, de celebrare a culturii poloneze!
URL:https://palatulculturii.ro/eveniment/seara-culturala-poloneza-3/
CATEGORIES:Palatul Culturii
ATTACH;FMTTYPE=image/jpeg:https://palatulculturii.ro/wp-content/uploads/2024/12/Afis-polonezi-2024-scaled.jpg
END:VEVENT
END:VCALENDAR