	BEGIN:VCALENDAR
VERSION:2.0
PRODID:-//Complex Muzeal Național „Moldova” Iași - ECPv6.0.12//NONSGML v1.0//EN
CALSCALE:GREGORIAN
METHOD:PUBLISH
X-ORIGINAL-URL:https://palatulculturii.ro
X-WR-CALDESC:Events for Complex Muzeal Național „Moldova” Iași
REFRESH-INTERVAL;VALUE=DURATION:PT1H
X-Robots-Tag:noindex
X-PUBLISHED-TTL:PT1H
BEGIN:VTIMEZONE
TZID:Europe/Bucharest
BEGIN:DAYLIGHT
TZOFFSETFROM:+0200
TZOFFSETTO:+0300
TZNAME:EEST
DTSTART:20240331T010000
END:DAYLIGHT
BEGIN:STANDARD
TZOFFSETFROM:+0300
TZOFFSETTO:+0200
TZNAME:EET
DTSTART:20241027T010000
END:STANDARD
END:VTIMEZONE
BEGIN:VEVENT
DTSTART;TZID=Europe/Bucharest:20241112T190000
DTEND;TZID=Europe/Bucharest:20241112T203000
DTSTAMP:20260421T153200
CREATED:20241111T145237Z
LAST-MODIFIED:20241112T115257Z
UID:26417-1731438000-1731443400@palatulculturii.ro
SUMMARY:Concert la Palat: „Vioara lui Enescu” | Gabriel Croitoru\, Simina Croitoru\, Mircea Dumitrescu și Paul Răducanu
DESCRIPTION:Complexul Muzeal Național „Moldova” Iași\, în parteneriat cu Ateneul Național din Iași\, invită publicul la un nou eveniment sub genericul „Concert la Palat”\, marți\, 12 noiembrie 2024\, ora 19.00\, la un recital extraordinar susținut de violoniștii Gabriel Croitoru\, Simina Croitoru\, Mircea Dumitrescu și Paul Răducanu.\nPentru prima dată în istoria României\, toate cele patru viori care i-au aparținut violonistului și compozitorului George Enescu\, aflate în patrimoniul Muzeului Național „George Enescu” din București\,  se vor regăsi împreună pe aceeași scenă\, în noiembrie 2024\, într-un turneu național. \nCei patru violoniști care vor cânta la cele patru instrumente sunt Gabriel Croitoru\, pe vioara Guarneri del Gesù „Catedrala” din 1731 – instrument la care cântă din 2008\, realizând până acum nu mai puţin de 12 turnee naţionale pentru promovarea acesteia din anul 2012 până în prezent\, cel din 2024 fiind al 13-lea\, Simina Croitoru\, pe vioara Paul Kaul din 1931\, Paul Răducanu\, pe vioara Paul Kaul din 1930 și Mircea Dumitrescu pe o vioară Frères Pierre şi Hippolyte Silvestre din 1835. \nProgram muzical: Vioara lui Enescu 2024 \nBilete\, pe site-ul organizatorului principal al acestui eveniment: Ateneul Național din Iași \n 
URL:https://palatulculturii.ro/eveniment/concert-la-palat-vioara-lui-enescu-gabriel-croitoru-simina-croitoru-mircea-dumitrescu-si-paul-raducanu/
LOCATION:Holul de Onoare – Palatul Culturii din Iași
CATEGORIES:Palatul Culturii
ATTACH;FMTTYPE=image/jpeg:https://palatulculturii.ro/wp-content/uploads/2024/11/concert-la-palat-ateneu-vioara-nescu.jpg
END:VEVENT
END:VCALENDAR