	BEGIN:VCALENDAR
VERSION:2.0
PRODID:-//Complex Muzeal Național „Moldova” Iași - ECPv6.0.12//NONSGML v1.0//EN
CALSCALE:GREGORIAN
METHOD:PUBLISH
X-WR-CALNAME:Complex Muzeal Național „Moldova” Iași
X-ORIGINAL-URL:https://palatulculturii.ro
X-WR-CALDESC:Events for Complex Muzeal Național „Moldova” Iași
REFRESH-INTERVAL;VALUE=DURATION:PT1H
X-Robots-Tag:noindex
X-PUBLISHED-TTL:PT1H
BEGIN:VTIMEZONE
TZID:Europe/Bucharest
BEGIN:DAYLIGHT
TZOFFSETFROM:+0200
TZOFFSETTO:+0300
TZNAME:EEST
DTSTART:20240331T010000
END:DAYLIGHT
BEGIN:STANDARD
TZOFFSETFROM:+0300
TZOFFSETTO:+0200
TZNAME:EET
DTSTART:20241027T010000
END:STANDARD
END:VTIMEZONE
BEGIN:VEVENT
DTSTART;TZID=Europe/Bucharest:20241108T100000
DTEND;TZID=Europe/Bucharest:20241110T190000
DTSTAMP:20260421T152244
CREATED:20241106T095325Z
LAST-MODIFIED:20241106T095648Z
UID:26389-1731060000-1731265200@palatulculturii.ro
SUMMARY:„Meşteri şi meşteşuguri tradiţionale din Moldova” - Ediția a XIV-a
DESCRIPTION:Muzeul Etnografic al Moldovei din cadrul Complexului Muzeal Național „Moldova” Iași\, în calitate de partener al Asociaţiei „ART – Meşteşugurile Prutului”\, invită publicul să participe la cea de-a XIV-a ediţie a manifestării cultural-interactive „Meşteri şi meşteşuguri tradiţionale din Moldova”\, ce se va desfăşura în perioada 8 – 10 noiembrie 2024\, între orele 10.00 și 19.00\, pe Esplanada Palatului Culturii.\nEvenimentul reunește 30 meşteri populari\, din Moldova şi din alte zone etnografice ale României\, precum și din Republica Moldova\, care expun spre vânzare obiecte meşteşugăreşti autentice. Programul cuprinde\, de asemenea\, demonstrații practice și ateliere de pictură icoane\, cioplitură lemn\, încondeiere ouă\, împletituri din fibre vegetale\, ţesături – activități interactive destinate atât copiilor\, cât şi adulţilor. \n„Dorim să realizăm\, pentru trei zile\, o atmosferă de lucru şi de comunicare între generații pe domeniul meşteşugurilor traditionale românești. Ne vor fi alături elevi de la Palatul Copiilor din Iași\, precum și de la atelierele de creație populară desfășurate de asociația noastră prin programe educaționale și proiecte cu școli și ONG-uri”\, afirmă Silvia Cozmîncă\, preşedinte Asociaţia „ART – Meşteşugurile Prutului”. \nDedicat Zilei Internaționale a Patrimoniului Cultural Imaterial\, evenimentul este organizat în colaborare cu Primăria Municipiului Iași\, în parteneriat cu Asociația Societăților Imobiliare din Moldova (A.S.I.M.); Asociaţia Dialog Pentru Dezvoltare – Iași; Palatul Copiilor\, Iași; Asociația „GAL Stejarii Argintii” – comuna Miroslava\, județul Iași. \n„Reîntâlnirea cu meșterii populari este întotdeauna o bucurie\, atât pentru publicul care apreciază tradițiile și obiceiurile\, cât și pentru specialiștii a căror misiune nobilă este aceea de a sprijini demersurile de conservare și promovare a acestor valori”\, subliniază Andrei Apreotesei\, manager al Complexului Muzeal Național „Moldova” Iași. \nAsociaţia „ART – Meşteşugurile Prutului”\, ONG dedicat tradițiilor din România\, acreditat de UNESCO în anul 2024\, organizează\, periodic\, evenimente menite să promoveze valorile perene ale culturii tradiţionale româneşti\, cu precădere din Moldova de pe ambele maluri ale Prutului\, precum și transmiterea acestora către tânăra generație. \nVă aşteptăm cu drag!
URL:https://palatulculturii.ro/eveniment/mesteri-si-mestesuguri-traditionale-din-moldova-editia-a-xiv-a/
LOCATION:Esplanada Palatul Culturii\, Iași\, România
CATEGORIES:Muzeul Etnografic al Moldovei
ATTACH;FMTTYPE=image/jpeg:https://palatulculturii.ro/wp-content/uploads/2024/11/targ-mestesugurile-prutului_afis.jpg
END:VEVENT
BEGIN:VEVENT
DTSTART;TZID=Europe/Bucharest:20241109T120000
DTEND;TZID=Europe/Bucharest:20241109T140000
DTSTAMP:20260421T152244
CREATED:20241106T073403Z
LAST-MODIFIED:20241106T073434Z
UID:26376-1731153600-1731160800@palatulculturii.ro
SUMMARY:Lansare de carte la Muzeul Unirii din Iași
DESCRIPTION:Muzeul Unirii din cadrul Complexului Muzeal Național „Moldova” Iași invită publicul sâmbătă\, 9 noiembrie 2024\, de la ora 12.00\, la un nou eveniment organizat de Cenaclul literar-muzical „Lira Prutului” din Iași.\nÎntâlnirea va debuta cu lansarea cărții „Moartea unui Cenaclu”\, de Nina Gonța\, autoare aflată la cea de-a treia piesă de teatru\, după „Basarabie… în lacrimi” și „Cum să devii scriitor”.  Volumul va fi prezentat de Nelly Cozaru\, Irina Nechit\, Didina Sava. Un fragment din această piesă\, despre care Nina Gonța mărturisește că\, „în puține cuvinte\, e despre nimicnicia omenească”\, va fi prezentat de elevii Andronache Andreea-Monica și Niamțu Sabin-Andrei\, de la Colegiul Tehnic „Ioan C. Ștefănescu” din Iași\, coordonați de prof. Galiță Victoria. \nProgramul va continua cu minirecitaluri literar-muzicale\, susținute de invitați din Republica Moldova: Cenaclul literar-artistic „Vocea generațiilor” din Chișinău (președinte Ana Onică) și Cenaclul literar-artistic „Suflet de poet” din Ungheni (președinte Rodica Toma). De asemenea\, evenimentul cuprinde un moment de iluzionism\, susținut de Neculai Ochiană (Magicianul Nicolas)\, precum și momente muzicale susținute de tenorul Paul Celmare și grupul vocal „NOI”\, coordonat de Ana Ștefănică. \nIntrarea este liberă\, în limita locurilor disponibile. „Prin astfel de evenimente\, muzeul își demonstrează plurivalența pentru societatea contemporană\, în rândul căreia manifestă un rol dinamic”\, afirmă Andrei Apreotesei\, manager al Complexului Muzeal Național „Moldova” Iași. \nCuprinzând un valoros patrimoniu de istorie modernă\, Muzeul Unirii\, situat în Iași\, pe Strada „Alexandru Lăpușneanu” nr. 14\, poate fi vizitat de miercuri până duminică\, în intervalul orar 10.00 – 17.00 (ora 16.30\, ultimul bilet). Detalii\, pe site: https://palatulculturii.ro/muzeul-unirii/ \nVă așteptăm cu drag!
URL:https://palatulculturii.ro/eveniment/lansare-de-carte-la-muzeul-unirii-din-iasi-2/
CATEGORIES:Muzeul Unirii
ATTACH;FMTTYPE=image/jpeg:https://palatulculturii.ro/wp-content/uploads/2024/11/Lansare-carte-9-nov.jpg
END:VEVENT
END:VCALENDAR