	BEGIN:VCALENDAR
VERSION:2.0
PRODID:-//Complex Muzeal Național „Moldova” Iași - ECPv6.0.12//NONSGML v1.0//EN
CALSCALE:GREGORIAN
METHOD:PUBLISH
X-ORIGINAL-URL:https://palatulculturii.ro
X-WR-CALDESC:Events for Complex Muzeal Național „Moldova” Iași
REFRESH-INTERVAL;VALUE=DURATION:PT1H
X-Robots-Tag:noindex
X-PUBLISHED-TTL:PT1H
BEGIN:VTIMEZONE
TZID:Europe/Bucharest
BEGIN:DAYLIGHT
TZOFFSETFROM:+0200
TZOFFSETTO:+0300
TZNAME:EEST
DTSTART:20240331T010000
END:DAYLIGHT
BEGIN:STANDARD
TZOFFSETFROM:+0300
TZOFFSETTO:+0200
TZNAME:EET
DTSTART:20241027T010000
END:STANDARD
END:VTIMEZONE
BEGIN:VEVENT
DTSTART;TZID=Europe/Bucharest:20241105T183000
DTEND;TZID=Europe/Bucharest:20241105T200000
DTSTAMP:20260421T153203
CREATED:20241104T105424Z
LAST-MODIFIED:20241104T111258Z
UID:26330-1730831400-1730836800@palatulculturii.ro
SUMMARY:„Concert la Palat”: „Călătorie prin muzicile tradiționale ale lumii”
DESCRIPTION:Complexul Muzeal Național „Moldova” Iași\, în parteneriat cu Opera Națională Română Iași\, invită publicul la un nou eveniment din seria „Concert la Palat”: „Călătorie prin muzicile tradiționale ale lumii”.\nEvenimentul va avea loc marți\, 5 noiembrie 2024\, începând cu ora 18.30\, în Holul de Onoare al Palatului Culturii din Iași. \nInterpretează: \nRadu Cotoman – vioară \nEmerich Ghercă – violoncel \nAdrian Fântână  – contrabas \nCătălin Simerea  – flaut \nSilviu Butnaru – clarinet \nCiprian Oloi – pian. \nVă invităm să urmăriți detaliile pe site-ul instituției partenere și vă așteptăm cu drag! \nBilete: Opera Națională Română Iași
URL:https://palatulculturii.ro/eveniment/concert-la-palat-calatorie-prin-muzicile-traditionale-ale-lumii/
LOCATION:Holul de Onoare – Palatul Culturii din Iași
CATEGORIES:Palatul Culturii
ATTACH;FMTTYPE=image/jpeg:https://palatulculturii.ro/wp-content/uploads/2024/11/concert-palat-opera-5-noiembrie.jpg
END:VEVENT
END:VCALENDAR