	BEGIN:VCALENDAR
VERSION:2.0
PRODID:-//Complex Muzeal Național „Moldova” Iași - ECPv6.0.12//NONSGML v1.0//EN
CALSCALE:GREGORIAN
METHOD:PUBLISH
X-WR-CALNAME:Complex Muzeal Național „Moldova” Iași
X-ORIGINAL-URL:https://palatulculturii.ro
X-WR-CALDESC:Events for Complex Muzeal Național „Moldova” Iași
REFRESH-INTERVAL;VALUE=DURATION:PT1H
X-Robots-Tag:noindex
X-PUBLISHED-TTL:PT1H
BEGIN:VTIMEZONE
TZID:Europe/Bucharest
BEGIN:DAYLIGHT
TZOFFSETFROM:+0200
TZOFFSETTO:+0300
TZNAME:EEST
DTSTART:20240331T010000
END:DAYLIGHT
BEGIN:STANDARD
TZOFFSETFROM:+0300
TZOFFSETTO:+0200
TZNAME:EET
DTSTART:20241027T010000
END:STANDARD
END:VTIMEZONE
BEGIN:VEVENT
DTSTART;TZID=Europe/Bucharest:20241026T100000
DTEND;TZID=Europe/Bucharest:20241026T170000
DTSTAMP:20260421T152139
CREATED:20241022T095320Z
LAST-MODIFIED:20241022T095320Z
UID:26141-1729936800-1729962000@palatulculturii.ro
SUMMARY:26 octombrie 2024: Deschiderea Galeriei de Artă Europeană a Muzeului de Artă Iași
DESCRIPTION:Complexul Muzeal Național „Moldova” Iași – Muzeul de Artă invită publicul la Palatul Culturii\, începând cu data de 26 octombrie 2024\, să se bucure de un eveniment expozițional mult așteptat\, atât de către specialiștii din domeniu\, cât și de publicul larg\, iubitor de frumos: Deschiderea Galeriei de Artă Europeană.\nEvenimentul marchează împlinirea a 164 de ani de existenţă a primului muzeu de artă înființat în Principatele Române: Pinacoteca ieșeană\, inaugurată la 26 octombrie 1860. Evenimentul constituie\, totodată\, un omagiu adus personalităților care au contribuit astfel la înființarea Muzeului de Artă din Iași\, înzestrându-l cu remarcabile opere de artă. \n„După ce\, în aprilie 2016\, se redeschidea Palatul Culturii în urma finalizării unui amplu proiect de restaurare implementat de Ministerul Culturii prin Unitatea de Management a Proiectului\, Muzeul de Artă aducând atunci în atenția vizitatorilor arta românească interbelică\, acum\, la ceas aniversar\, la împlinirea a 164 de ani de activitate\, deschidem pentru publicul larg GALERIA DE ARTĂ EUROPEANĂ. Răspundem astfel unei uriașe așteptări\, de a revedea pe simezele ieșene opere de o valoare inestimabilă”\, afirmă Andrei Apreotesei\, managerul Complexului Muzeal Național „Moldova” Iași. \nLucrările care pot fi admirate acum pe simezele Muzeului de Artă au beneficiat de atenția și profesionalismul experților în conservare-restaurare\, atât de la Centrul de Cercetare şi Conservare Restaurare a Patrimoniului Cultural Iași\, cât și de la Muzeul Național Brukenthal Sibiu și de la Complexul Muzeal „Iulian Antonescu” Bacău. \nNucleul în jurul căruia s-a dezvoltat an de an patrimoniul Muzeului de Artă îl constituie douăsprezece picturi din arta europeană provenite din colecția marchizului Las Marismas\, pe care revoluționarul pașoptist Scarlat Vârnav le-a achiziționat din capitala Franței\, donându-le ulterior cu intenția de a „pune cu ele temelia unui muzeu de tablouri în capitala Moldovei\, spre eterna sa memorie”. Operele donate sunt atribuite unor artiști celebri ai picturii europene dintre care amintim: Peter Paul Rubens – „Cezar primind capul lui Pompei” – precursor al stilului baroc\, creatorul unei opere inovatoare cu un puternic caracter naturalist\, Bartolomé Esteban Murillo – „Fecioara în extaz” – reprezentant de seamă al barocului spaniol\, Pietro Liberi – „Judita și Holofern” – reprezentant al barocului venețian\, Eustache Le Sueur – „Phaeton” – reprezentant al clasicismului francez\, Felix Henri Philipoteaux – „Berezina”\, Philippe de Champaigne – „Autoportret” etc. Patrimoniul de artă europeană al Muzeului de Artă s-a îmbogățit treptat\, constituindu-se prin donații\, achiziții sau transferuri. \nÎn cele cinci săli ale Galeriei de Artă Europeană\, vizitatorii pot admira o selecție semnificativă din această colecție\, care etalează într-un concept actual\, prin piese de mare rafinament și performanță tehnică\, arta din Italia\, Franța\, Spania\, Olanda\, Austria\, Cehia\, Germania\, Rusia și Polonia. \nExpoziția cu caracter permanent cuprinde optzeci și patru de opere (pictură și sculptură)\, panotate după criteriul școlilor naționale. \nGaleria de de Artă Europeană poate fi vizitată de miercuri până duminică\, între orele 10.00 și 17.00\, în spațiile Muzeului de Artă\, cu biletul aferent acestuia (20 lei pentru adulți/ 10 lei pentru pensionari/ 5 lei pentru elevi și studenți). \nVă așteptăm cu drag!
URL:https://palatulculturii.ro/eveniment/26-octombrie-2024-deschiderea-galeriei-de-arta-europeana-a-muzeului-de-arta-iasi/
CATEGORIES:Muzeul de Artă,Palatul Culturii
ATTACH;FMTTYPE=image/jpeg:https://palatulculturii.ro/wp-content/uploads/2024/10/Inaugurare-Galeria-de-ArtaContemporana_afis-web.jpg
END:VEVENT
BEGIN:VEVENT
DTSTART;TZID=Europe/Bucharest:20241026T140000
DTEND;TZID=Europe/Bucharest:20241026T150000
DTSTAMP:20260421T152139
CREATED:20241022T115215Z
LAST-MODIFIED:20241022T115215Z
UID:26163-1729951200-1729954800@palatulculturii.ro
SUMMARY:Prezentare și discuție filosofică „SUN TZU – ARTA RĂZBOIULUI. ÎNVĂȚĂTURI MORALE PENTRU MOMENTUL ACTUAL”
DESCRIPTION:Muzeul Științei și Tehnicii „Ștefan Procopiu” din cadrul Complexului Muzeal Național „Moldova” Iași\, în parteneriat cu Asociația „Noua Acropolă” – Filiala Iași\, organizează sâmbătă\, 26 octombrie 2024\, ora 14.00\, la Muzeul „Poni-Cernătescu”\, o prezentare filosofică ce va explora învățăturile lui Sun Tzu\, autorul celebrei lucrări „Arta războiului”.\nSun Tzu\, un renumit general militar\, strateg și filosof chinez antic\, a trăit în perioada Zhou de Est. A scris „Arta războiului” într-o epocă tumultoasă a Chinei\, lucrare ce a influențat profund atât filosofia orientală\, cât și pe cea occidentală\, devenind un pilon al gândirii strategice și militare.\n„Invităm pe toți cei interesați de filosofia chineză la un dialog inspirat\, explorând relevanța învățăturilor lui Sun Tzu în contextul situațiilor conflictuale cu care ne confruntăm astăzi\, atât la nivel global\, cât și individual”\, subliniază managerul Complexului Muzeal Național „Moldova”\, domnul Andrei Apreotesei.\nPrezentarea va fi susținută de Marius Andro. Intrarea la eveniment este liberă\, în limita locurilor disponibile.\nVă așteptăm cu drag! \n 
URL:https://palatulculturii.ro/eveniment/prezentare-si-discutie-filosofica-sun-tzu-arta-razboiului-invataturi-morale-pentru-momentul-actual/
CATEGORIES:Muzeul „Poni - Cernătescu”
ATTACH;FMTTYPE=image/jpeg:https://palatulculturii.ro/wp-content/uploads/2024/10/AfisA4_Sun-Tzu_Arta-Razboiului-2-scaled.jpg
END:VEVENT
END:VCALENDAR