	BEGIN:VCALENDAR
VERSION:2.0
PRODID:-//Complex Muzeal Național „Moldova” Iași - ECPv6.0.12//NONSGML v1.0//EN
CALSCALE:GREGORIAN
METHOD:PUBLISH
X-ORIGINAL-URL:https://palatulculturii.ro
X-WR-CALDESC:Events for Complex Muzeal Național „Moldova” Iași
REFRESH-INTERVAL;VALUE=DURATION:PT1H
X-Robots-Tag:noindex
X-PUBLISHED-TTL:PT1H
BEGIN:VTIMEZONE
TZID:Europe/Bucharest
BEGIN:DAYLIGHT
TZOFFSETFROM:+0200
TZOFFSETTO:+0300
TZNAME:EEST
DTSTART:20240331T010000
END:DAYLIGHT
BEGIN:STANDARD
TZOFFSETFROM:+0300
TZOFFSETTO:+0200
TZNAME:EET
DTSTART:20241027T010000
END:STANDARD
END:VTIMEZONE
BEGIN:VEVENT
DTSTART;VALUE=DATE:20241023
DTEND;VALUE=DATE:20241025
DTSTAMP:20260421T164810
CREATED:20241022T070021Z
LAST-MODIFIED:20241022T071127Z
UID:26118-1729641600-1729814399@palatulculturii.ro
SUMMARY:Conferința internațională „MediCult: Medierea culturală – implicații\, oportunități\, resurse” la cea de-a treia ediție
DESCRIPTION:Complexul Muzeal Național „Moldova”\, prin Secția Relaţii Publice\, Marketing\, Logistică\, Proiecte și Programe organizează în perioada 23 – 24 octombrie 2024\, atât fizic\, cât și online\, pe platforma Zoom\, cea de-a treia ediție a conferinței internaționale anuale „MediCult: Medierea culturală – implicații\, oportunități\, resurse”.\n„Ne dorim ca muzeele să fie accesibile și atractive pentru un public cât mai numeros. De aceea\, încurajăm astfel de inițiative de mediere\, menite să ducă activitatea culturală cât mai aproape de oameni\, să le dea motive pentru a (re)veni la muzeu”\, afirmă Andrei Apreotesei\, managerul Complexului Muzeal Național „Moldova” Iași. \nReziliența culturală este conceptul în jurul căruia sunt concentrate prezentările ce vor fi susținute de specialiști din țară dar și din străinătate\, declinând tematici precum prezervarea patrimoniului\, rolul coeziunii sociale în menținerea identității culturale\, atitudini reziliente vs practici adaptative în fața schimbării\, colectarea amintirilor despre perioada anterioară situației critice\, folosirea exprimării artistice ca instrument de reziliență pentru păstrarea identității culturale. Cercetători\, muzeografi\, mediatori culturali vor aborda acest concept relativ nou\, ce se referă la capacitatea unei comunități de a face față unor evenimente adverse\, păstrându-și în același timp specificitatea culturală. \n„Ne propunem ca prin această conferință să evidențiem necesitatea dezvoltării conceptului de mediere culturală și a creării unei profesii recunoscute\, cea a mediatorului cultural\, și în spațiul românesc\, aliniindu-ne astfel practicilor din mari muzee europene”\, subliniază Coralia Costaș\, inițiatoarea manifestării. \nVă așteptăm la cea de-a treia ediție a conferinței „MediCult”\, care se va desfășura în format hibrid\, miercuri\, 23 octombrie\, în intervalul orar 10.00 – 17.00\, și joi\, 24 octombrie\, între orele 9.30 și 15.00\, pentru a încuraja schimbul de bune practici și experiențe profesionale între specialiști. \nProgramul evenimentului poate fi consultat în documentul alăturat: Program MediCult3_2024
URL:https://palatulculturii.ro/eveniment/conferinta-internationala-medicult-medierea-culturala-implicatii-oportunitati-resurse-la-cea-de-a-treia-editie/
LOCATION:Palatul Culturii Iași – Complexul Muzeal Național „Moldova” Iași
CATEGORIES:Atelierele DICE,Noutăți,Palatul Culturii
ATTACH;FMTTYPE=image/jpeg:https://palatulculturii.ro/wp-content/uploads/2024/08/afis-medicult-2024-web.jpg
END:VEVENT
BEGIN:VEVENT
DTSTART;VALUE=DATE:20241023
DTEND;VALUE=DATE:20241025
DTSTAMP:20260421T164810
CREATED:20240802T073431Z
LAST-MODIFIED:20240807T065442Z
UID:24913-1729641600-1729814399@palatulculturii.ro
SUMMARY:Apel pentru participare la Conferința internațională „MediCult: Medierea culturală - implicații\, oportunități\, resurse”
DESCRIPTION:Conferința internațională anuală „MediCult: Medierea culturală – implicații\, oportunități\, resurse” pornește de la necesitatea de a consolida un spațiu de reflecție comun între profesioniștii din diversele structuri culturale din România și din străinătate\, abordând contexte și metode specifice medierii culturale. Cea de-a treia ediție se va desfășura la Palatul Culturii din Iași\, în format hibrid\, în zilele de 23 și 24 octombrie 2024\, fiind așteptați să se înscrie specialiști interesați de tema rezilienței culturale.\nConcept relativ nou\, ce se referă la capacitatea unei comunități de a face față unor evenimente adverse\, păstrându-și în același timp specificitatea culturală\, reziliența culturală se poate regăsi în prezervarea patrimoniului cultural mobil sau imobil\, poate include de asemenea practici imateriale ce indică măsura și soliditatea coeziunii sociale înainte de ocurența momentului critic. Situații de criză pot fi reprezentate de război sau de conflictele armate\, precum invadarea Ucrainei\, dar și de  valurile de migranți din întreaga Europă. Sintagma de reziliență culturală se poate aplica și unor circumstanțe aparent mai puțin dificile\, precum migrația economică\, determinată de nevoia unui loc de muncă mai bun și care implică lucrători sezonieri sau necalificați care se deplasează pentru durate mai mari sau mai mici către țări mai dezvoltate\, dislocând astfel un patrimoniu material și imaterial\, pe care îl poartă cu ei în călătoriile lor. \nDacă în cazul conflictelor armate comunitatea internațională ia măsuri\, încercând să salveze atât vieți cât și resurse\, implicit și patrimoniul cultural din zonele afectate\, în cazul migrației determinate de nevoia oamenilor de a-și îmbunătăți nivelul de trai\, măsurile pentru prezervarea patrimoniului lor\, material și imaterial\, sunt mai puțin oficiale și prin urmare mai puțin vizibile. Chiar și așa\, identitatea lor culturală contribuie activ la păstrarea practicilor\, ritualurilor\, tradițiilor\, împărtășind experiențe într-o manieră posibil mai fermă decât în țara lor de origine. Aceasta deoarece cultura favorizează legături sociale\, creează un sentiment de apartenență\, care duce la reziliență. \nInvestigarea temei rezilienței culturale de către specialiștii activi în domeniul medierii culturale este deosebit de importantă din perspectiva necesității adaptării discursului\, etapă care poate fi realizată doar printr-o cât mai profundă înțelegere a nevoilor reale ale grupurilor țintă. \nParticipanții pot aborda în comunicările lor tematici precum:\n– Prezervarea patrimoniului\n– Rolul coeziunii sociale în menținerea identității culturale\n– Atitudini reziliente vs practici adaptative în fața schimbării\n– Colectarea amintirilor despre perioada anterioară situației critice\n– Folosirea exprimării artistice ca instrument de reziliență pentru păstrarea identității culturale. \nRezumatele și un CV narativ (maxim 1 pagină fiecare) pot fi trimise până la 1 octombrie 2024 pe adresa de email coralia.costas@palatulculturii.ro. De asemenea\, vă rugăm să transmiteți textele comunicărilor spre publicare până la data de 20 noiembrie 2024\, pentru a putea fi incluse în Revista de Mediere Culturală\, nr. 3/ 2024\, prin grija Editurii Palatul Culturii din cadrul Complexului Muzeal Național „Moldova” Iași. Articolele\, în română\, engleză sau franceză\, nu vor depăși 15 pagini A4 inclusiv ilustrația. Textul va fi redactat cu Times New Roman\, mărimea 12\, la 1 rând. Toate articolele vor fi însoțite de un rezumat de 10 rânduri în limbile română și engleză\, precum și de un paragraf de prezentare a autorilor. Ilustrațiile nu vor depăși 5 pagini și vor fi transmise separat de text.
URL:https://palatulculturii.ro/eveniment/apel-pentru-participare-la-conferinta-internationala-medicult-medierea-culturala-implicatii-oportunitati-resurse/
LOCATION:Palatul Culturii Iași – Complexul Muzeal Național „Moldova” Iași
CATEGORIES:Noutăți,Palatul Culturii
ATTACH;FMTTYPE=image/jpeg:https://palatulculturii.ro/wp-content/uploads/2024/08/afis-medicult-2024-web.jpg
END:VEVENT
END:VCALENDAR