	BEGIN:VCALENDAR
VERSION:2.0
PRODID:-//Complex Muzeal Național „Moldova” Iași - ECPv6.0.12//NONSGML v1.0//EN
CALSCALE:GREGORIAN
METHOD:PUBLISH
X-WR-CALNAME:Complex Muzeal Național „Moldova” Iași
X-ORIGINAL-URL:https://palatulculturii.ro
X-WR-CALDESC:Events for Complex Muzeal Național „Moldova” Iași
REFRESH-INTERVAL;VALUE=DURATION:PT1H
X-Robots-Tag:noindex
X-PUBLISHED-TTL:PT1H
BEGIN:VTIMEZONE
TZID:Europe/Bucharest
BEGIN:DAYLIGHT
TZOFFSETFROM:+0200
TZOFFSETTO:+0300
TZNAME:EEST
DTSTART:20240331T010000
END:DAYLIGHT
BEGIN:STANDARD
TZOFFSETFROM:+0300
TZOFFSETTO:+0200
TZNAME:EET
DTSTART:20241027T010000
END:STANDARD
END:VTIMEZONE
BEGIN:VEVENT
DTSTART;TZID=Europe/Bucharest:20241012T130000
DTEND;TZID=Europe/Bucharest:20241012T143000
DTSTAMP:20260421T152149
CREATED:20241003T093741Z
LAST-MODIFIED:20241003T093845Z
UID:25948-1728738000-1728743400@palatulculturii.ro
SUMMARY:„Recitalul toamnei” la Muzeul Memorial „Mihail Kogălniceanu" din Iași
DESCRIPTION:Complexul Muzeal Național „Moldova” Iași\, în parteneriat cu Asociația „Artwork Atelier” organizează sâmbătă\, 12 octombrie 2024\, începând cu ora 13.00\, în Salonul de Muzică al Muzeului Memorial „Mihail Kogălniceanu”\, evenimentul „Recitalul toamnei”.\nSusținut de elevii participanți la cursurile „Artwork Atelier”\, coordonați de prof. Diana Roman\, prof. Mirela Palamariu\, prof. Simona Casiean\, prof. Mihaela Blându și prof. Ramona Tumurug\, recitalul de pian cuprinde lucrări din literatura muzicală clasică. \n„Ne face o deosebită plăcere să continuăm atelierele muzical – educative\, prin intermediul cărora readucem în atenția publicului valențele culturale ale muzicii de salon din secolele XVIII – XIX\, precum și patrimoniul valoros al Muzeului «Kogălniceanu»”\, afirmă Andrei Apreotesei\, manager al Complexului Muzeal Național „Moldova” Iași. \nLa acest eveniment\, intrarea este liberă\, în limita locurilor disponibile. \nMuzeul Memorial „Mihail Kogălniceanu”\, situat în Iași\, pe Strada „Mihail Kogălniceanu” nr. 11\, poate fi vizitat de marți până sâmbătă\, în intervalul orar 10.00 – 17.00. \nVă așteptăm cu drag!
URL:https://palatulculturii.ro/eveniment/recitalul-toamnei-la-muzeul-memorial-mihail-kogalniceanu-din-iasi/
LOCATION:Muzeul Memorial „Mihail Kogălniceanu”\, Strada Mihail Kogălniceanu nr. 11\, Iași\, Iași\, 700454\, România
ATTACH;FMTTYPE=image/jpeg:https://palatulculturii.ro/wp-content/uploads/2024/10/Recital_Muzeul-Kogalniceanu_afis.jpg
END:VEVENT
END:VCALENDAR