	BEGIN:VCALENDAR
VERSION:2.0
PRODID:-//Complex Muzeal Național „Moldova” Iași - ECPv6.0.12//NONSGML v1.0//EN
CALSCALE:GREGORIAN
METHOD:PUBLISH
X-ORIGINAL-URL:https://palatulculturii.ro
X-WR-CALDESC:Events for Complex Muzeal Național „Moldova” Iași
REFRESH-INTERVAL;VALUE=DURATION:PT1H
X-Robots-Tag:noindex
X-PUBLISHED-TTL:PT1H
BEGIN:VTIMEZONE
TZID:Europe/Bucharest
BEGIN:DAYLIGHT
TZOFFSETFROM:+0200
TZOFFSETTO:+0300
TZNAME:EEST
DTSTART:20240331T010000
END:DAYLIGHT
BEGIN:STANDARD
TZOFFSETFROM:+0300
TZOFFSETTO:+0200
TZNAME:EET
DTSTART:20241027T010000
END:STANDARD
END:VTIMEZONE
BEGIN:VEVENT
DTSTART;TZID=Europe/Bucharest:20241008T183000
DTEND;TZID=Europe/Bucharest:20241008T200000
DTSTAMP:20260421T170220
CREATED:20241007T075508Z
LAST-MODIFIED:20241007T080023Z
UID:26020-1728412200-1728417600@palatulculturii.ro
SUMMARY:Concert la Palat - „Anotimpurile”
DESCRIPTION:Complexul Muzeal Național „Moldova” Iași\, în parteneriat cu Opera Națională Română Iași\, invită publicul la un nou eveniment din seria „Concert la Palat”: „Anotimpurile” de Antonio Vivaldi.\nEvenimentul va avea loc marți\, 8 octombrie 2024\, începând cu ora 18.30\, în Holul de Onoare al Palatului Culturii din Iași. \nInterpretează artiștii instrumentiști: \n\nAnca Bîzgu (solist)\nLaurențiu Busnea (vioara I) – invitat\nAdriana Patraș (vioara a II-a) – invitată\nCorina Diaconu (violă) – invitată\nViorel Călin (violoncel)\nAdina Alupei (clavecin).\n\nVă invităm să urmăriți detaliile pe site-ul instituției partenere și vă așteptăm cu drag! \nBilete: Opera Națională Română Iași \n 
URL:https://palatulculturii.ro/eveniment/concert-la-palat-anotimpurile/
CATEGORIES:Palatul Culturii
ATTACH;FMTTYPE=image/jpeg:https://palatulculturii.ro/wp-content/uploads/2024/10/Concert-la-Palat_-8-oct_Opera.jpg
END:VEVENT
END:VCALENDAR