	BEGIN:VCALENDAR
VERSION:2.0
PRODID:-//Complex Muzeal Național „Moldova” Iași - ECPv6.0.12//NONSGML v1.0//EN
CALSCALE:GREGORIAN
METHOD:PUBLISH
X-ORIGINAL-URL:https://palatulculturii.ro
X-WR-CALDESC:Events for Complex Muzeal Național „Moldova” Iași
REFRESH-INTERVAL;VALUE=DURATION:PT1H
X-Robots-Tag:noindex
X-PUBLISHED-TTL:PT1H
BEGIN:VTIMEZONE
TZID:Europe/Bucharest
BEGIN:DAYLIGHT
TZOFFSETFROM:+0200
TZOFFSETTO:+0300
TZNAME:EEST
DTSTART:20240331T010000
END:DAYLIGHT
BEGIN:STANDARD
TZOFFSETFROM:+0300
TZOFFSETTO:+0200
TZNAME:EET
DTSTART:20241027T010000
END:STANDARD
END:VTIMEZONE
BEGIN:VEVENT
DTSTART;VALUE=DATE:20240901
DTEND;VALUE=DATE:20240928
DTSTAMP:20260421T113825
CREATED:20240901T073850Z
LAST-MODIFIED:20240901T095849Z
UID:25385-1725148800-1727481599@palatulculturii.ro
SUMMARY:REVIVE Historic Towns and Sites - Apel deschis pentru tinerele talente (II)
DESCRIPTION:Proiectul „REVIVE Historic Towns and Sites – sustainable and inclusive living spaces for future generations inspired by the New European Bauhaus”\, cofinanțat de Uniunea Europeană prin Programul Europa Creativă\, linia de finanțare CREA-CULT-2023-COOP-2\, se derulează în perioada 1 noiembrie 2023 – 31 octombrie 2025 și este coordonat de Združenje Zgodovinskih Mest Slovenije – Asociația Orașelor Istorice din Slovenia\, cu sediul în Škofja Loka\, parteneri fiind Complexul Muzeal Național „Moldova” Iași\, Fundacion Universitaria San Antonio\, din Murcia\, Spania\, Turun Ammattikorkeakoulou Oy (Turun) – Universitatea Tehnică de Științe Aplicate din Turun\, Finlanda\, „Culture Hub Croatia” Platforma za edukaciju – Platforma educațională „Culture Hub Croatia” din Split\, Croația\, și ITACA – Agenția de Dezvoltare Locală din Cellino Atanasio\, Italia.\nProiectul abordează orașe și situri istorice reprezentative din țările participante\, valorizând capacitatea acestora de a reflecta trecutul și de a modela prezentul și viitorul într-o manieră durabilă care să asigure dăinuirea în timp a patrimoniului cultural european. Obiectivul principal este de a contribui într-o manieră inovatoare și trans-sectorială la salvgardarea\, dezvoltarea și promovarea patrimoniului și diversității culturale europene formând tinerele talente selectate\, consolidându-le competențele și încurajându-le să se integreze în noi rețele tematice\, pentru a le facilita tranziția de la mediul educațional la cel profesional. \nÎn acest context\, lansăm apelul dedicat tinerilor cu preocupări în domeniul patrimoniului construit\, cu vârsta cuprinsă între 18-30 de ani\, pentru a deveni membri într-o echipă internațională multidisciplinară și a participa cel puțin la unul din cele două experimente co-creative\, care vor fi organizate în anul 2025. \nDetalii despre apel și procedura de depunere a candidaturii sunt prezentate în fișierul alăturat: \nOpen call_2 Revive
URL:https://palatulculturii.ro/eveniment/revive-historic-towns-and-sites-apel-deschis-pentru-tinerele-talente-ii/
CATEGORIES:Noutăți
ATTACH;FMTTYPE=image/jpeg:https://palatulculturii.ro/wp-content/uploads/2024/09/revive.jpg
END:VEVENT
BEGIN:VEVENT
DTSTART;TZID=Europe/Bucharest:20240906T120000
DTEND;TZID=Europe/Bucharest:20240908T200000
DTSTAMP:20260421T113825
CREATED:20240904T123137Z
LAST-MODIFIED:20240904T135156Z
UID:25449-1725624000-1725825600@palatulculturii.ro
SUMMARY:Program special al Muzeului de Sit Arheologic\, la „Cucuteni Jazz Fest” (III)
DESCRIPTION:Complexul Muzeal Național „Moldova” Iași – Muzeul de Istorie a Moldovei este partener în derularea celei de-a III-a ediții „Cucuteni Jazz Fest”\, eveniment organizat de Asociaţia CartelArte LM\, în perioada 6 – 8 septembrie 2024\, pe platoul de la Muzeul de Sit Arheologic din Cucuteni (județul Iași).\nPe parcursul celor trei zile\, festivalul reunește în localitatea Cucuteni\, la aproximativ 50 de kilometri de Iași\, artiști din țară și străinătate\, propunând publicului concerte\, ateliere și numeroase alte activități. „Este un loc unde ne conectăm cu natura pe ritmuri și melodii de jazz\, deopotrivă moderne și istorice\, totul într-un spațiu pitoresc\, încărcat de multă energie”\, afirmă Liviu Mărculescu\, inițiatorul și coordonatorul evenimentului. \nÎn acest context\, Muzeul de Sit Arheologic are program special în zilele de 6\, 7 și 8 septembrie 2024\, fiind deschis pentru public în intervalul orar 12.00 – 20.00 (ora 19.30\, ultima intrare; preț bilet muzeu: 12 lei\, preț întreg; 6 lei\, cu reducere pentru pensionari; 3 lei pentru studenți; în vacanțele școlare\, intrarea este gratuită pentru elevii cu vârsta până la 18 ani). \nAccesul în perimetrul festivalului se face începând cu ora 16.00\, concertele urmând să se desfășoare în fiecare seară\, de la ora 19.00\, astfel:• vineri\, 6 septembrie: Jazzify; Șubi Tuba; Balkanamera Jazzq & Friends (România);• sâmbătă\, 7 septembrie (Latino Jazz): Mara & Caue (Brazilia – România); Breeze (România); Selvatico (Chile)• duminică\, 8 septembrie: Pamela.AVI (România); Lucas Herrera Fernandez Quartet (Argentina – Spania); Irina Sârbu Quartet (România). \nDetaliile despre programul și prețul abonamentelor/ biletelor pentru festival pot fi consultate pe paginile de social media Cucuteni Jazz Fest și pe www.cucutenijazzfest.eu.
URL:https://palatulculturii.ro/eveniment/program-special-al-muzeului-de-sit-arheologic-la-cucuteni-jazz-fest-iii/
LOCATION:Muzeul de Sit Arheologic de la Cucuteni\, Cucuteni\, România
CATEGORIES:Muzeul de Istorie a Moldovei,Muzeul de Sit Arheologic de la Cucuteni
ATTACH;FMTTYPE=image/jpeg:https://palatulculturii.ro/wp-content/uploads/2024/09/Cucuteni-jazz-Fest-2024-scaled.jpg
END:VEVENT
END:VCALENDAR