	BEGIN:VCALENDAR
VERSION:2.0
PRODID:-//Complex Muzeal Național „Moldova” Iași - ECPv6.0.12//NONSGML v1.0//EN
CALSCALE:GREGORIAN
METHOD:PUBLISH
X-ORIGINAL-URL:https://palatulculturii.ro
X-WR-CALDESC:Events for Complex Muzeal Național „Moldova” Iași
REFRESH-INTERVAL;VALUE=DURATION:PT1H
X-Robots-Tag:noindex
X-PUBLISHED-TTL:PT1H
BEGIN:VTIMEZONE
TZID:Europe/Bucharest
BEGIN:DAYLIGHT
TZOFFSETFROM:+0200
TZOFFSETTO:+0300
TZNAME:EEST
DTSTART:20240331T010000
END:DAYLIGHT
BEGIN:STANDARD
TZOFFSETFROM:+0300
TZOFFSETTO:+0200
TZNAME:EET
DTSTART:20241027T010000
END:STANDARD
END:VTIMEZONE
BEGIN:VEVENT
DTSTART;TZID=Europe/Bucharest:20240709T200000
DTEND;TZID=Europe/Bucharest:20240709T210000
DTSTAMP:20260422T130551
CREATED:20240704T075911Z
LAST-MODIFIED:20240704T081259Z
UID:24574-1720555200-1720558800@palatulculturii.ro
SUMMARY:Concert la Palat - Duo Suspiratio: Magda-Eliza Maftei și Carles Dorador i Jové
DESCRIPTION:Complexul Muzeal Național „Moldova” Iași\, în parteneriat cu Ateneul Național din Iași\, vă invită să participați la o serie de experiențe unice dedicate iubitorilor de muzică de calitate\, într-un cadru elegant și în compania extraordinară a unor interpreți de excepție.\nContinuăm seria concertelor desfășurate în Holul de Onoare al Palatului Culturii – marți\, 9 iulie 2024\, ora 20.00 cu Duo Suspiratio | Magda-Eliza Maftei și Carles Dorador i Jové. \nDe la crearea sa\, în 2019\, de către mezzosoprana Magda-Eliza Maftei și lăutistul Carles Dorador i Jové\, ansamblul Suspiratio are ca misiune aducerea în prim plan a repertoriilor mai puțin cunoscute din secolul al XVII-lea și transmiterea lor publicului contemporan. \nFormați la Sorbona\, la Conservatorul Național Superior din Paris și la Conservatorul Regional din Paris\, cei doi muzicieni oferă o viziune inedită a interpretării informate istoric\, ce se adresează unui public divers\, prin concerte\, workshop-uri\, conferințe și ateliere de mediere culturală. \nPrin numele ansamblului\, Suspiratio\, ce definește figura retorică a pauzelor\, muzicienii își propun o exprimare a emoțiilor dusă la paroxism\, cu scopul unei comuniuni între sensibilitatea artiștilor și cea a publicului. \nMagda-Eliza Maftei este cântăreață\, profesor de canto și cercetătoare\, specializată în muzica barocă. A absolvit studiile de Licență și Master în Interpretare\, secția canto clasic\, la Academia de Muzică „Gheorghe Dima” din Cluj-Napoca. În urma unui stagiu Erasmus\, a fost admisă la clasa de operă barocă a dirijorului Stéphane Fuget din cadrul Conservatoire à Rayonnement Régional din Paris\, unde a studiat cântul baroc\, arta teatrală barocă\, gestualitatea și pronunția restituită. Obține Masterul de Interpretare a Muzicii Vechi\, un master dublu – cercetare și interpretare\, la Sorbonne Université din Paris. De asemenea\, a obținut Bursa „George Enescu” a Institutului Cultural Român\, cu un proiect cu tema personajelor feminine negative în opera barocă franceză. În anul 2023 obține titlul de Doctor în Muzică\, la Academia de Muzică „Gheorghe Dima” din Cluj-Napoca. Din repertoriul său interpretativ amintim rolurile: Rosina (Il Barbiere di Siviglia)\, Dorabella (Così fan tutte)\, Angelina (La Cenerentola)\, Carmen\, Calliope (La morte d’Orfeo de S.Landi)\, Dafne (Euridice de J.Peri) ș.a. A fost invitată să cânte în diferite festivaluri din Franța\, Republica Cehă și România. În prezent\, stabilită în Franța\, îmbină activitatea concertistică și cea de cercetare\, cu activitatea didactică. \nCarles Dorador i Jové este lăutist\, percuționist și muzicolog\, specializat în muzica veche occidentală și orientală. Și-a început studiile muzicale la conservatorul municipal din Barcelona\, unde a studiat chitara clasică și percuția tradițională și istorică. A absolvit studiile de Licență în interpretare\, secția lăută\, teorbă și bas continuu la Conservatorul Național Superior din Paris\, precum și cele de Master la Haute École de Musique din Geneva. În paralel\, urmează cursuri de oud (lăută arabă) la Conservatorul de Muzică Orientală din Paris și este licențiat în Muzicologie la Universitatea Sorbona. În calitate de interpret\, a cântat alături de ansambluri precum Cappella Mediterranea\, Orchestra din Picardie\, Le Concert d’Astrée\, Les Musiciens du Paradis\, O tempora\, Labyrinth\, etc. În prezent\, participă la numeroase proiecte de cercetare etnomuzicologică\, centrate pe sincretismele dintre diferite culturi muzicale. De asemenea\, este activ ca interpret\, în diferite ansambluri din Europa. \nProgramul concertului cuprinde: \nQuel sguardo sdegnosetto\, Claudio Monteverdi (1567-1643) \nUsurpator tiranno\, Giovanni Felice Sances (1600-1679) \nBergamasca\, Giovanni Girolamo Kapsberger (1580-1651) \nLagrime mie (Lamento)\, Barbara Strozzi (1619-1677) \nL’amante consolato\, Barbara Strozzi (1619-1677) \nToccata prima\, Libro IV\, Giovanni Girolamo Kapsberger (1580-1651) \nDopo lungo penare\, Luigi Rossi (1597-1653) \nPrélude et Allemande\, Robert de Visée (1650-1725) \nMa bergère est tendre et fidèle\, Michel Lambert (1610-1696) \nOmbre de mon amant\, Michel Lambert (1610-1696) \nChaconne en Sol majeur\, Robert de Visée (1650-1725) \nSans frayeur dans ce bois\, Marc-Antoine Charpentier (1643-1704) \nCelle qui fait tout mon tourment\, Marc-Antoine Charpentier (1643-1704) \nQui veut chasser une migraine\, Gabriel Bataille (1574-1630). \n„Din Italia în Franța – o călătorie muzicală barocă” gravitează în jurul temei călătoriei – atât ca explorare a două țări și a două culturi\, fiecare cu particularitățile sale stilistice\, cât și drept călătorie prin diferitele forme de expresie muzicală vocală din secolul al XVII-lea. Arietele\, canțonetele și cantatele italiene se îmbină cu ariile de curte\, ariile „serioase” și chansons à boire tipic franceze. Acestea oferă o largă paletă de emoții\, de la bucuria primei iubiri la dezamăgire\, disperare și lamentație\, programul fiind conceput și ca o profundă rătăcire în labirintul sufletului uman. Singurele mijloace de expresie sunt vocea și teorba. \nDetalii și bilete\, pe site-ul organizatorului principal\, Ateneul Național din Iași\, aici: \nConcert la Palat | Duo Suspiratio | Magda-Eliza Maftei și Carles Dorador i Jové \n  \n  \n 
URL:https://palatulculturii.ro/eveniment/concert-la-palat-duo-suspiratio-magda-eliza-maftei-si-carles-dorador-i-jove/
CATEGORIES:Palatul Culturii
ATTACH;FMTTYPE=image/jpeg:https://palatulculturii.ro/wp-content/uploads/2024/07/Concert-la-Palat_Ateneu_9-iulie.jpeg
END:VEVENT
END:VCALENDAR