	BEGIN:VCALENDAR
VERSION:2.0
PRODID:-//Complex Muzeal Național „Moldova” Iași - ECPv6.0.12//NONSGML v1.0//EN
CALSCALE:GREGORIAN
METHOD:PUBLISH
X-WR-CALNAME:Complex Muzeal Național „Moldova” Iași
X-ORIGINAL-URL:https://palatulculturii.ro
X-WR-CALDESC:Events for Complex Muzeal Național „Moldova” Iași
REFRESH-INTERVAL;VALUE=DURATION:PT1H
X-Robots-Tag:noindex
X-PUBLISHED-TTL:PT1H
BEGIN:VTIMEZONE
TZID:Europe/Bucharest
BEGIN:DAYLIGHT
TZOFFSETFROM:+0200
TZOFFSETTO:+0300
TZNAME:EEST
DTSTART:20240331T010000
END:DAYLIGHT
BEGIN:STANDARD
TZOFFSETFROM:+0300
TZOFFSETTO:+0200
TZNAME:EET
DTSTART:20241027T010000
END:STANDARD
END:VTIMEZONE
BEGIN:VEVENT
DTSTART;TZID=Europe/Bucharest:20240614T100000
DTEND;TZID=Europe/Bucharest:20240614T120000
DTSTAMP:20260421T175039
CREATED:20240614T074302Z
LAST-MODIFIED:20240614T074302Z
UID:24306-1718359200-1718366400@palatulculturii.ro
SUMMARY:„Alexandru Ioan Cuza și Unirea”
DESCRIPTION:Complexul Muzeal Național „Moldova” Iași anunță\, în calitatea sa de partener\, organizarea dezbaterii „Alexandru Ioan Cuza și Unirea”\, ce va avea loc vineri\, 14 iunie 2024\, ora 10.00\, la Palatul „Alexandru Ioan Cuza” de la Ruginoasa.\nAcest eveniment face parte din programul Taberei culturale „Iași – Metafora celor șapte coline” organizat la Iași\, în perioada 12 – 15 iunie 2024\, de Fundația Culturală „Metafora Constanța\, având ca invitați istorici\, scriitori\, membri ai Uniunii Scriitorilor din România\, Uniunii Ziariștilor Profesioniști din România\, Asociației Românilor de Istorie a Presei\, profesori\, dar și muzicieni din toată țara.\nActivitatea va rememora momente istorice importante din timpul domniei lui Alexandru Ioan Cuza\, prin conturarea unei atmosfere specifice acelor vremuri.
URL:https://palatulculturii.ro/eveniment/alexandru-ioan-cuza-si-unirea/
CATEGORIES:Palatul „Alexandru Ioan Cuza” de la Ruginoasa
ATTACH;FMTTYPE=image/jpeg:https://palatulculturii.ro/wp-content/uploads/2024/06/AFIS.jpg
END:VEVENT
END:VCALENDAR