	BEGIN:VCALENDAR
VERSION:2.0
PRODID:-//Complex Muzeal Național „Moldova” Iași - ECPv6.0.12//NONSGML v1.0//EN
CALSCALE:GREGORIAN
METHOD:PUBLISH
X-ORIGINAL-URL:https://palatulculturii.ro
X-WR-CALDESC:Events for Complex Muzeal Național „Moldova” Iași
REFRESH-INTERVAL;VALUE=DURATION:PT1H
X-Robots-Tag:noindex
X-PUBLISHED-TTL:PT1H
BEGIN:VTIMEZONE
TZID:Europe/Bucharest
BEGIN:DAYLIGHT
TZOFFSETFROM:+0200
TZOFFSETTO:+0300
TZNAME:EEST
DTSTART:20240331T010000
END:DAYLIGHT
BEGIN:STANDARD
TZOFFSETFROM:+0300
TZOFFSETTO:+0200
TZNAME:EET
DTSTART:20241027T010000
END:STANDARD
END:VTIMEZONE
BEGIN:VEVENT
DTSTART;TZID=Europe/Bucharest:20240613T180000
DTEND;TZID=Europe/Bucharest:20240613T190000
DTSTAMP:20260421T175209
CREATED:20240612T081310Z
LAST-MODIFIED:20240612T081832Z
UID:24240-1718301600-1718305200@palatulculturii.ro
SUMMARY:Recital de pian: Codrin Cheptine
DESCRIPTION:Complexul Muzeal Național „Moldova” Iași – Muzeul Științei și Tehnicii „Ștefan Procopiu”\, având ca parteneri Colegiul Național de Artă „Octav Băncilă” Iași și Asociația „Crescendo Events”\, invită publicul la „Recital de pian: Codrin Cheptine”\, care va avea loc joi\, 13 iunie 2024\, de la orele 18.00\, la Palatul Culturii din Iași\, în Sala „Henri Coandă”.\nProaspăt absolvent al Colegiului de Artă „Octav Băncilă” din Iași\, tânărul pianist Codrin Cheptine a susținut recitaluri și concerte pe diverse scene din țară și din străinătate\, bucurându-se de aprecierea unanimă a specialiștilor și a publicului. Parcursul său pianistic ascendent a fost încununat cu importante premii la concursuri naționale și internaționale de prestigiu. \nProgramul recitalului de la Palatul Culturii cuprinde lucrări aparținând următorilor compozitori: Sebastian Bach\, Ludwig van Beethoven\, Frédéric Chopin\, Franz Liszt și Serghei Rahmaninov. \nEvenimentul va fi prezentat de Prof. Carmen Zaharia-Danicov. \nIntrarea este liberă\, în limita locurilor disponibile. \nVă așteptăm cu drag!
URL:https://palatulculturii.ro/eveniment/recital-de-pian-codrin-cheptine/
CATEGORIES:Palatul Culturii
ATTACH;FMTTYPE=image/jpeg:https://palatulculturii.ro/wp-content/uploads/2024/06/afis-recital-de-pian-Codrin-Cheptine-scaled.jpg
END:VEVENT
END:VCALENDAR