	BEGIN:VCALENDAR
VERSION:2.0
PRODID:-//Complex Muzeal Național „Moldova” Iași - ECPv6.0.12//NONSGML v1.0//EN
CALSCALE:GREGORIAN
METHOD:PUBLISH
X-ORIGINAL-URL:https://palatulculturii.ro
X-WR-CALDESC:Events for Complex Muzeal Național „Moldova” Iași
REFRESH-INTERVAL;VALUE=DURATION:PT1H
X-Robots-Tag:noindex
X-PUBLISHED-TTL:PT1H
BEGIN:VTIMEZONE
TZID:Europe/Bucharest
BEGIN:DAYLIGHT
TZOFFSETFROM:+0200
TZOFFSETTO:+0300
TZNAME:EEST
DTSTART:20240331T010000
END:DAYLIGHT
BEGIN:STANDARD
TZOFFSETFROM:+0300
TZOFFSETTO:+0200
TZNAME:EET
DTSTART:20241027T010000
END:STANDARD
END:VTIMEZONE
BEGIN:VEVENT
DTSTART;TZID=Europe/Bucharest:20240604T200000
DTEND;TZID=Europe/Bucharest:20240604T213000
DTSTAMP:20260421T175555
CREATED:20240603T095521Z
LAST-MODIFIED:20240604T084553Z
UID:24150-1717531200-1717536600@palatulculturii.ro
SUMMARY:Concert la Palat: Fly MusiX SaX Quintet
DESCRIPTION:Complexul Muzeal Național „Moldova” Iași\, în parteneriat cu Ateneul Național din Iași\, vă invită să participați la o serie de experiențe unice dedicate iubitorilor de muzică de calitate\, într-un cadru elegant și în compania extraordinară a unor interpreți de excepție.\nContinuăm seria concertelor desfășurate în Holul de Onoare al Palatului Culturii – marți\, 4 iunie\, ora 20.00 cu Florin Fodor\, ⁠Bogdan Constantin\, Vlad Lavric\, Tudor Boloca și Ștefan Frunzaru: Recital Cameral „Fly MusiX SaX Quintet”. \nÎn program: J.S. Bach – Badiniere;  G. Rossini – Bărbierul din Sevillia; ⁠G. Gerswhin – Three Preludes; ⁠Astor Piazzola – Oblivion; ⁠Astor Piazzola – Liber Tango; ⁠Johan Strauss – Radetzky March. \nDetalii și bilete\, pe site-ul organizatorului principal: www.ateneuiasi.ro \n 
URL:https://palatulculturii.ro/eveniment/concert-la-palat-fly-musix-sax-quintet/
CATEGORIES:Palatul Culturii
ATTACH;FMTTYPE=image/jpeg:https://palatulculturii.ro/wp-content/uploads/2024/06/Concert-la-Palat_4-iunie.jpeg
END:VEVENT
END:VCALENDAR