	BEGIN:VCALENDAR
VERSION:2.0
PRODID:-//Complex Muzeal Național „Moldova” Iași - ECPv6.0.12//NONSGML v1.0//EN
CALSCALE:GREGORIAN
METHOD:PUBLISH
X-WR-CALNAME:Complex Muzeal Național „Moldova” Iași
X-ORIGINAL-URL:https://palatulculturii.ro
X-WR-CALDESC:Events for Complex Muzeal Național „Moldova” Iași
REFRESH-INTERVAL;VALUE=DURATION:PT1H
X-Robots-Tag:noindex
X-PUBLISHED-TTL:PT1H
BEGIN:VTIMEZONE
TZID:Europe/Bucharest
BEGIN:DAYLIGHT
TZOFFSETFROM:+0200
TZOFFSETTO:+0300
TZNAME:EEST
DTSTART:20240331T010000
END:DAYLIGHT
BEGIN:STANDARD
TZOFFSETFROM:+0300
TZOFFSETTO:+0200
TZNAME:EET
DTSTART:20241027T010000
END:STANDARD
END:VTIMEZONE
BEGIN:VEVENT
DTSTART;TZID=Europe/Bucharest:20240529T160000
DTEND;TZID=Europe/Bucharest:20240529T170000
DTSTAMP:20260422T130410
CREATED:20240529T105658Z
LAST-MODIFIED:20240529T105755Z
UID:24017-1716998400-1717002000@palatulculturii.ro
SUMMARY:Recital de canto la Muzeul Memorial „Mihail Kogălniceanu”
DESCRIPTION:Complexul Muzeal Național Moldova Iași\, în parteneriat cu Universitatea Națională de Arte „George Enescu” (UNAGE) Iași – Facultatea de Interpretare\, Compoziție și Studii Muzicale Teoretice\, invită publicul la evenimentul muzical „Recital de absolvență”\, care va avea loc miercuri\, 29 mai 2024\, ora 16.00\, la Muzeul Memorial „Mihail Kogălniceanu”.\nProgramul cuprinde lucrări din creația compozitorilor: G. Rossini\, G. Donizetti\, M.de Falla\, I.H. Darclée\, interpretate de soprana Alexandra Amarandei (anul IV)\, clasa asist. univ. dr. Eliza Irina Solomon\, și de invitatul recitalului\, Robert Damian\, student UNAGE\, clasa conf. univ. dr. Cătălina Chelaru\, acompaniați la pian de conf. univ. dr. Brîndușa Tudor. \nEvenimentul va fi prezentat de asist. univ. dr. Eliza Irina-Solomon. Intrarea este liberă\, în limita locurilor disponibile. \nVă așteptăm cu drag!
URL:https://palatulculturii.ro/eveniment/recital-de-canto-la-muzeul-memorial-mihail-kogalniceanu/
LOCATION:Muzeul Memorial „Mihail Kogălniceanu”\, Strada Mihail Kogălniceanu nr. 11\, Iași\, Iași\, 700454\, România
CATEGORIES:Muzeul Memorial „Mihail Kogălniceanu”
ATTACH;FMTTYPE=image/jpeg:https://palatulculturii.ro/wp-content/uploads/2024/05/Recital-canto_Muzeul-Kogalniceanu_afis.jpg
END:VEVENT
BEGIN:VEVENT
DTSTART;TZID=Europe/Bucharest:20240529T173000
DTEND;TZID=Europe/Bucharest:20240529T190000
DTSTAMP:20260422T130410
CREATED:20240528T133411Z
LAST-MODIFIED:20240528T133830Z
UID:24007-1717003800-1717009200@palatulculturii.ro
SUMMARY:Conferința „Motivația - un element esențial pentru a reuși în viață”
DESCRIPTION:Complexul Muzeal Național „Moldova” Iași\, în parteneriat cu Școala Primară „Hänsel und Gretel” și Centrul Județean de Resurse și Asistență Educațională Iași\, organizează în data de 29 mai 2024 conferința „Motivația – un element esențial pentru a reuși în viață”.\nProgramată a se desfășura cu începere de la orele 17.30\, în Sala „Ștefan Procopiu” de la parterul Palatului Culturii\, conferința include în agenda sa prelegeri care abordează tema centrală din perspective diverse: \n\n„Motivația – fundamentul pe ce se construiește reușita școlară”\, prof. dr. Petronela Rubel\, director al Școlii Primare „Hänsel und Gretel”;\n„Motivația prezervării patrimoniului”\, dr. Coralia Costaș\, șef secție Relații publice\, marketing\, logistică\, proiecte\, programe în cadrul Complexului Muzeal Național „Moldova” Iași;\n„Cum ne pregătim pentru succes? Relația dintre motivație și performanță”\, prof. Anca Hardulea\, director al Centrului Județean de Resurse și Asistență Educațională Iași;\n„Arta și stilul de viață tradițional – un model de urmat de către tineri adulți în situații defavorizate”\, muzeograf Ana-Maria Rață\, Muzeul Etnografic al Moldovei.\n\nPrelegerile\, care vor crea contextul diseminării activităților de învățare desfășurate în cadrul proiectelor Erasmus Plus derulate de organizațiile partenere\, vor fi urmate de discuții libere cu participanții pornind de la temele propuse\, în vederea identificării de pârghii de acțiune în relația dintre instituție și elev/ cursant.
URL:https://palatulculturii.ro/eveniment/conferinta-motivatia-un-element-esential-pentru-a-reusi-in-viata/
CATEGORIES:Palatul Culturii
ATTACH;FMTTYPE=image/jpeg:https://palatulculturii.ro/wp-content/uploads/2024/05/afis-conferinta-Motivatia-29-mai-2024.jpg
END:VEVENT
END:VCALENDAR