	BEGIN:VCALENDAR
VERSION:2.0
PRODID:-//Complex Muzeal Național „Moldova” Iași - ECPv6.0.12//NONSGML v1.0//EN
CALSCALE:GREGORIAN
METHOD:PUBLISH
X-WR-CALNAME:Complex Muzeal Național „Moldova” Iași
X-ORIGINAL-URL:https://palatulculturii.ro
X-WR-CALDESC:Events for Complex Muzeal Național „Moldova” Iași
REFRESH-INTERVAL;VALUE=DURATION:PT1H
X-Robots-Tag:noindex
X-PUBLISHED-TTL:PT1H
BEGIN:VTIMEZONE
TZID:Europe/Bucharest
BEGIN:DAYLIGHT
TZOFFSETFROM:+0200
TZOFFSETTO:+0300
TZNAME:EEST
DTSTART:20240331T010000
END:DAYLIGHT
BEGIN:STANDARD
TZOFFSETFROM:+0300
TZOFFSETTO:+0200
TZNAME:EET
DTSTART:20241027T010000
END:STANDARD
END:VTIMEZONE
BEGIN:VEVENT
DTSTART;TZID=Europe/Bucharest:20240402T183000
DTEND;TZID=Europe/Bucharest:20240430T190000
DTSTAMP:20260421T175517
CREATED:20240326T152046Z
LAST-MODIFIED:20240521T122522Z
UID:23212-1712082600-1714503600@palatulculturii.ro
SUMMARY:„Concert la Palat” - o nouă serie de evenimente extraordinare la Iași
DESCRIPTION:Complexul Muzeal Național „Moldova” Iași\, în parteneriat cu Ateneul Național din Iași și Opera Națională Română Iași\, invită publicul la o nouă serie de evenimente\, sub genericul „Concert la Palat”.\nDedicate iubitorilor de muzică de calitate\, evenimentele se vor desfășura în zilele de marți\, începând cu ora 18.30\, respectiv\, ora 19.00\, în Holul de Onoare al Palatului Culturii\, în compania a unor muzicieni de excepție. \nVă invităm să urmăriți programul acestor evenimente pe site-urile instituțiilor partenere și vă așteptăm cu drag!
URL:https://palatulculturii.ro/eveniment/concert-la-palat-o-noua-serie-de-evenimente-extraordinare-la-iasi/
LOCATION:Palatul Culturii Iași – Complexul Muzeal Național „Moldova” Iași
CATEGORIES:Noutăți,Palatul Culturii
ATTACH;FMTTYPE=image/jpeg:https://palatulculturii.ro/wp-content/uploads/2024/03/Concert-la-Palat_APRILIE.jpg
END:VEVENT
BEGIN:VEVENT
DTSTART;TZID=Europe/Bucharest:20240417T100000
DTEND;TZID=Europe/Bucharest:20240502T150000
DTSTAMP:20260421T175517
CREATED:20240405T114413Z
LAST-MODIFIED:20240405T114910Z
UID:23293-1713348000-1714662000@palatulculturii.ro
SUMMARY:DICE: Distractiv – Interactiv – Creativ – Educativ/ Atelier de decorat ouă
DESCRIPTION:Complexul Muzeal Național „Moldova” Iași\, prin Secția Relații Publice\, Marketing\, Logistică\, Proiecte\, Programe\, cu sprijinul Muzeului Etnografic al Moldovei\, organizează la Palatul Culturii\, în perioada 17 aprilie – 2 mai 2024\, o nouă serie de evenimente sub genericul DICE: Distractiv – Interactiv – Creativ – Educativ: Atelier de decorat ouă.\nÎn cadrul acestor ateliere tematice\, publicul este invitat să descopere legende\, tehnici și simboluri folosite pentru decorarea ouălor. „Să faceți asta în fiecare an\, la acest timp\, în amintirea mea\, să vopsiți ouă”\, spune o legendă populară care face trimitere la cel mai important moment al creștinismului\, Sărbătoarea Paștelui. \nAtelierele de decorat ouă se desfășoară în Sala de Educație Muzeală a Palatului Culturii\, și includ o scurtă vizită în expoziția „Sărbătoarea. Artă și spiritualitate” din cadrul Muzeului Etnografic al Moldovei. \nAdresate participanților cu vârsta de peste 7 ani\, atelierele au o durată de aproximativ 60 de minute și se desfășoară pentru grupuri formate din min. 5 – max. 20 de persoane\, prețul unui bilet fiind de 20 de lei/ persoană. \nParticiparea se face pe bază de programare prin telefon\, la numărul 0232.275.979\, interior 116\, sau prin mesaj privat pe pagina de Facebook Atelierele DICE.
URL:https://palatulculturii.ro/eveniment/dice-distractiv-interactiv-creativ-educativ-atelier-de-decorat-oua/
LOCATION:Palatul Culturii Iași – Complexul Muzeal Național „Moldova” Iași
CATEGORIES:Atelierele DICE,Muzeul Etnografic al Moldovei,Noutăți,Palatul Culturii
ATTACH;FMTTYPE=image/png:https://palatulculturii.ro/wp-content/uploads/2024/04/Atelier_decorat_oua_afis.png
END:VEVENT
BEGIN:VEVENT
DTSTART;TZID=Europe/Bucharest:20240427T090000
DTEND;TZID=Europe/Bucharest:20240428T170000
DTSTAMP:20260421T175517
CREATED:20240423T150056Z
LAST-MODIFIED:20240425T130826Z
UID:23563-1714208400-1714323600@palatulculturii.ro
SUMMARY:Târg al Meșterilor Populari la Muzeul Viei și Vinului din Hârlău
DESCRIPTION:Muzeul Etnografic al Moldovei din cadrul Complexului Muzeal Naţional „Moldova” Iaşi organizează în perioada 27 – 28 aprilie 2024\, la Muzeul Viei și Vinului din Hârlău\, Târgul Meşterilor Populari\, eveniment derulat în parteneriat cu Ateneul Național din Iași și Asociația „ART – Meșteșugurile Prutului” Iași.\nTârgul reunește aproximativ 20 de meșteri populari ce provin din localități din județele Iași\, Suceava\, Botoșani. Publicul va putea admira și achiziționa obiectele realizate de acești păstrători și promotori ai meșteșugurilor transmise din generație în generație\, în zona Moldovei\, din domenii precum: prelucrarea lemnului\, încondeierea ouălor\, împletituri din nuiele și din fibre textile\, realizarea de icoane\, țesături și cusături\, confecționarea de măști populare. \nLa deschiderea oficială\, care va avea loc sâmbătă\, 27 aprilie\, de la ora 11.00\, vor participa Andrei Apreotesei\, manager CMNM Iași\, Victor Munteanu\, șef al Muzeului Etnografic al Moldovei\, Lorela Iancu\, muzeograf\, Muzeul Viei și Vinului Hârlău\, din cadrul CMNM Iași. \nMuzeul Viei şi Vinului (Str. Logofăt Tăutu nr. 7\, Hârlău\, jud. Iași)\, parte a Muzeului Etnografic al Moldovei\, este structurat pe câteva coordonate etnologice fundamentale\, menite să ofere repere din cultura vieții tradiționale românești din zona Hârlăului. Expoziției permanente de obiecte etnografice și tehnică populară i se adaugă\, periodic\, evenimente menite să prezinte publicului imaginea unui muzeu viu și mereu tânăr. \nVă așteptăm cu drag!
URL:https://palatulculturii.ro/eveniment/targ-al-mesterilor-populari-la-muzeul-viei-si-vinului-din-harlau/
CATEGORIES:Muzeul Etnografic al Moldovei,Muzeul Viei și Vinului din Hârlău
ATTACH;FMTTYPE=image/jpeg:https://palatulculturii.ro/wp-content/uploads/2024/04/Targ-mesteri-Harlau_afis-web.jpg
END:VEVENT
BEGIN:VEVENT
DTSTART;TZID=Europe/Bucharest:20240428T130000
DTEND;TZID=Europe/Bucharest:20240428T140000
DTSTAMP:20260421T175517
CREATED:20240426T095704Z
LAST-MODIFIED:20240426T095704Z
UID:23596-1714309200-1714312800@palatulculturii.ro
SUMMARY:Recital de acordeon la Palatul Culturii
DESCRIPTION:Complexul Muzeal Național „Moldova” Iași\, în parteneriat cu Universitatea Națională de Arte „George Enescu” Iași – Facultatea de Interpretare\, Compoziție și Studii Muzicale Teoretice\, invită publicul la Recitalul de acordeon susținut de asist. univ. dr. Emanuel Arsînte și prof. univ. dr. Aurelia Simion. Evenimentul va avea loc duminică\, 28 aprilie 2024\, ora 13.00\, în Sala „Henri Coandă” de la Palatul Culturii.\nDesfășurat în cadrul doctoratului cu tema „Genul concertant în creația pentru acordeon\, în secolul XX”\, recitalul constituie o invitație în lumea tangoului argentinian\, prin intermediul muzicii celebrului compozitor Astor Piazzolla.\nStilul Nuevo Tango ce îmbină genurile de jazz\, muzică de avangardă și tango va fi audiat prin lucrările Aconcagua – Concert pentru bandoneon și orchestră simfonică\, și ciclul de lucrări Anotimpurile de la Buenos Aires pentru cvintet instrumental.\nEvenimentul va fi prezentat de Teodora Butnaru.\nIntrarea este liberă\, în limita locurilor disponibile.\nVă așteptăm cu drag!
URL:https://palatulculturii.ro/eveniment/recital-de-acordeon-la-palatul-culturii/
LOCATION:Palatul Culturii\, Sala „Henri Coandă”\, Piața Ștefan cel Mare și Sfânt nr. 1\, Iași\, România
CATEGORIES:Palatul Culturii
ATTACH;FMTTYPE=image/jpeg:https://palatulculturii.ro/wp-content/uploads/2024/04/RECITAL-acordeon_final-scaled.jpg
END:VEVENT
END:VCALENDAR