	BEGIN:VCALENDAR
VERSION:2.0
PRODID:-//Complex Muzeal Național „Moldova” Iași - ECPv6.0.12//NONSGML v1.0//EN
CALSCALE:GREGORIAN
METHOD:PUBLISH
X-WR-CALNAME:Complex Muzeal Național „Moldova” Iași
X-ORIGINAL-URL:https://palatulculturii.ro
X-WR-CALDESC:Events for Complex Muzeal Național „Moldova” Iași
REFRESH-INTERVAL;VALUE=DURATION:PT1H
X-Robots-Tag:noindex
X-PUBLISHED-TTL:PT1H
BEGIN:VTIMEZONE
TZID:Europe/Bucharest
BEGIN:DAYLIGHT
TZOFFSETFROM:+0200
TZOFFSETTO:+0300
TZNAME:EEST
DTSTART:20240331T010000
END:DAYLIGHT
BEGIN:STANDARD
TZOFFSETFROM:+0300
TZOFFSETTO:+0200
TZNAME:EET
DTSTART:20241027T010000
END:STANDARD
END:VTIMEZONE
BEGIN:VEVENT
DTSTART;TZID=Europe/Bucharest:20240320T100000
DTEND;TZID=Europe/Bucharest:20240426T170000
DTSTAMP:20260421T173409
CREATED:20240312T115242Z
LAST-MODIFIED:20240313T102230Z
UID:23006-1710928800-1714150800@palatulculturii.ro
SUMMARY:„Laboratorul curiozității”: să descoperim știința interactiv și distractiv
DESCRIPTION:Complexul Muzeal Național „Moldova” Iași\, în parteneriat cu „Doti”\, invită copiii în „Laboratorul curiozității”\, expoziție de știință interactivă derulată în perioada 20 martie – 26 aprilie 2024\, de miercuri până duminică\, la Palatul Culturii Iași\, în Sala „Petru Caraman” a Muzeului Etnografic al Moldovei.\nAdresat copiilor cu vârste între 5 și 12 ani\, însoțiți de cadre didactice sau de părinți\, evenimentul reprezintă o experiență captivantă\, ce îmbină exponate\, experimente și jocuri distractive despre știință. \nLaboratorul este structurat în două părți\, în prima dintre acestea participanții vor descoperi o serie de experimente de fizică\, mecanică\, optică și acustică\, fiind invitați să „testeze” invizibilul cu efectul Schlieren\, sunetul cu experimente de cimatică\, dar și matematica prin Figurile lui Lissajous. De asemenea\, vor crea curcubeie și vor îmbina puzzle-uri cu oglinzi\, vor afla cum zboară avioanele cu principiul Bernoulli\, cum poți desena cu un pendul gravitațional\, cum aprindem becuri cu o bobină Tesla. Secțiunea include și un microscop prin care copiii pot descoperi părți din lumea vie\, exponate despre corpul uman și creier\, dar și o instalație prin care pot vedea prin ochii celor care poartă ochelari. \nA doua parte a „Laboratorului curiozității” include o zonă de edutainment\, în cadrul căreia animatorii îi vor provoca pe copii să își testeze logica\, perspicacitatea\, dar și capacitatea de rezolvare a problemelor\, prin jocuri practice\, gândite special pentru această experiență: căutăm soluții pentru buna organizare a unui oraș\, pentru asamblarea mecanismelor cu roți dințate\, abordăm jocuri sub forma unor labirinturi și a unor puzzle-uri logice. \nUn tur ghidat durează aproximativ 60 de minute și poate fi programat din oră în oră\, în intervalul 10.00 – 17.00. Prețul unui bilet este de 15 lei/ persoană. „Laboratorul curiozității” poate fi vizitat doar pe bază de rezervare prin apel\, mesaj text sau WhatsApp la numărul 0766704668\, sau prin e-mail la laboratordoti@gmail.com. \nPentru mai multe informații despre desfășurarea expoziției puteți vizita pagina de Facebook Laborator.ro \nExpozițiile „Laborator” sunt experiențe interdisciplinare concepute pentru a dezvolta curiozitatea copiilor față de domeniile științei. Seria activităților a început în 2015\, în cei nouă ani fiind organizate evenimente în peste 10 orașe\, în cele mai importante muzee din țară\, și au implicat peste 50.000 de vizitatori: copii\, cadre didactice și părinți. Complexul Muzeal Național Moldova „Iași” este partener al activităților „Laborator” încă din 2017\, iar primele două expoziții organizate la Palatul Culturii din Iași au fost primite cu entuziasm și au atras peste 10.000 de vizitatori.
URL:https://palatulculturii.ro/eveniment/laboratorul-curiozitatii-sa-descoperim-stiinta-interactiv-si-distractiv/
LOCATION:Palatul Culturii\, Sala „Petru Caraman”
CATEGORIES:Muzeul Etnografic al Moldovei,Palatul Culturii
ATTACH;FMTTYPE=image/jpeg:https://palatulculturii.ro/wp-content/uploads/2024/03/Laborator_Palatul-Culturii_afis-web-scaled.jpg
END:VEVENT
BEGIN:VEVENT
DTSTART;TZID=Europe/Bucharest:20240402T183000
DTEND;TZID=Europe/Bucharest:20240430T190000
DTSTAMP:20260421T173409
CREATED:20240326T152046Z
LAST-MODIFIED:20240521T122522Z
UID:23212-1712082600-1714503600@palatulculturii.ro
SUMMARY:„Concert la Palat” - o nouă serie de evenimente extraordinare la Iași
DESCRIPTION:Complexul Muzeal Național „Moldova” Iași\, în parteneriat cu Ateneul Național din Iași și Opera Națională Română Iași\, invită publicul la o nouă serie de evenimente\, sub genericul „Concert la Palat”.\nDedicate iubitorilor de muzică de calitate\, evenimentele se vor desfășura în zilele de marți\, începând cu ora 18.30\, respectiv\, ora 19.00\, în Holul de Onoare al Palatului Culturii\, în compania a unor muzicieni de excepție. \nVă invităm să urmăriți programul acestor evenimente pe site-urile instituțiilor partenere și vă așteptăm cu drag!
URL:https://palatulculturii.ro/eveniment/concert-la-palat-o-noua-serie-de-evenimente-extraordinare-la-iasi/
LOCATION:Palatul Culturii Iași – Complexul Muzeal Național „Moldova” Iași
CATEGORIES:Noutăți,Palatul Culturii
ATTACH;FMTTYPE=image/jpeg:https://palatulculturii.ro/wp-content/uploads/2024/03/Concert-la-Palat_APRILIE.jpg
END:VEVENT
BEGIN:VEVENT
DTSTART;TZID=Europe/Bucharest:20240403T133000
DTEND;TZID=Europe/Bucharest:20240403T150000
DTSTAMP:20260421T173409
CREATED:20240329T093414Z
LAST-MODIFIED:20240329T093414Z
UID:23232-1712151000-1712156400@palatulculturii.ro
SUMMARY:Lansarea volumului „Țesături și broderii decorative din Moldova”\, autori  Silvia Ciubotaru și Ion H. Ciubotaru
DESCRIPTION:Muzeul Etnografic al Moldovei din cadrul Complexului Muzeal Național „Moldova” Iași invită publicul la evenimentul de lansare a volumului „Țesături și broderii decorative din Moldova”\, semnat de Silvia Ciubotaru și Ion H. Ciubotaru\, nume de referinţă ale etnologiei româneşti.\nLucrarea valorifică fondurile documentare din cadrul Arhivei de Folclor a Moldovei şi Bucovinei și oferă temei analizate o perspectivă complexă și extinsă asupra întregii Moldove istorice\, fiind\, după cum mărturisesc autorii\, „o carte în care simbolurile arhaice\, izvodite pe modestele scoarțe de pe Valea Prutului ori de dincolo de Nistru să stea alături de compozițiile monumentale realizate pe covoarele mănăstirești din stânga și din dreapta Prutului. Se va vedea atunci că atât unele\, cât și celelalte își au obârșia în sufletul și sensibilitatea măiestrelor gospodine din lumea satelor\, care le-au zămislit cu infinita lor dragoste pentru frumos”.\nVolumul\, recent apărut la Editura Universității „Alexandru Ioan Cuza” din Iași\, în Colecția Ethnos\, va fi prezentat de: dr. Ioana Repciuc\, cercetător științific la Departamentul de Etnologie din cadrul Institutului de Filologie Română „Alexandru Philippide” al Academiei Române – Filiala Iași\, prof. univ. dr. Constantin Dram\, directorul Editurii Universităţii „Alexandru Ioan Cuza” din Iaşi\, dr. Silvia Ciubotaru și prof. univ. dr. Ion H. Ciubotaru\, membru de onoare al Academiei Române.\nEvenimentul va avea loc miercuri\, 3 aprilie 2024\, ora 13.30\, în Sala „Petru Caraman” de la Palatul Culturii și va fi moderat de Victor Munteanu\, șeful Muzeului Etnografic al Moldovei.
URL:https://palatulculturii.ro/eveniment/lansarea-volumului-tesaturi-si-broderii-decorative-din-moldova-autori-silvia-ciubotaru-si-ion-h-ciubotaru/
LOCATION:Muzeul Etnografic al Moldovei\, Piața Ștefan cel Mare și Sfânt nr. 1\, Iași\, Iași\, 700028\, România
CATEGORIES:Palatul Culturii
ATTACH;FMTTYPE=image/jpeg:https://palatulculturii.ro/wp-content/uploads/2024/03/Ciubotaru_Tesaturi_afis-web.jpg
END:VEVENT
BEGIN:VEVENT
DTSTART;TZID=Europe/Bucharest:20240403T150000
DTEND;TZID=Europe/Bucharest:20240403T170000
DTSTAMP:20260421T173409
CREATED:20240327T082405Z
LAST-MODIFIED:20240327T082405Z
UID:23228-1712156400-1712163600@palatulculturii.ro
SUMMARY:Omagiere Angela Paveliuc Olariu\, la Muzeul Memorial „Mihail Kogălniceanu” Iaşi
DESCRIPTION:Complexul Muzeal Naţional „Moldova” Iaşi vă invită miercuri\, 3 aprilie 2024\, ora 15.00\, la Muzeul Memorial „Mihail Kogălniceanu” Iaşi (Str. Mihail Kogălniceanu nr. 11)\, la un eveniment de omagiere a doamnei Angela Paveliuc Olariu\, doctor în etnografie.\nÎn acest cadru va avea loc lansarea volumului „Întâlniri de suflet. Mărturisiri”\, al cărui autor este distinsa invitată. Volumul va fi prezentat de prof. univ. dr. Cătălina Arsenescu Georgescu\, membru titular al Academiei Române de Științe Medicale\, prof. univ. dr. Mihai Dorin\, scriitorul Emilian Marcu și jurnalistul Petru Frăsilă\, director TeleMoldova Plus.\nAșa cum declară autoarea\, volumul lansat cuprinde „un bilanț care să însemne viața unui om obișnuit\, până la a 85-a aniversare”\, dar are și scopul de a mulțumi acelor oameni\, cu care a avut „întâlniri de suflet”\, dialogând cu aceștia „întotdeauna cu plăcere și sinceritate\, cu dorința ca mesajul să ajungă la sufletul privitorilor și ascultătorilor”.\nRecitalul susținut de elevele Patricia Petraru și Maria Pruteanu\, de la Școala de pian Daniela Relea\, va întregi acest eveniment al cărui moderator va fi muzeograf Mihaela Tudose.\nOrganizatori: Asociaţia „Universul Prieteniei” Iaşi\, în parteneriat cu Complexul Muzeal Naţional „Moldova” Iaşi – Muzeul Memorial „Mihail Kogălniceanu” și TeleMoldova Plus
URL:https://palatulculturii.ro/eveniment/omagiere-angela-paveliuc-olariu-la-muzeul-memorial-mihail-kogalniceanu-iasi/
CATEGORIES:Muzeul Memorial „Mihail Kogălniceanu”
ATTACH;FMTTYPE=image/jpeg:https://palatulculturii.ro/wp-content/uploads/2024/03/AFIS-3-aprilie-scaled.jpg
END:VEVENT
END:VCALENDAR